Workbook
Name anno: concorrenti!$A$3:$A$5991
Name anno_2: province!$A$2:$A$1979
Name assenti_2: province!$G$2:$G$1979
Name distretto: concorrenti!$D$3:$D$5991
Name num_2: province!$F$2:$F$1979
Name provincia: concorrenti!$E$3:$E$5991
Name punti: concorrenti!$P$3:$P$5991
Name punti_2: province!$H$2:$H$1979
Name q_max: province!$N$2:$N$1979
Name qs_2: province!$I$2:$I$1979
Name unodue: anni!$O$1:$O$50

Sheet concorrenti
Q1: {=SUM(IF($A$2:$A$6126=$A1,IF(ISNUMBER($P$2:$P$6126),IF($P$2:$P$6126>$P1,1,0))))+1} -> 1 | R1: {=SUM(IF(#REF!=#REF!,1))} -> #REF! | U1: 1 | V1: 2 | W1: 3 | X1: 4 | Y1: 5
A2: Cesenatico | B2: ID | C2: Regione | D2: Distretto | E2: Provincia | F2: matricola | H2: Anno | I2: Biennio/Triennio | J2: ES.1 | K2: ES.2 | L2: ES.3 | M2: ES.4 | N2: ES.5 | O2: ES.6 | P2: TOT | Q2: pos | R2: partecipazioni | S2: punti | T2: scorp | U2: 1.8 | V2: 1.6 | W2: 1.4 | X2: 1.2 | Y2: 1
A4: 2016 | B4: 1 | D4: =VLOOKUP(E4,accorpamenti!$A$2:$X$104,A4-1995,0) -> Parma | E4: Parma | F4: 6838 | G4: 2016 | H4: 3 | J4: 7 | K4: 4 | L4: 0 | M4: 1 | N4: 1 | O4: 2 | P4: =IF(T4=0,IF(S4=-1,-1,S4*HLOOKUP(H4,$U$1:$Y$2,2,0)),0) -> 21 | R4: =COUNTIF($F$609:$F$5991,F4) -> 0 | S4: =SUM(J4:O4) -> 15 | T4: =IF(AND(H4<5,S4>=VLOOKUP(A4,anni!$A$1:$O$32,6,0)),1,0) -> 0
A5: 2016 | B5: 2 | D5: =VLOOKUP(E5,accorpamenti!$A$2:$X$104,A5-1995,0) -> Torino | E5: Torino | F5: 6760 | G5: 2016 | H5: 5 | J5: 2 | K5: 0 | L5: 0 | M5: 2 | N5: 0 | O5: 0 | P5: =IF(T5=0,IF(S5=-1,-1,S5*HLOOKUP(H5,$U$1:$Y$2,2,0)),0) -> 4 | R5: =COUNTIF($F$609:$F$5991,F5) -> 0 | S5: =SUM(J5:O5) -> 4 | T5: =IF(AND(H5<5,S5>=VLOOKUP(A5,anni!$A$1:$O$32,6,0)),1,0) -> 0
A6: 2016 | B6: 3 | D6: =VLOOKUP(E6,accorpamenti!$A$2:$X$104,A6-1995,0) -> Palermo | E6: Palermo | F6: 6872 | G6: 2016 | H6: 4 | J6: 4 | K6: 0 | L6: 2 | M6: 2 | N6: 0 | O6: 0 | P6: =IF(T6=0,IF(S6=-1,-1,S6*HLOOKUP(H6,$U$1:$Y$2,2,0)),0) -> 9.6 | R6: =COUNTIF($F$609:$F$5991,F6) -> 0 | S6: =SUM(J6:O6) -> 8 | T6: =IF(AND(H6<5,S6>=VLOOKUP(A6,anni!$A$1:$O$32,6,0)),1,0) -> 0
A7: 2016 | B7: 4 | D7: =VLOOKUP(E7,accorpamenti!$A$2:$X$104,A7-1995,0) -> Roma | E7: Roma | F7: 6873 | G7: 2016 | H7: 5 | J7: 7 | K7: 1 | L7: 0 | M7: 0 | N7: 0 | O7: 0 | P7: =IF(T7=0,IF(S7=-1,-1,S7*HLOOKUP(H7,$U$1:$Y$2,2,0)),0) -> 8 | R7: =COUNTIF($F$609:$F$5991,F7) -> 0 | S7: =SUM(J7:O7) -> 8 | T7: =IF(AND(H7<5,S7>=VLOOKUP(A7,anni!$A$1:$O$32,6,0)),1,0) -> 0
A8: 2016 | B8: 5 | D8: =VLOOKUP(E8,accorpamenti!$A$2:$X$104,A8-1995,0) -> Mantova | E8: Mantova | F8: 6618 | G8: 2016 | H8: 5 | J8: 7 | K8: 2 | L8: 7 | M8: 0 | N8: 0 | O8: 0 | P8: =IF(T8=0,IF(S8=-1,-1,S8*HLOOKUP(H8,$U$1:$Y$2,2,0)),0) -> 16 | R8: =COUNTIF($F$609:$F$5991,F8) -> 1 | S8: =SUM(J8:O8) -> 16 | T8: =IF(AND(H8<5,S8>=VLOOKUP(A8,anni!$A$1:$O$32,6,0)),1,0) -> 0
A9: 2016 | B9: 6 | D9: =VLOOKUP(E9,accorpamenti!$A$2:$X$104,A9-1995,0) -> Roma | E9: Roma | F9: 6874 | G9: 2016 | H9: 5 | J9: 1 | K9: 1 | L9: 2 | M9: 0 | N9: 1 | O9: 0 | P9: =IF(T9=0,IF(S9=-1,-1,S9*HLOOKUP(H9,$U$1:$Y$2,2,0)),0) -> 5 | R9: =COUNTIF($F$609:$F$5991,F9) -> 0 | S9: =SUM(J9:O9) -> 5 | T9: =IF(AND(H9<5,S9>=VLOOKUP(A9,anni!$A$1:$O$32,6,0)),1,0) -> 0
A10: 2016 | B10: 7 | D10: =VLOOKUP(E10,accorpamenti!$A$2:$X$104,A10-1995,0) -> Arezzo | E10: Arezzo | F10: 6875 | G10: 2016 | H10: 3 | J10: 7 | K10: 2 | L10: 6 | M10: 2 | N10: 0 | O10: 0 | P10: =IF(T10=0,IF(S10=-1,-1,S10*HLOOKUP(H10,$U$1:$Y$2,2,0)),0) -> 23.8 | R10: =COUNTIF($F$609:$F$5991,F10) -> 0 | S10: =SUM(J10:O10) -> 17 | T10: =IF(AND(H10<5,S10>=VLOOKUP(A10,anni!$A$1:$O$32,6,0)),1,0) -> 0
A11: 2016 | B11: 8 | D11: =VLOOKUP(E11,accorpamenti!$A$2:$X$104,A11-1995,0) -> Torino | E11: Torino | F11: 6761 | G11: 2016 | H11: 5 | J11: 0 | K11: 0 | L11: 0 | M11: 1 | N11: 0 | O11: 0 | P11: =IF(T11=0,IF(S11=-1,-1,S11*HLOOKUP(H11,$U$1:$Y$2,2,0)),0) -> 1 | R11: =COUNTIF($F$609:$F$5991,F11) -> 0 | S11: =SUM(J11:O11) -> 1 | T11: =IF(AND(H11<5,S11>=VLOOKUP(A11,anni!$A$1:$O$32,6,0)),1,0) -> 0
A12: 2016 | B12: 9 | D12: =VLOOKUP(E12,accorpamenti!$A$2:$X$104,A12-1995,0) -> Treviso | E12: Treviso | F12: 6876 | G12: 2016 | H12: 5 | J12: 0 | K12: 7 | L12: 0 | M12: 3 | N12: 1 | O12: 1 | P12: =IF(T12=0,IF(S12=-1,-1,S12*HLOOKUP(H12,$U$1:$Y$2,2,0)),0) -> 12 | R12: =COUNTIF($F$609:$F$5991,F12) -> 0 | S12: =SUM(J12:O12) -> 12 | T12: =IF(AND(H12<5,S12>=VLOOKUP(A12,anni!$A$1:$O$32,6,0)),1,0) -> 0
A13: 2016 | B13: 10 | D13: =VLOOKUP(E13,accorpamenti!$A$2:$X$104,A13-1995,0) -> Terni | E13: Terni | F13: 6877 | G13: 2016 | H13: 4 | J13: 7 | K13: 2 | L13: 0 | M13: 0 | N13: 1 | O13: 0 | P13: =IF(T13=0,IF(S13=-1,-1,S13*HLOOKUP(H13,$U$1:$Y$2,2,0)),0) -> 12 | R13: =COUNTIF($F$609:$F$5991,F13) -> 0 | S13: =SUM(J13:O13) -> 10 | T13: =IF(AND(H13<5,S13>=VLOOKUP(A13,anni!$A$1:$O$32,6,0)),1,0) -> 0
A14: 2016 | B14: 11 | D14: =VLOOKUP(E14,accorpamenti!$A$2:$X$104,A14-1995,0) -> Biella | E14: Biella | F14: 6878 | G14: 2016 | H14: 5 | J14: 0 | K14: 0 | L14: 0 | M14: 0 | N14: 0 | O14: 1 | P14: =IF(T14=0,IF(S14=-1,-1,S14*HLOOKUP(H14,$U$1:$Y$2,2,0)),0) -> 1 | R14: =COUNTIF($F$609:$F$5991,F14) -> 0 | S14: =SUM(J14:O14) -> 1 | T14: =IF(AND(H14<5,S14>=VLOOKUP(A14,anni!$A$1:$O$32,6,0)),1,0) -> 0
A15: 2016 | B15: 12 | D15: =VLOOKUP(E15,accorpamenti!$A$2:$X$104,A15-1995,0) -> Napoli | E15: Napoli | F15: 6762 | G15: 2016 | H15: 5 | J15: 7 | K15: 0 | L15: 7 | M15: 2 | N15: 0 | O15: 1 | P15: =IF(T15=0,IF(S15=-1,-1,S15*HLOOKUP(H15,$U$1:$Y$2,2,0)),0) -> 17 | R15: =COUNTIF($F$609:$F$5991,F15) -> 0 | S15: =SUM(J15:O15) -> 17 | T15: =IF(AND(H15<5,S15>=VLOOKUP(A15,anni!$A$1:$O$32,6,0)),1,0) -> 0
... A305: 2016 | B305: 302 | D305: =VLOOKUP(E305,accorpamenti!$A$2:$X$104,A305-1995,0) -> Oristano | E305: Sassari | F305: 7047 | G305: 2016 | H305: 5 | J305: 7 | K305: 0 | L305: 7 | M305: 2 | N305: 0 | O305: 0 | P305: =IF(T305=0,IF(S305=-1,-1,S305*HLOOKUP(H305,$U$1:$Y$2,2,0)),0) -> 16 | R305: =COUNTIF($F$609:$F$5991,F305) -> 0 | S305: =SUM(J305:O305) -> 16 | T305: =IF(AND(H305<5,S305>=VLOOKUP(A305,anni!$A$1:$O$32,6,0)),1,0) -> 0
A307: 2015 | B307: 1 | C307: Emilia Romagna | D307: =VLOOKUP(E307,accorpamenti!$A$2:$X$104,A307-1995,0) -> Parma | E307: Parma | F307: 6838 | G307: 2015 | H307: 2 | J307: 7 | K307: 5 | L307: 2 | M307: 4 | N307: 0 | O307: 0 | P307: =IF(T307=0,IF(S307=-1,-1,S307*HLOOKUP(H307,$U$1:$Y$2,2,0)),0) -> 28.8 | Q307: 105 | R307: =COUNTIF($F$609:$F$5991,F307) -> 0 | S307: =SUM(J307:O307) -> 18 | T307: =IF(AND(H307<5,S307>=VLOOKUP(A307,anni!$A$1:$O$32,6,0)),1,0) -> 0
A308: 2015 | B308: 2 | C308: Piemonte | D308: =VLOOKUP(E308,accorpamenti!$A$2:$X$104,A308-1995,0) -> Torino | E308: Torino | F308: 6760 | G308: 2015 | H308: 4 | J308: 7 | K308: 7 | L308: 0 | M308: 7 | N308: 0 | O308: 2 | P308: =IF(T308=0,IF(S308=-1,-1,S308*HLOOKUP(H308,$U$1:$Y$2,2,0)),0) -> 27.6 | Q308: 51 | R308: =COUNTIF($F$609:$F$5991,F308) -> 0 | S308: =SUM(J308:O308) -> 23 | T308: =IF(AND(H308<5,S308>=VLOOKUP(A308,anni!$A$1:$O$32,6,0)),1,0) -> 0
A309: 2015 | B309: 3 | C309: Puglia | D309: =VLOOKUP(E309,accorpamenti!$A$2:$X$104,A309-1995,0) -> Lecce | E309: Lecce | F309: 6300 | G309: 2015 | H309: 5 | J309: 7 | K309: 7 | L309: 7 | M309: 7 | N309: 0 | O309: 0 | P309: =IF(T309=0,IF(S309=-1,-1,S309*HLOOKUP(H309,$U$1:$Y$2,2,0)),0) -> 28 | Q309: 17 | R309: =COUNTIF($F$609:$F$5991,F309) -> 3 | S309: =SUM(J309:O309) -> 28 | T309: =IF(AND(H309<5,S309>=VLOOKUP(A309,anni!$A$1:$O$32,6,0)),1,0) -> 0
A310: 2015 | B310: 4 | C310: Lombardia | D310: =VLOOKUP(E310,accorpamenti!$A$2:$X$104,A310-1995,0) -> Mantova | E310: Mantova | F310: 6618 | G310: 2015 | H310: 4 | J310: 7 | K310: 5 | L310: 1 | M310: 7 | N310: 0 | O310: 0 | P310: =IF(T310=0,IF(S310=-1,-1,S310*HLOOKUP(H310,$U$1:$Y$2,2,0)),0) -> 24 | Q310: 82 | R310: =COUNTIF($F$609:$F$5991,F310) -> 1 | S310: =SUM(J310:O310) -> 20 | T310: =IF(AND(H310<5,S310>=VLOOKUP(A310,anni!$A$1:$O$32,6,0)),1,0) -> 0
A311: 2015 | B311: 5 | C311: Piemonte | D311: =VLOOKUP(E311,accorpamenti!$A$2:$X$104,A311-1995,0) -> Torino | E311: Torino | F311: 6761 | G311: 2015 | H311: 4 | J311: 7 | K311: 2 | L311: 1 | M311: 2 | N311: 0 | O311: 0 | P311: =IF(T311=0,IF(S311=-1,-1,S311*HLOOKUP(H311,$U$1:$Y$2,2,0)),0) -> 14.4 | Q311: 214 | R311: =COUNTIF($F$609:$F$5991,F311) -> 0 | S311: =SUM(J311:O311) -> 12 | T311: =IF(AND(H311<5,S311>=VLOOKUP(A311,anni!$A$1:$O$32,6,0)),1,0) -> 0
A312: 2015 | B312: 6 | C312: Lazio | D312: =VLOOKUP(E312,accorpamenti!$A$2:$X$104,A312-1995,0) -> Latina | E312: Latina | F312: 6691 | G312: 2015 | H312: 5 | J312: 4 | K312: 3 | L312: 2 | M312: 0 | N312: 0 | O312: 0 | P312: =IF(T312=0,IF(S312=-1,-1,S312*HLOOKUP(H312,$U$1:$Y$2,2,0)),0) -> 9 | Q312: 252 | R312: =COUNTIF($F$609:$F$5991,F312) -> 0 | S312: =SUM(J312:O312) -> 9 | T312: =IF(AND(H312<5,S312>=VLOOKUP(A312,anni!$A$1:$O$32,6,0)),1,0) -> 0
A313: 2015 | B313: 7 | C313: Campania | D313: =VLOOKUP(E313,accorpamenti!$A$2:$X$104,A313-1995,0) -> Napoli | E313: Napoli | F313: 6762 | G313: 2015 | H313: 4 | J313: 7 | K313: 6 | L313: 1 | M313: 1 | N313: 0 | O313: 0 | P313: =IF(T313=0,IF(S313=-1,-1,S313*HLOOKUP(H313,$U$1:$Y$2,2,0)),0) -> 18 | Q313: 151 | R313: =COUNTIF($F$609:$F$5991,F313) -> 0 | S313: =SUM(J313:O313) -> 15 | T313: =IF(AND(H313<5,S313>=VLOOKUP(A313,anni!$A$1:$O$32,6,0)),1,0) -> 0
A314: 2015 | B314: 8 | C314: Piemonte | D314: =VLOOKUP(E314,accorpamenti!$A$2:$X$104,A314-1995,0) -> Cuneo | E314: Cuneo | F314: 6442 | G314: 2015 | H314: 5 | J314: 7 | K314: 6 | L314: 3 | M314: 4 | N314: 0 | O314: 0 | P314: =IF(T314=0,IF(S314=-1,-1,S314*HLOOKUP(H314,$U$1:$Y$2,2,0)),0) -> 20 | Q314: 82 | R314: =COUNTIF($F$609:$F$5991,F314) -> 2 | S314: =SUM(J314:O314) -> 20 | T314: =IF(AND(H314<5,S314>=VLOOKUP(A314,anni!$A$1:$O$32,6,0)),1,0) -> 0
A315: 2015 | B315: 9 | C315: Emilia Romagna | D315: =VLOOKUP(E315,accorpamenti!$A$2:$X$104,A315-1995,0) -> Reggio Emilia | E315: Reggio Emilia | F315: 6472 | G315: 2015 | H315: 4 | J315: 7 | K315: 7 | L315: 7 | M315: 7 | N315: 0 | O315: 1 | P315: =IF(T315=0,IF(S315=-1,-1,S315*HLOOKUP(H315,$U$1:$Y$2,2,0)),0) -> 0 | Q315: 9 | R315: =COUNTIF($F$609:$F$5991,F315) -> 2 | S315: =SUM(J315:O315) -> 29 | T315: =IF(AND(H315<5,S315>=VLOOKUP(A315,anni!$A$1:$O$32,6,0)),1,0) -> 1
A316: 2015 | B316: 10 | C316: Lombardia | D316: =VLOOKUP(E316,accorpamenti!$A$2:$X$104,A316-1995,0) -> Milano | E316: Milano | F316: 6653 | G316: 2015 | H316: 3 | J316: 7 | K316: 7 | L316: 0 | M316: 7 | N316: 0 | O316: 2 | P316: =IF(T316=0,IF(S316=-1,-1,S316*HLOOKUP(H316,$U$1:$Y$2,2,0)),0) -> 32.2 | Q316: 51 | R316: =COUNTIF($F$609:$F$5991,F316) -> 1 | S316: =SUM(J316:O316) -> 23 | T316: =IF(AND(H316<5,S316>=VLOOKUP(A316,anni!$A$1:$O$32,6,0)),1,0) -> 0
A317: 2015 | B317: 11 | C317: Piemonte | D317: =VLOOKUP(E317,accorpamenti!$A$2:$X$104,A317-1995,0) -> Biella | E317: Vercelli | F317: 6692 | G317: 2015 | H317: 5 | J317: 7 | K317: 0 | L317: 1 | M317: 0 | N317: 0 | O317: 0 | P317: =IF(T317=0,IF(S317=-1,-1,S317*HLOOKUP(H317,$U$1:$Y$2,2,0)),0) -> 8 | Q317: 264 | R317: =COUNTIF($F$609:$F$5991,F317) -> 0 | S317: =SUM(J317:O317) -> 8 | T317: =IF(AND(H317<5,S317>=VLOOKUP(A317,anni!$A$1:$O$32,6,0)),1,0) -> 0
A318: 2015 | B318: 12 | C318: Veneto | D318: =VLOOKUP(E318,accorpamenti!$A$2:$X$104,A318-1995,0) -> Verona | E318: Verona | F318: 6693 | G318: 2015 | H318: 5 | J318: 7 | K318: 0 | L318: 5 | M318: 0 | N318: 0 | O318: 0 | P318: =IF(T318=0,IF(S318=-1,-1,S318*HLOOKUP(H318,$U$1:$Y$2,2,0)),0) -> 12 | Q318: 214 | R318: =COUNTIF($F$609:$F$5991,F318) -> 0 | S318: =SUM(J318:O318) -> 12 | T318: =IF(AND(H318<5,S318>=VLOOKUP(A318,anni!$A$1:$O$32,6,0)),1,0) -> 0
... A334: 2015 | B334: 28 | C334: Lombardia | D334: =VLOOKUP(E334,accorpamenti!$A$2:$X$104,A334-1995,0) -> Lecco | E334: Sondrio | F334: 6568 | G334: 2015 | H334: 5 | J334: 7 | K334: 7 | L334: 7 | M334: 2 | N334: 3 | O334: 0 | P334: =IF(T334=0,IF(S334=-1,-1,S334*HLOOKUP(H334,$U$1:$Y$2,2,0)),0) -> 26 | Q334: 30 | R334: =COUNTIF($F$609:$F$5991,F334) -> 1 | S334: =SUM(J334:O334) -> 26 | T334: =IF(AND(H334<5,S334>=VLOOKUP(A334,anni!$A$1:$O$32,6,0)),1,0) -> 0
A335: 2015 | B335: 29 | C335: Lombardia | D335: =VLOOKUP(E335,accorpamenti!$A$2:$X$104,A335-1995,0) -> Como | E335: Como | F335: 6839 | G335: 2015 | H335: 2 | P335: =IF(T335=0,IF(S335=-1,-1,S335*HLOOKUP(H335,$U$1:$Y$2,2,0)),0) -> -1 | Q335: 300 | R335: =COUNTIF($F$609:$F$5991,F335) -> 0 | S335: -1 | T335: =IF(AND(H335<5,S335>=VLOOKUP(A335,anni!$A$1:$O$32,6,0)),1,0) -> 0
A336: 2015 | B336: 30 | C336: Veneto | D336: =VLOOKUP(E336,accorpamenti!$A$2:$X$104,A336-1995,0) -> Rovigo | E336: Rovigo | F336: 6764 | G336: 2015 | H336: 4 | J336: 7 | K336: 6 | L336: 0 | M336: 0 | N336: 0 | O336: 0 | P336: =IF(T336=0,IF(S336=-1,-1,S336*HLOOKUP(H336,$U$1:$Y$2,2,0)),0) -> 15.6 | Q336: 198 | R336: =COUNTIF($F$609:$F$5991,F336) -> 0 | S336: =SUM(J336:O336) -> 13 | T336: =IF(AND(H336<5,S336>=VLOOKUP(A336,anni!$A$1:$O$32,6,0)),1,0) -> 0
A337: 2015 | B337: 31 | C337: Lombardia | D337: =VLOOKUP(E337,accorpamenti!$A$2:$X$104,A337-1995,0) -> Cremona | E337: Cremona | F337: 6445 | G337: 2015 | H337: 5 | J337: 7 | K337: 7 | L337: 5 | M337: 7 | N337: 0 | O337: 0 | P337: =IF(T337=0,IF(S337=-1,-1,S337*HLOOKUP(H337,$U$1:$Y$2,2,0)),0) -> 26 | Q337: 67 | R337: =COUNTIF($F$609:$F$5991,F337) -> 2 | S337: =SUM(J337:O337) -> 26 | T337: =IF(AND(H337<5,S337>=VLOOKUP(A337,anni!$A$1:$O$32,6,0)),1,0) -> 0
A338: 2015 | B338: 32 | C338: Toscana | D338: =VLOOKUP(E338,accorpamenti!$A$2:$X$104,A338-1995,0) -> Pistoia | E338: Pistoia | F338: 6699 | G338: 2015 | H338: 5 | J338: 5 | K338: 4 | L338: 0 | M338: 4 | N338: 0 | O338: 0 | P338: =IF(T338=0,IF(S338=-1,-1,S338*HLOOKUP(H338,$U$1:$Y$2,2,0)),0) -> 13 | Q338: 198 | R338: =COUNTIF($F$609:$F$5991,F338) -> 0 | S338: =SUM(J338:O338) -> 13 | T338: =IF(AND(H338<5,S338>=VLOOKUP(A338,anni!$A$1:$O$32,6,0)),1,0) -> 0
A339: 2015 | B339: 33 | C339: Veneto | D339: =VLOOKUP(E339,accorpamenti!$A$2:$X$104,A339-1995,0) -> Venezia | E339: Venezia | F339: 6625 | G339: 2015 | H339: 4 | J339: 7 | K339: 6 | L339: 2 | M339: 0 | N339: 0 | O339: 0 | P339: =IF(T339=0,IF(S339=-1,-1,S339*HLOOKUP(H339,$U$1:$Y$2,2,0)),0) -> 18 | Q339: 151 | R339: =COUNTIF($F$609:$F$5991,F339) -> 1 | S339: =SUM(J339:O339) -> 15 | T339: =IF(AND(H339<5,S339>=VLOOKUP(A339,anni!$A$1:$O$32,6,0)),1,0) -> 0
A340: 2015 | B340: 34 | C340: Toscana | D340: =VLOOKUP(E340,accorpamenti!$A$2:$X$104,A340-1995,0) -> Arezzo | E340: Arezzo | F340: 6765 | G340: 2015 | H340: 4 | J340: 7 | K340: 7 | L340: 2 | M340: 7 | N340: 0 | O340: 1 | P340: =IF(T340=0,IF(S340=-1,-1,S340*HLOOKUP(H340,$U$1:$Y$2,2,0)),0) -> 28.8 | Q340: 44 | R340: =COUNTIF($F$609:$F$5991,F340) -> 0 | S340: =SUM(J340:O340) -> 24 | T340: =IF(AND(H340<5,S340>=VLOOKUP(A340,anni!$A$1:$O$32,6,0)),1,0) -> 0
A341: 2015 | B341: 35 | C341: Emilia Romagna | D341: =VLOOKUP(E341,accorpamenti!$A$2:$X$104,A341-1995,0) -> Forlì Cesena | E341: Forlì Cesena | F341: 6766 | G341: 2015 | H341: 4 | J341: 6 | K341: 4 | L341: 2 | M341: 1 | N341: 0 | O341: 0 | P341: =IF(T341=0,IF(S341=-1,-1,S341*HLOOKUP(H341,$U$1:$Y$2,2,0)),0) -> 15.6 | Q341: 198 | R341: =COUNTIF($F$609:$F$5991,F341) -> 0 | S341: =SUM(J341:O341) -> 13 | T341: =IF(AND(H341<5,S341>=VLOOKUP(A341,anni!$A$1:$O$32,6,0)),1,0) -> 0
A342: 2015 | B342: 36 | C342: Piemonte | D342: =VLOOKUP(E342,accorpamenti!$A$2:$X$104,A342-1995,0) -> Torino | E342: Torino | F342: 6700 | G342: 2015 | H342: 5 | J342: 0 | K342: 6 | L342: 0 | M342: 3 | N342: 0 | O342: 0 | P342: =IF(T342=0,IF(S342=-1,-1,S342*HLOOKUP(H342,$U$1:$Y$2,2,0)),0) -> 9 | Q342: 252 | R342: =COUNTIF($F$609:$F$5991,F342) -> 0 | S342: =SUM(J342:O342) -> 9 | T342: =IF(AND(H342<5,S342>=VLOOKUP(A342,anni!$A$1:$O$32,6,0)),1,0) -> 0
A343: 2015 | B343: 37 | C343: Sicilia | D343: =VLOOKUP(E343,accorpamenti!$A$2:$X$104,A343-1995,0) -> Trapani | E343: Trapani | F343: 6767 | G343: 2015 | H343: 4 | J343: 5 | K343: 1 | L343: 0 | M343: 0 | N343: 0 | O343: 0 | P343: =IF(T343=0,IF(S343=-1,-1,S343*HLOOKUP(H343,$U$1:$Y$2,2,0)),0) -> 7.2 | Q343: 279 | R343: =COUNTIF($F$609:$F$5991,F343) -> 0 | S343: =SUM(J343:O343) -> 6 | T343: =IF(AND(H343<5,S343>=VLOOKUP(A343,anni!$A$1:$O$32,6,0)),1,0) -> 0
A344: 2015 | B344: 38 | C344: Puglia | D344: =VLOOKUP(E344,accorpamenti!$A$2:$X$104,A344-1995,0) -> Bari | E344: Bari | F344: 6701 | G344: 2015 | H344: 5 | J344: 6 | K344: 5 | L344: 0 | M344: 0 | N344: 0 | O344: 0 | P344: =IF(T344=0,IF(S344=-1,-1,S344*HLOOKUP(H344,$U$1:$Y$2,2,0)),0) -> 11 | Q344: 234 | R344: =COUNTIF($F$609:$F$5991,F344) -> 0 | S344: =SUM(J344:O344) -> 11 | T344: =IF(AND(H344<5,S344>=VLOOKUP(A344,anni!$A$1:$O$32,6,0)),1,0) -> 0
A345: 2015 | B345: 39 | C345: Veneto | D345: =VLOOKUP(E345,accorpamenti!$A$2:$X$104,A345-1995,0) -> Verona | E345: Verona | F345: 6702 | G345: 2015 | H345: 5 | J345: 6 | K345: 4 | L345: 0 | M345: 1 | N345: 0 | O345: 2 | P345: =IF(T345=0,IF(S345=-1,-1,S345*HLOOKUP(H345,$U$1:$Y$2,2,0)),0) -> 13 | Q345: 198 | R345: =COUNTIF($F$609:$F$5991,F345) -> 0 | S345: =SUM(J345:O345) -> 13 | T345: =IF(AND(H345<5,S345>=VLOOKUP(A345,anni!$A$1:$O$32,6,0)),1,0) -> 0
A346: 2015 | B346: 40 | C346: Campania | D346: =VLOOKUP(E346,accorpamenti!$A$2:$X$104,A346-1995,0) -> Avellino | E346: Avellino | F346: 6703 | G346: 2015 | H346: 5 | J346: 7 | K346: 6 | L346: 0 | M346: 1 | N346: 0 | O346: 1 | P346: =IF(T346=0,IF(S346=-1,-1,S346*HLOOKUP(H346,$U$1:$Y$2,2,0)),0) -> 15 | Q346: 151 | R346: =COUNTIF($F$609:$F$5991,F346) -> 0 | S346: =SUM(J346:O346) -> 15 | T346: =IF(AND(H346<5,S346>=VLOOKUP(A346,anni!$A$1:$O$32,6,0)),1,0) -> 0
...

Sheet province
A1: anno | B1: distretto ultimo | C1: distretto +1 | D1: distretto +2 | E1: provincia | F1: num | G1: assenti | H1: punti | I1: q_scuole | M1: storia | N1: q_vera | O1: parz | P1: quote_sc | Q1: extra | R1: quote_tot | S1: diff | T1: hont* | U1: diff* | V1: bonus | X1: scuole | AB1: quote_tot
B2: 1995 | C2: 1994 | D2: 1993 | J2: 3 | K2: 2 | L2: 1 | X2: ultimo | Y2: penultimo
A4: 2016 | B4: =VLOOKUP($E4,accorpamenti!$A$2:$X$104,$A4-B$2,0) -> Roma | C4: =VLOOKUP($E4,accorpamenti!$A$2:$X$104,$A4-C$2,0) -> Roma | D4: =VLOOKUP($E4,accorpamenti!$A$2:$X$104,$A4-D$2,0) -> Roma | E4: Roma | F4: {=SUM(IF(anno=A4,IF(distretto=E4,1)))} -> 21 | G4: {=SUM(IF(anno=A4,IF(distretto=E4,IF(punti=-1,1))))} -> 0 | H4: {=SUM(IF(anno=A4,IF(distretto=E4,punti)))+G4} -> 264.6 | I4: =X4/1465*300 -> 25.802048 | J4: =H4/VLOOKUP(A4,anni!$A$1:$O$32,4,0) -> 0.063349933 | K4: =SUMIFS($J$2:$J$1979,anno_2,A4-1,$C$2:$C$1979,B4) -> 0.067895234 | L4: =SUMIFS($J$2:$J$1979,anno_2,A4-2,$D$2:$D$1979,B4) -> 0.0875897 | M4: {=SUM(IF(NOT(ISERR(J4:L4)),J4:L4*$J$2:$L$2))/SUM(IF(NOT(ISERR(J4:L4)),$J$2:$L$2))} -> 0.068904995 | N4: =((300-VLOOKUP(A4,anni!$A$1:$O$32,8,0))*(M4-I4/300)+I4)/300*(300-VLOOKUP(A4,anni!$A$1:$O$32,7,0)) -> 20.809037 | O4: =MAX(1,N4) -> 20.809037 | P4: =INT(MAX(1,O4)+1-VLOOKUP(A4,anni!$A$1:$O$32,5,0)) -> 21 | Q4: {=SUM(IF(anno=A4,IF(distretto=E4,concorrenti!$T$3:$T$5991)))} -> 2 | R4: =P4+Q4 -> 23 | S4: =R4-F4 -> 2 | T4: =1+INT($N4/VLOOKUP($A4,anni!$A$1:$J$35,10,0))+$Q4 -> 20 | U4: =T4-$F4 -> -1 | X4: 126 | Y4: 126 | Z4: =-(Y4-X4)/SQRT(AVERAGE(X4:Y4)) -> 0
A5: 2016 | B5: =VLOOKUP($E5,accorpamenti!$A$2:$X$104,$A5-B$2,0) -> Brescia | C5: =VLOOKUP($E5,accorpamenti!$A$2:$X$104,$A5-C$2,0) -> Brescia | D5: =VLOOKUP($E5,accorpamenti!$A$2:$X$104,$A5-D$2,0) -> Brescia | E5: Brescia | F5: {=SUM(IF(anno=A5,IF(distretto=E5,1)))} -> 11 | G5: {=SUM(IF(anno=A5,IF(distretto=E5,IF(punti=-1,1))))} -> 0 | H5: {=SUM(IF(anno=A5,IF(distretto=E5,punti)))+G5} -> 245 | I5: =X5/1465*300 -> 3.4812287 | J5: =H5/VLOOKUP(A5,anni!$A$1:$O$32,4,0) -> 0.058657345 | K5: =SUMIFS($J$2:$J$1979,anno_2,A5-1,$C$2:$C$1979,B5) -> 0.051566001 | L5: =SUMIFS($J$2:$J$1979,anno_2,A5-2,$D$2:$D$1979,B5) -> 0.030445336 | M5: {=SUM(IF(NOT(ISERR(J5:L5)),J5:L5*$J$2:$L$2))/SUM(IF(NOT(ISERR(J5:L5)),$J$2:$L$2))} -> 0.051591562 | N5: =((300-VLOOKUP(A5,anni!$A$1:$O$32,8,0))*(M5-I5/300)+I5)/300*(300-VLOOKUP(A5,anni!$A$1:$O$32,7,0)) -> 13.028825 | O5: =MAX(1,N5) -> 13.028825 | P5: =INT(MAX(1,O5)+1-VLOOKUP(A5,anni!$A$1:$O$32,5,0)) -> 13 | Q5: {=SUM(IF(anno=A5,IF(distretto=E5,concorrenti!$T$3:$T$5991)))} -> 0 | R5: =P5+Q5 -> 13 | S5: =R5-F5 -> 2 | T5: =1+INT($N5/VLOOKUP($A5,anni!$A$1:$J$35,10,0))+$Q5 -> 11 | U5: =T5-$F5 -> 0 | X5: 17 | Y5: 15 | Z5: =-(Y5-X5)/SQRT(AVERAGE(X5:Y5)) -> 0.5
A6: 2016 | B6: =VLOOKUP($E6,accorpamenti!$A$2:$X$104,$A6-B$2,0) -> Milano | C6: =VLOOKUP($E6,accorpamenti!$A$2:$X$104,$A6-C$2,0) -> Milano | D6: =VLOOKUP($E6,accorpamenti!$A$2:$X$104,$A6-D$2,0) -> Milano | E6: Milano | F6: {=SUM(IF(anno=A6,IF(distretto=E6,1)))} -> 11 | G6: {=SUM(IF(anno=A6,IF(distretto=E6,IF(punti=-1,1))))} -> 0 | H6: {=SUM(IF(anno=A6,IF(distretto=E6,punti)))+G6} -> 163.2 | I6: =X6/1465*300 -> 10.648464 | J6: =H6/VLOOKUP(A6,anni!$A$1:$O$32,4,0) -> 0.039072975 | K6: =SUMIFS($J$2:$J$1979,anno_2,A6-1,$C$2:$C$1979,B6) -> 0.040094434 | L6: =SUMIFS($J$2:$J$1979,anno_2,A6-2,$D$2:$D$1979,B6) -> 0.041473195 | M6: {=SUM(IF(NOT(ISERR(J6:L6)),J6:L6*$J$2:$L$2))/SUM(IF(NOT(ISERR(J6:L6)),$J$2:$L$2))} -> 0.039813498 | N6: =((300-VLOOKUP(A6,anni!$A$1:$O$32,8,0))*(M6-I6/300)+I6)/300*(300-VLOOKUP(A6,anni!$A$1:$O$32,7,0)) -> 11.337181 | O6: =MAX(1,N6) -> 11.337181 | P6: =INT(MAX(1,O6)+1-VLOOKUP(A6,anni!$A$1:$O$32,5,0)) -> 11 | Q6: {=SUM(IF(anno=A6,IF(distretto=E6,concorrenti!$T$3:$T$5991)))} -> 2 | R6: =P6+Q6 -> 13 | S6: =R6-F6 -> 2 | T6: =1+INT($N6/VLOOKUP($A6,anni!$A$1:$J$35,10,0))+$Q6 -> 12 | U6: =T6-$F6 -> 1 | X6: 52 | Y6: 48 | Z6: =-(Y6-X6)/SQRT(AVERAGE(X6:Y6)) -> 0.56568542
A7: 2016 | B7: =VLOOKUP($E7,accorpamenti!$A$2:$X$104,$A7-B$2,0) -> Torino | C7: =VLOOKUP($E7,accorpamenti!$A$2:$X$104,$A7-C$2,0) -> Torino | D7: =VLOOKUP($E7,accorpamenti!$A$2:$X$104,$A7-D$2,0) -> Torino | E7: Torino | F7: {=SUM(IF(anno=A7,IF(distretto=E7,1)))} -> 10 | G7: {=SUM(IF(anno=A7,IF(distretto=E7,IF(punti=-1,1))))} -> 0 | H7: {=SUM(IF(anno=A7,IF(distretto=E7,punti)))+G7} -> 170.2 | I7: =X7/1465*300 -> 13.105802 | J7: =H7/VLOOKUP(A7,anni!$A$1:$O$32,4,0) -> 0.040748899 | K7: =SUMIFS($J$2:$J$1979,anno_2,A7-1,$C$2:$C$1979,B7) -> 0.035124667 | L7: =SUMIFS($J$2:$J$1979,anno_2,A7-2,$D$2:$D$1979,B7) -> 0.035774588 | M7: {=SUM(IF(NOT(ISERR(J7:L7)),J7:L7*$J$2:$L$2))/SUM(IF(NOT(ISERR(J7:L7)),$J$2:$L$2))} -> 0.038045103 | N7: =((300-VLOOKUP(A7,anni!$A$1:$O$32,8,0))*(M7-I7/300)+I7)/300*(300-VLOOKUP(A7,anni!$A$1:$O$32,7,0)) -> 11.305724 | O7: =MAX(1,N7) -> 11.305724 | P7: =INT(MAX(1,O7)+1-VLOOKUP(A7,anni!$A$1:$O$32,5,0)) -> 11 | Q7: {=SUM(IF(anno=A7,IF(distretto=E7,concorrenti!$T$3:$T$5991)))} -> 0 | R7: =P7+Q7 -> 11 | S7: =R7-F7 -> 1 | T7: =1+INT($N7/VLOOKUP($A7,anni!$A$1:$J$35,10,0))+$Q7 -> 10 | U7: =T7-$F7 -> 0 | X7: 64 | Y7: 64 | Z7: =-(Y7-X7)/SQRT(AVERAGE(X7:Y7)) -> 0
A8: 2016 | B8: =VLOOKUP($E8,accorpamenti!$A$2:$X$104,$A8-B$2,0) -> Udine | C8: =VLOOKUP($E8,accorpamenti!$A$2:$X$104,$A8-C$2,0) -> Udine | D8: =VLOOKUP($E8,accorpamenti!$A$2:$X$104,$A8-D$2,0) -> Udine | E8: Udine | F8: {=SUM(IF(anno=A8,IF(distretto=E8,1)))} -> 7 | G8: {=SUM(IF(anno=A8,IF(distretto=E8,IF(punti=-1,1))))} -> 0 | H8: {=SUM(IF(anno=A8,IF(distretto=E8,punti)))+G8} -> 159 | I8: =X8/1465*300 -> 3.4812287 | J8: =H8/VLOOKUP(A8,anni!$A$1:$O$32,4,0) -> 0.03806742 | K8: =SUMIFS($J$2:$J$1979,anno_2,A8-1,$C$2:$C$1979,B8) -> 0.031014334 | L8: =SUMIFS($J$2:$J$1979,anno_2,A8-2,$D$2:$D$1979,B8) -> 0.028756859 | M8: {=SUM(IF(NOT(ISERR(J8:L8)),J8:L8*$J$2:$L$2))/SUM(IF(NOT(ISERR(J8:L8)),$J$2:$L$2))} -> 0.034164631 | N8: =((300-VLOOKUP(A8,anni!$A$1:$O$32,8,0))*(M8-I8/300)+I8)/300*(300-VLOOKUP(A8,anni!$A$1:$O$32,7,0)) -> 8.8173172 | O8: =MAX(1,N8) -> 8.8173172 | P8: =INT(MAX(1,O8)+1-VLOOKUP(A8,anni!$A$1:$O$32,5,0)) -> 9 | Q8: {=SUM(IF(anno=A8,IF(distretto=E8,concorrenti!$T$3:$T$5991)))} -> 0 | R8: =P8+Q8 -> 9 | S8: =R8-F8 -> 2 | T8: =1+INT($N8/VLOOKUP($A8,anni!$A$1:$J$35,10,0))+$Q8 -> 8 | U8: =T8-$F8 -> 1 | X8: 17 | Y8: 20 | Z8: =-(Y8-X8)/SQRT(AVERAGE(X8:Y8)) -> -0.69748583
A9: 2016 | B9: =VLOOKUP($E9,accorpamenti!$A$2:$X$104,$A9-B$2,0) -> Vicenza | C9: =VLOOKUP($E9,accorpamenti!$A$2:$X$104,$A9-C$2,0) -> Vicenza | D9: =VLOOKUP($E9,accorpamenti!$A$2:$X$104,$A9-D$2,0) -> Vicenza | E9: Vicenza | F9: {=SUM(IF(anno=A9,IF(distretto=E9,1)))} -> 7 | G9: {=SUM(IF(anno=A9,IF(distretto=E9,IF(punti=-1,1))))} -> 0 | H9: {=SUM(IF(anno=A9,IF(distretto=E9,punti)))+G9} -> 123 | I9: =X9/1465*300 -> 5.1194539 | J9: =H9/VLOOKUP(A9,anni!$A$1:$O$32,4,0) -> 0.029448382 | K9: =SUMIFS($J$2:$J$1979,anno_2,A9-1,$C$2:$C$1979,B9) -> 0.0315001 | L9: =SUMIFS($J$2:$J$1979,anno_2,A9-2,$D$2:$D$1979,B9) -> 0.028123681 | M9: {=SUM(IF(NOT(ISERR(J9:L9)),J9:L9*$J$2:$L$2))/SUM(IF(NOT(ISERR(J9:L9)),$J$2:$L$2))} -> 0.029911504 | N9: =((300-VLOOKUP(A9,anni!$A$1:$O$32,8,0))*(M9-I9/300)+I9)/300*(300-VLOOKUP(A9,anni!$A$1:$O$32,7,0)) -> 8.0534145 | O9: =MAX(1,N9) -> 8.0534145 | P9: =INT(MAX(1,O9)+1-VLOOKUP(A9,anni!$A$1:$O$32,5,0)) -> 8 | Q9: {=SUM(IF(anno=A9,IF(distretto=E9,concorrenti!$T$3:$T$5991)))} -> 1 | R9: =P9+Q9 -> 9 | S9: =R9-F9 -> 2 | T9: =1+INT($N9/VLOOKUP($A9,anni!$A$1:$J$35,10,0))+$Q9 -> 8 | U9: =T9-$F9 -> 1 | X9: 25 | Y9: 22 | Z9: =-(Y9-X9)/SQRT(AVERAGE(X9:Y9)) -> 0.61885275
A10: 2016 | B10: =VLOOKUP($E10,accorpamenti!$A$2:$X$104,$A10-B$2,0) -> Napoli | C10: =VLOOKUP($E10,accorpamenti!$A$2:$X$104,$A10-C$2,0) -> Napoli | D10: =VLOOKUP($E10,accorpamenti!$A$2:$X$104,$A10-D$2,0) -> Napoli | E10: Napoli | F10: {=SUM(IF(anno=A10,IF(distretto=E10,1)))} -> 11 | G10: {=SUM(IF(anno=A10,IF(distretto=E10,IF(punti=-1,1))))} -> 0 | H10: {=SUM(IF(anno=A10,IF(distretto=E10,punti)))+G10} -> 124 | I10: =X10/1465*300 -> 16.382253 | J10: =H10/VLOOKUP(A10,anni!$A$1:$O$32,4,0) -> 0.029687799 | K10: =SUMIFS($J$2:$J$1979,anno_2,A10-1,$C$2:$C$1979,B10) -> 0.024475167 | L10: =SUMIFS($J$2:$J$1979,anno_2,A10-2,$D$2:$D$1979,B10) -> 0.031711693 | M10: {=SUM(IF(NOT(ISERR(J10:L10)),J10:L10*$J$2:$L$2))/SUM(IF(NOT(ISERR(J10:L10)),$J$2:$L$2))} -> 0.028287571 | N10: =((300-VLOOKUP(A10,anni!$A$1:$O$32,8,0))*(M10-I10/300)+I10)/300*(300-VLOOKUP(A10,anni!$A$1:$O$32,7,0)) -> 9.4755258 | O10: =MAX(1,N10) -> 9.4755258 | P10: =INT(MAX(1,O10)+1-VLOOKUP(A10,anni!$A$1:$O$32,5,0)) -> 9 | Q10: {=SUM(IF(anno=A10,IF(distretto=E10,concorrenti!$T$3:$T$5991)))} -> 1 | R10: =P10+Q10 -> 10 | S10: =R10-F10 -> -1 | T10: =1+INT($N10/VLOOKUP($A10,anni!$A$1:$J$35,10,0))+$Q10 -> 10 | U10: =T10-$F10 -> -1 | X10: 80 | Y10: 78 | Z10: =-(Y10-X10)/SQRT(AVERAGE(X10:Y10)) -> 0.22501758
A11: 2016 | B11: =VLOOKUP($E11,accorpamenti!$A$2:$X$104,$A11-B$2,0) -> Reggio Emilia | C11: =VLOOKUP($E11,accorpamenti!$A$2:$X$104,$A11-C$2,0) -> Reggio Emilia | D11: =VLOOKUP($E11,accorpamenti!$A$2:$X$104,$A11-D$2,0) -> Reggio Emilia | E11: Reggio Emilia | F11: {=SUM(IF(anno=A11,IF(distretto=E11,1)))} -> 7 | G11: {=SUM(IF(anno=A11,IF(distretto=E11,IF(punti=-1,1))))} -> 0 | H11: {=SUM(IF(anno=A11,IF(distretto=E11,punti)))+G11} -> 137.4 | I11: =X11/1465*300 -> 3.0716724 | J11: =H11/VLOOKUP(A11,anni!$A$1:$O$32,4,0) -> 0.032895997 | K11: =SUMIFS($J$2:$J$1979,anno_2,A11-1,$C$2:$C$1979,B11) -> 0.0159182 | L11: =SUMIFS($J$2:$J$1979,anno_2,A11-2,$D$2:$D$1979,B11) -> 0.031131279 | M11: {=SUM(IF(NOT(ISERR(J11:L11)),J11:L11*$J$2:$L$2))/SUM(IF(NOT(ISERR(J11:L11)),$J$2:$L$2))} -> 0.026942612 | N11: =((300-VLOOKUP(A11,anni!$A$1:$O$32,8,0))*(M11-I11/300)+I11)/300*(300-VLOOKUP(A11,anni!$A$1:$O$32,7,0)) -> 7.0060117 | O11: =MAX(1,N11) -> 7.0060117 | P11: =INT(MAX(1,O11)+1-VLOOKUP(A11,anni!$A$1:$O$32,5,0)) -> 7 | Q11: {=SUM(IF(anno=A11,IF(distretto=E11,concorrenti!$T$3:$T$5991)))} -> 0 | R11: =P11+Q11 -> 7 | S11: =R11-F11 -> 0 | T11: =1+INT($N11/VLOOKUP($A11,anni!$A$1:$J$35,10,0))+$Q11 -> 6 | U11: =T11-$F11 -> -1 | X11: 15 | Y11: 14 | Z11: =-(Y11-X11)/SQRT(AVERAGE(X11:Y11)) -> 0.26261287
A12: 2016 | B12: =VLOOKUP($E12,accorpamenti!$A$2:$X$104,$A12-B$2,0) -> Bari | C12: =VLOOKUP($E12,accorpamenti!$A$2:$X$104,$A12-C$2,0) -> Bari | D12: =VLOOKUP($E12,accorpamenti!$A$2:$X$104,$A12-D$2,0) -> Bari | E12: Bari | F12: {=SUM(IF(anno=A12,IF(distretto=E12,1)))} -> 8 | G12: {=SUM(IF(anno=A12,IF(distretto=E12,IF(punti=-1,1))))} -> 0 | H12: {=SUM(IF(anno=A12,IF(distretto=E12,punti)))+G12} -> 123.2 | I12: =X12/1465*300 -> 9.2150171 | J12: =H12/VLOOKUP(A12,anni!$A$1:$O$32,4,0) -> 0.029496265 | K12: =SUMIFS($J$2:$J$1979,anno_2,A12-1,$C$2:$C$1979,B12) -> 0.019804334 | L12: =SUMIFS($J$2:$J$1979,anno_2,A12-2,$D$2:$D$1979,B12) -> 0.024852258 | M12: {=SUM(IF(NOT(ISERR(J12:L12)),J12:L12*$J$2:$L$2))/SUM(IF(NOT(ISERR(J12:L12)),$J$2:$L$2))} -> 0.02549162 | N12: =((300-VLOOKUP(A12,anni!$A$1:$O$32,8,0))*(M12-I12/300)+I12)/300*(300-VLOOKUP(A12,anni!$A$1:$O$32,7,0)) -> 7.6451165 | O12: =MAX(1,N12) -> 7.6451165 | P12: =INT(MAX(1,O12)+1-VLOOKUP(A12,anni!$A$1:$O$32,5,0)) -> 8 | Q12: {=SUM(IF(anno=A12,IF(distretto=E12,concorrenti!$T$3:$T$5991)))} -> 0 | R12: =P12+Q12 -> 8 | S12: =R12-F12 -> 0 | T12: =1+INT($N12/VLOOKUP($A12,anni!$A$1:$J$35,10,0))+$Q12 -> 7 | U12: =T12-$F12 -> -1 | X12: 45 | Y12: 43 | Z12: =-(Y12-X12)/SQRT(AVERAGE(X12:Y12)) -> 0.30151134
A13: 2016 | B13: =VLOOKUP($E13,accorpamenti!$A$2:$X$104,$A13-B$2,0) -> Treviso | C13: =VLOOKUP($E13,accorpamenti!$A$2:$X$104,$A13-C$2,0) -> Treviso | D13: =VLOOKUP($E13,accorpamenti!$A$2:$X$104,$A13-D$2,0) -> Treviso | E13: Treviso | F13: {=SUM(IF(anno=A13,IF(distretto=E13,1)))} -> 8 | G13: {=SUM(IF(anno=A13,IF(distretto=E13,IF(punti=-1,1))))} -> 0 | H13: {=SUM(IF(anno=A13,IF(distretto=E13,punti)))+G13} -> 81.8 | I13: =X13/1465*300 -> 4.3003413 | J13: =H13/VLOOKUP(A13,anni!$A$1:$O$32,4,0) -> 0.019584371 | K13: =SUMIFS($J$2:$J$1979,anno_2,A13-1,$C$2:$C$1979,B13) -> 0.0267919 | L13: =SUMIFS($J$2:$J$1979,anno_2,A13-2,$D$2:$D$1979,B13) -> 0.040101309 | M13: {=SUM(IF(NOT(ISERR(J13:L13)),J13:L13*$J$2:$L$2))/SUM(IF(NOT(ISERR(J13:L13)),$J$2:$L$2))} -> 0.02540637 | N13: =((300-VLOOKUP(A13,anni!$A$1:$O$32,8,0))*(M13-I13/300)+I13)/300*(300-VLOOKUP(A13,anni!$A$1:$O$32,7,0)) -> 6.8327056 | O13: =MAX(1,N13) -> 6.8327056 | P13: =INT(MAX(1,O13)+1-VLOOKUP(A13,anni!$A$1:$O$32,5,0)) -> 7 | Q13: {=SUM(IF(anno=A13,IF(distretto=E13,concorrenti!$T$3:$T$5991)))} -> 0 | R13: =P13+Q13 -> 7 | S13: =R13-F13 -> -1 | T13: =1+INT($N13/VLOOKUP($A13,anni!$A$1:$J$35,10,0))+$Q13 -> 6 | U13: =T13-$F13 -> -2 | X13: 21 | Y13: 21 | Z13: =-(Y13-X13)/SQRT(AVERAGE(X13:Y13)) -> 0
A14: 2016 | B14: =VLOOKUP($E14,accorpamenti!$A$2:$X$104,$A14-B$2,0) -> Massa Carrara | C14: =VLOOKUP($E14,accorpamenti!$A$2:$X$104,$A14-C$2,0) -> Massa Carrara | D14: =VLOOKUP($E14,accorpamenti!$A$2:$X$104,$A14-D$2,0) -> Massa Carrara | E14: Massa Carrara | F14: {=SUM(IF(anno=A14,IF(distretto=E14,1)))} -> 6 | G14: {=SUM(IF(anno=A14,IF(distretto=E14,IF(punti=-1,1))))} -> 0 | H14: {=SUM(IF(anno=A14,IF(distretto=E14,punti)))+G14} -> 110 | I14: =X14/1465*300 -> 1.8430034 | J14: =H14/VLOOKUP(A14,anni!$A$1:$O$32,4,0) -> 0.026335951 | K14: =SUMIFS($J$2:$J$1979,anno_2,A14-1,$C$2:$C$1979,B14) -> 0.025073034 | L14: =SUMIFS($J$2:$J$1979,anno_2,A14-2,$D$2:$D$1979,B14) -> 0.021791895 | M14: {=SUM(IF(NOT(ISERR(J14:L14)),J14:L14*$J$2:$L$2))/SUM(IF(NOT(ISERR(J14:L14)),$J$2:$L$2))} -> 0.025157636 | N14: =((300-VLOOKUP(A14,anni!$A$1:$O$32,8,0))*(M14-I14/300)+I14)/300*(300-VLOOKUP(A14,anni!$A$1:$O$32,7,0)) -> 6.3766903 | O14: =MAX(1,N14) -> 6.3766903 | P14: =INT(MAX(1,O14)+1-VLOOKUP(A14,anni!$A$1:$O$32,5,0)) -> 6 | Q14: {=SUM(IF(anno=A14,IF(distretto=E14,concorrenti!$T$3:$T$5991)))} -> 0 | R14: =P14+Q14 -> 6 | S14: =R14-F14 -> 0 | T14: =1+INT($N14/VLOOKUP($A14,anni!$A$1:$J$35,10,0))+$Q14 -> 6 | U14: =T14-$F14 -> 0 | X14: 9 | Y14: 8 | Z14: =-(Y14-X14)/SQRT(AVERAGE(X14:Y14)) -> 0.34299717
A15: 2016 | B15: =VLOOKUP($E15,accorpamenti!$A$2:$X$104,$A15-B$2,0) -> Trento | C15: =VLOOKUP($E15,accorpamenti!$A$2:$X$104,$A15-C$2,0) -> Trento | D15: =VLOOKUP($E15,accorpamenti!$A$2:$X$104,$A15-D$2,0) -> Trento | E15: Trento | F15: {=SUM(IF(anno=A15,IF(distretto=E15,1)))} -> 6 | G15: {=SUM(IF(anno=A15,IF(distretto=E15,IF(punti=-1,1))))} -> 0 | H15: {=SUM(IF(anno=A15,IF(distretto=E15,punti)))+G15} -> 109.2 | I15: =X15/1465*300 -> 3.0716724 | J15: =H15/VLOOKUP(A15,anni!$A$1:$O$32,4,0) -> 0.026144417 | K15: =SUMIFS($J$2:$J$1979,anno_2,A15-1,$C$2:$C$1979,B15) -> 0.0214111 | L15: =SUMIFS($J$2:$J$1979,anno_2,A15-2,$D$2:$D$1979,B15) -> 0.022266779 | M15: {=SUM(IF(NOT(ISERR(J15:L15)),J15:L15*$J$2:$L$2))/SUM(IF(NOT(ISERR(J15:L15)),$J$2:$L$2))} -> 0.023920372 | N15: =((300-VLOOKUP(A15,anni!$A$1:$O$32,8,0))*(M15-I15/300)+I15)/300*(300-VLOOKUP(A15,anni!$A$1:$O$32,7,0)) -> 6.275637 | O15: =MAX(1,N15) -> 6.275637 | P15: =INT(MAX(1,O15)+1-VLOOKUP(A15,anni!$A$1:$O$32,5,0)) -> 6 | Q15: {=SUM(IF(anno=A15,IF(distretto=E15,concorrenti!$T$3:$T$5991)))} -> 0 | R15: =P15+Q15 -> 6 | S15: =R15-F15 -> 0 | T15: =1+INT($N15/VLOOKUP($A15,anni!$A$1:$J$35,10,0))+$Q15 -> 6 | U15: =T15-$F15 -> 0 | X15: 15 | Y15: 19 | Z15: =-(Y15-X15)/SQRT(AVERAGE(X15:Y15)) -> -0.9701425
... A95: 2016 | B95: =VLOOKUP($E95,accorpamenti!$A$2:$X$104,$A95-B$2,0) -> Aosta | C95: =VLOOKUP($E95,accorpamenti!$A$2:$X$104,$A95-C$2,0) -> Aosta | D95: =VLOOKUP($E95,accorpamenti!$A$2:$X$104,$A95-D$2,0) -> Aosta | E95: Aosta | F95: {=SUM(IF(anno=A95,IF(distretto=E95,1)))} -> 1 | G95: {=SUM(IF(anno=A95,IF(distretto=E95,IF(punti=-1,1))))} -> 0 | H95: {=SUM(IF(anno=A95,IF(distretto=E95,punti)))+G95} -> 1.4 | I95: =X95/1465*300 -> 0.40955631 | J95: =H95/VLOOKUP(A95,anni!$A$1:$O$32,4,0) -> 0.00033518483 | K95: =SUMIFS($J$2:$J$1979,anno_2,A95-1,$C$2:$C$1979,B95) -> 0.0016815 | L95: =SUMIFS($J$2:$J$1979,anno_2,A95-2,$D$2:$D$1979,B95) -> 0.0005276488 | M95: {=SUM(IF(NOT(ISERR(J95:L95)),J95:L95*$J$2:$L$2))/SUM(IF(NOT(ISERR(J95:L95)),$J$2:$L$2))} -> 0.00081603389 | N95: =((300-VLOOKUP(A95,anni!$A$1:$O$32,8,0))*(M95-I95/300)+I95)/300*(300-VLOOKUP(A95,anni!$A$1:$O$32,7,0)) -> 0.26319226 | O95: =MAX(1,N95) -> 1 | P95: =INT(MAX(1,O95)+1-VLOOKUP(A95,anni!$A$1:$O$32,5,0)) -> 1 | Q95: {=SUM(IF(anno=A95,IF(distretto=E95,concorrenti!$T$3:$T$5991)))} -> 0 | R95: =P95+Q95 -> 1 | S95: =R95-F95 -> 0 | T95: =1+INT($N95/VLOOKUP($A95,anni!$A$1:$J$35,10,0))+$Q95 -> 1 | U95: =T95-$F95 -> 0 | X95: 2 | Y95: 2 | Z95: =-(Y95-X95)/SQRT(AVERAGE(X95:Y95)) -> 0
A96: 2015 | B96: =VLOOKUP($E96,accorpamenti!$A$2:$X$104,$A96-B$2,0) -> Roma | C96: =VLOOKUP($E96,accorpamenti!$A$2:$X$104,$A96-C$2,0) -> Roma | D96: =VLOOKUP($E96,accorpamenti!$A$2:$X$104,$A96-D$2,0) -> Roma | E96: Roma | F96: {=SUM(IF(anno=A96,IF(distretto=E96,1)))} -> 21 | G96: {=SUM(IF(anno=A96,IF(distretto=E96,IF(punti=-1,1))))} -> 0 | H96: {=SUM(IF(anno=A96,IF(distretto=E96,punti)))+G96} -> 363.4 | I96: 26.050999 | J96: =H96/VLOOKUP(A96,anni!$A$1:$O$32,4,0) -> 0.067895234 | K96: =SUMIFS($J$2:$J$1979,anno_2,A96-1,$C$2:$C$1979,B96) -> 0.0875897 | L96: =SUMIFS($J$2:$J$1979,anno_2,A96-2,$D$2:$D$1979,B96) -> 0.070055393 | M96: {=SUM(IF(NOT(ISERR(J96:L96)),J96:L96*$J$2:$L$2))/SUM(IF(NOT(ISERR(J96:L96)),$J$2:$L$2))} -> 0.074820083 | N96: =((300-VLOOKUP(A96,anni!$A$1:$O$32,8,0))*(M96-I96/300)+I96)/300*(300-VLOOKUP(A96,anni!$A$1:$O$32,7,0)) -> 22.12498 | O96: =MAX(1,N96) -> 22.12498 | P96: =INT(MAX(1,O96)+1-VLOOKUP(A96,anni!$A$1:$O$32,5,0)) -> 22 | Q96: {=SUM(IF(anno=A96,IF(distretto=E96,concorrenti!$T$3:$T$5991)))} -> 2 | R96: =P96+Q96 -> 24 | S96: =R96-F96 -> 3 | T96: =1+INT($N96/VLOOKUP($A96,anni!$A$1:$J$35,10,0))+$Q96 -> 21 | U96: =T96-$F96 -> 0 | X96: 126 | Y96: 110 | Z96: =-(Y96-X96)/SQRT(AVERAGE(X96:Y96)) -> 1.4729194
A97: 2015 | B97: =VLOOKUP($E97,accorpamenti!$A$2:$X$104,$A97-B$2,0) -> Brescia | C97: =VLOOKUP($E97,accorpamenti!$A$2:$X$104,$A97-C$2,0) -> Brescia | D97: =VLOOKUP($E97,accorpamenti!$A$2:$X$104,$A97-D$2,0) -> Brescia | E97: Brescia | F97: {=SUM(IF(anno=A97,IF(distretto=E97,1)))} -> 11 | G97: {=SUM(IF(anno=A97,IF(distretto=E97,IF(punti=-1,1))))} -> 0 | H97: {=SUM(IF(anno=A97,IF(distretto=E97,punti)))+G97} -> 276 | I97: 3.1013094 | J97: =H97/VLOOKUP(A97,anni!$A$1:$O$32,4,0) -> 0.051566001 | K97: =SUMIFS($J$2:$J$1979,anno_2,A97-1,$C$2:$C$1979,B97) -> 0.030445336 | L97: =SUMIFS($J$2:$J$1979,anno_2,A97-2,$D$2:$D$1979,B97) -> 0.044802867 | M97: {=SUM(IF(NOT(ISERR(J97:L97)),J97:L97*$J$2:$L$2))/SUM(IF(NOT(ISERR(J97:L97)),$J$2:$L$2))} -> 0.04339859 | N97: =((300-VLOOKUP(A97,anni!$A$1:$O$32,8,0))*(M97-I97/300)+I97)/300*(300-VLOOKUP(A97,anni!$A$1:$O$32,7,0)) -> 10.911871 | O97: =MAX(1,N97) -> 10.911871 | P97: =INT(MAX(1,O97)+1-VLOOKUP(A97,anni!$A$1:$O$32,5,0)) -> 11 | Q97: {=SUM(IF(anno=A97,IF(distretto=E97,concorrenti!$T$3:$T$5991)))} -> 1 | R97: =P97+Q97 -> 12 | S97: =R97-F97 -> 1 | T97: =1+INT($N97/VLOOKUP($A97,anni!$A$1:$J$35,10,0))+$Q97 -> 11 | U97: =T97-$F97 -> 0 | X97: 15 | Y97: 20 | Z97: =-(Y97-X97)/SQRT(AVERAGE(X97:Y97)) -> -1.1952286
A98: 2015 | B98: =VLOOKUP($E98,accorpamenti!$A$2:$X$104,$A98-B$2,0) -> Napoli | C98: =VLOOKUP($E98,accorpamenti!$A$2:$X$104,$A98-C$2,0) -> Napoli | D98: =VLOOKUP($E98,accorpamenti!$A$2:$X$104,$A98-D$2,0) -> Napoli | E98: Napoli | F98: {=SUM(IF(anno=A98,IF(distretto=E98,1)))} -> 10 | G98: {=SUM(IF(anno=A98,IF(distretto=E98,IF(punti=-1,1))))} -> 0 | H98: {=SUM(IF(anno=A98,IF(distretto=E98,punti)))+G98} -> 131 | I98: 16.126809 | J98: =H98/VLOOKUP(A98,anni!$A$1:$O$32,4,0) -> 0.024475167 | K98: =SUMIFS($J$2:$J$1979,anno_2,A98-1,$C$2:$C$1979,B98) -> 0.031711693 | L98: =SUMIFS($J$2:$J$1979,anno_2,A98-2,$D$2:$D$1979,B98) -> 0.037905941 | M98: {=SUM(IF(NOT(ISERR(J98:L98)),J98:L98*$J$2:$L$2))/SUM(IF(NOT(ISERR(J98:L98)),$J$2:$L$2))} -> 0.029125805 | N98: =((300-VLOOKUP(A98,anni!$A$1:$O$32,8,0))*(M98-I98/300)+I98)/300*(300-VLOOKUP(A98,anni!$A$1:$O$32,7,0)) -> 9.5704826 | O98: =MAX(1,N98) -> 9.5704826 | P98: =INT(MAX(1,O98)+1-VLOOKUP(A98,anni!$A$1:$O$32,5,0)) -> 10 | Q98: {=SUM(IF(anno=A98,IF(distretto=E98,concorrenti!$T$3:$T$5991)))} -> 2 | R98: =P98+Q98 -> 12 | S98: =R98-F98 -> 2 | T98: =1+INT($N98/VLOOKUP($A98,anni!$A$1:$J$35,10,0))+$Q98 -> 11 | U98: =T98-$F98 -> 1 | X98: 78 | Y98: 73 | Z98: =-(Y98-X98)/SQRT(AVERAGE(X98:Y98)) -> 0.57543534
A99: 2015 | B99: =VLOOKUP($E99,accorpamenti!$A$2:$X$104,$A99-B$2,0) -> Milano | C99: =VLOOKUP($E99,accorpamenti!$A$2:$X$104,$A99-C$2,0) -> Milano | D99: =VLOOKUP($E99,accorpamenti!$A$2:$X$104,$A99-D$2,0) -> Milano | E99: Milano | F99: {=SUM(IF(anno=A99,IF(distretto=E99,1)))} -> 10 | G99: {=SUM(IF(anno=A99,IF(distretto=E99,IF(punti=-1,1))))} -> 0 | H99: {=SUM(IF(anno=A99,IF(distretto=E99,punti)))+G99} -> 214.6 | I99: 9.9241902 | J99: =H99/VLOOKUP(A99,anni!$A$1:$O$32,4,0) -> 0.040094434 | K99: =SUMIFS($J$2:$J$1979,anno_2,A99-1,$C$2:$C$1979,B99) -> 0.041473195 | L99: =SUMIFS($J$2:$J$1979,anno_2,A99-2,$D$2:$D$1979,B99) -> 0.033072662 | M99: {=SUM(IF(NOT(ISERR(J99:L99)),J99:L99*$J$2:$L$2))/SUM(IF(NOT(ISERR(J99:L99)),$J$2:$L$2))} -> 0.039383726 | N99: =((300-VLOOKUP(A99,anni!$A$1:$O$32,8,0))*(M99-I99/300)+I99)/300*(300-VLOOKUP(A99,anni!$A$1:$O$32,7,0)) -> 11.039965 | O99: =MAX(1,N99) -> 11.039965 | P99: =INT(MAX(1,O99)+1-VLOOKUP(A99,anni!$A$1:$O$32,5,0)) -> 11 | Q99: {=SUM(IF(anno=A99,IF(distretto=E99,concorrenti!$T$3:$T$5991)))} -> 0 | R99: =P99+Q99 -> 11 | S99: =R99-F99 -> 1 | T99: =1+INT($N99/VLOOKUP($A99,anni!$A$1:$J$35,10,0))+$Q99 -> 10 | U99: =T99-$F99 -> 0 | V99: 1 | X99: 48 | Y99: 47 | Z99: =-(Y99-X99)/SQRT(AVERAGE(X99:Y99)) -> 0.14509525
A100: 2015 | B100: =VLOOKUP($E100,accorpamenti!$A$2:$X$104,$A100-B$2,0) -> Torino | C100: =VLOOKUP($E100,accorpamenti!$A$2:$X$104,$A100-C$2,0) -> Torino | D100: =VLOOKUP($E100,accorpamenti!$A$2:$X$104,$A100-D$2,0) -> Torino | E100: Torino | F100: {=SUM(IF(anno=A100,IF(distretto=E100,1)))} -> 11 | G100: {=SUM(IF(anno=A100,IF(distretto=E100,IF(punti=-1,1))))} -> 0 | H100: {=SUM(IF(anno=A100,IF(distretto=E100,punti)))+G100} -> 188 | I100: 13.232254 | J100: =H100/VLOOKUP(A100,anni!$A$1:$O$32,4,0) -> 0.035124667 | K100: =SUMIFS($J$2:$J$1979,anno_2,A100-1,$C$2:$C$1979,B100) -> 0.035774588 | L100: =SUMIFS($J$2:$J$1979,anno_2,A100-2,$D$2:$D$1979,B100) -> 0.041978929 | M100: {=SUM(IF(NOT(ISERR(J100:L100)),J100:L100*$J$2:$L$2))/SUM(IF(NOT(ISERR(J100:L100)),$J$2:$L$2))} -> 0.036483685 | N100: =((300-VLOOKUP(A100,anni!$A$1:$O$32,8,0))*(M100-I100/300)+I100)/300*(300-VLOOKUP(A100,anni!$A$1:$O$32,7,0)) -> 10.873245 | O100: =MAX(1,N100) -> 10.873245 | P100: =INT(MAX(1,O100)+1-VLOOKUP(A100,anni!$A$1:$O$32,5,0)) -> 11 | Q100: {=SUM(IF(anno=A100,IF(distretto=E100,concorrenti!$T$3:$T$5991)))} -> 0 | R100: =P100+Q100 -> 11 | S100: =R100-F100 -> 0 | T100: =1+INT($N100/VLOOKUP($A100,anni!$A$1:$J$35,10,0))+$Q100 -> 10 | U100: =T100-$F100 -> -1 | X100: 64 | Y100: 65 | Z100: =-(Y100-X100)/SQRT(AVERAGE(X100:Y100)) -> -0.12451456
A101: 2015 | B101: =VLOOKUP($E101,accorpamenti!$A$2:$X$104,$A101-B$2,0) -> Treviso | C101: =VLOOKUP($E101,accorpamenti!$A$2:$X$104,$A101-C$2,0) -> Treviso | D101: =VLOOKUP($E101,accorpamenti!$A$2:$X$104,$A101-D$2,0) -> Treviso | E101: Treviso | F101: {=SUM(IF(anno=A101,IF(distretto=E101,1)))} -> 8 | G101: {=SUM(IF(anno=A101,IF(distretto=E101,IF(punti=-1,1))))} -> 0 | H101: {=SUM(IF(anno=A101,IF(distretto=E101,punti)))+G101} -> 143.4 | I101: 4.3418332 | J101: =H101/VLOOKUP(A101,anni!$A$1:$O$32,4,0) -> 0.0267919 | K101: =SUMIFS($J$2:$J$1979,anno_2,A101-1,$C$2:$C$1979,B101) -> 0.040101309 | L101: =SUMIFS($J$2:$J$1979,anno_2,A101-2,$D$2:$D$1979,B101) -> 0.030085804 | M101: {=SUM(IF(NOT(ISERR(J101:L101)),J101:L101*$J$2:$L$2))/SUM(IF(NOT(ISERR(J101:L101)),$J$2:$L$2))} -> 0.031777354 | N101: =((300-VLOOKUP(A101,anni!$A$1:$O$32,8,0))*(M101-I101/300)+I101)/300*(300-VLOOKUP(A101,anni!$A$1:$O$32,7,0)) -> 8.3212582 | O101: =MAX(1,N101) -> 8.3212582 | P101: =INT(MAX(1,O101)+1-VLOOKUP(A101,anni!$A$1:$O$32,5,0)) -> 8 | Q101: {=SUM(IF(anno=A101,IF(distretto=E101,concorrenti!$T$3:$T$5991)))} -> 0 | R101: =P101+Q101 -> 8 | S101: =R101-F101 -> 0 | T101: =1+INT($N101/VLOOKUP($A101,anni!$A$1:$J$35,10,0))+$Q101 -> 8 | U101: =T101-$F101 -> 0 | X101: 21 | Y101: 22 | Z101: =-(Y101-X101)/SQRT(AVERAGE(X101:Y101)) -> -0.21566555
A102: 2015 | B102: =VLOOKUP($E102,accorpamenti!$A$2:$X$104,$A102-B$2,0) -> Bari | C102: =VLOOKUP($E102,accorpamenti!$A$2:$X$104,$A102-C$2,0) -> Bari | D102: =VLOOKUP($E102,accorpamenti!$A$2:$X$104,$A102-D$2,0) -> Bari | E102: Bari | F102: {=SUM(IF(anno=A102,IF(distretto=E102,1)))} -> 8 | G102: {=SUM(IF(anno=A102,IF(distretto=E102,IF(punti=-1,1))))} -> 0 | H102: {=SUM(IF(anno=A102,IF(distretto=E102,punti)))+G102} -> 106 | I102: 8.8904204 | J102: =H102/VLOOKUP(A102,anni!$A$1:$O$32,4,0) -> 0.019804334 | K102: =SUMIFS($J$2:$J$1979,anno_2,A102-1,$C$2:$C$1979,B102) -> 0.024852258 | L102: =SUMIFS($J$2:$J$1979,anno_2,A102-2,$D$2:$D$1979,B102) -> 0.037743022 | M102: {=SUM(IF(NOT(ISERR(J102:L102)),J102:L102*$J$2:$L$2))/SUM(IF(NOT(ISERR(J102:L102)),$J$2:$L$2))} -> 0.024476757 | N102: =((300-VLOOKUP(A102,anni!$A$1:$O$32,8,0))*(M102-I102/300)+I102)/300*(300-VLOOKUP(A102,anni!$A$1:$O$32,7,0)) -> 7.2968888 | O102: =MAX(1,N102) -> 7.2968888 | P102: =INT(MAX(1,O102)+1-VLOOKUP(A102,anni!$A$1:$O$32,5,0)) -> 7 | Q102: {=SUM(IF(anno=A102,IF(distretto=E102,concorrenti!$T$3:$T$5991)))} -> 1 | R102: =P102+Q102 -> 8 | S102: =R102-F102 -> 0 | T102: =1+INT($N102/VLOOKUP($A102,anni!$A$1:$J$35,10,0))+$Q102 -> 8 | U102: =T102-$F102 -> 0 | X102: 43 | Y102: 46 | Z102: =-(Y102-X102)/SQRT(AVERAGE(X102:Y102)) -> -0.44971901
A103: 2015 | B103: =VLOOKUP($E103,accorpamenti!$A$2:$X$104,$A103-B$2,0) -> Udine | C103: =VLOOKUP($E103,accorpamenti!$A$2:$X$104,$A103-C$2,0) -> Udine | D103: =VLOOKUP($E103,accorpamenti!$A$2:$X$104,$A103-D$2,0) -> Udine | E103: Udine | F103: {=SUM(IF(anno=A103,IF(distretto=E103,1)))} -> 7 | G103: {=SUM(IF(anno=A103,IF(distretto=E103,IF(punti=-1,1))))} -> 0 | H103: {=SUM(IF(anno=A103,IF(distretto=E103,punti)))+G103} -> 166 | I103: 4.1350793 | J103: =H103/VLOOKUP(A103,anni!$A$1:$O$32,4,0) -> 0.031014334 | K103: =SUMIFS($J$2:$J$1979,anno_2,A103-1,$C$2:$C$1979,B103) -> 0.028756859 | L103: =SUMIFS($J$2:$J$1979,anno_2,A103-2,$D$2:$D$1979,B103) -> 0.036711198 | M103: {=SUM(IF(NOT(ISERR(J103:L103)),J103:L103*$J$2:$L$2))/SUM(IF(NOT(ISERR(J103:L103)),$J$2:$L$2))} -> 0.03121132 | N103: =((300-VLOOKUP(A103,anni!$A$1:$O$32,8,0))*(M103-I103/300)+I103)/300*(300-VLOOKUP(A103,anni!$A$1:$O$32,7,0)) -> 8.1523294 | O103: =MAX(1,N103) -> 8.1523294 | P103: =INT(MAX(1,O103)+1-VLOOKUP(A103,anni!$A$1:$O$32,5,0)) -> 8 | Q103: {=SUM(IF(anno=A103,IF(distretto=E103,concorrenti!$T$3:$T$5991)))} -> 0 | R103: =P103+Q103 -> 8 | S103: =R103-F103 -> 1 | T103: =1+INT($N103/VLOOKUP($A103,anni!$A$1:$J$35,10,0))+$Q103 -> 7 | U103: =T103-$F103 -> 0 | X103: 20 | Y103: 17 | Z103: =-(Y103-X103)/SQRT(AVERAGE(X103:Y103)) -> 0.69748583
A104: 2015 | B104: =VLOOKUP($E104,accorpamenti!$A$2:$X$104,$A104-B$2,0) -> Vicenza | C104: =VLOOKUP($E104,accorpamenti!$A$2:$X$104,$A104-C$2,0) -> Vicenza | D104: =VLOOKUP($E104,accorpamenti!$A$2:$X$104,$A104-D$2,0) -> Vicenza | E104: Vicenza | F104: {=SUM(IF(anno=A104,IF(distretto=E104,1)))} -> 7 | G104: {=SUM(IF(anno=A104,IF(distretto=E104,IF(punti=-1,1))))} -> 0 | H104: {=SUM(IF(anno=A104,IF(distretto=E104,punti)))+G104} -> 168.6 | I104: 4.5485872 | J104: =H104/VLOOKUP(A104,anni!$A$1:$O$32,4,0) -> 0.0315001 | K104: =SUMIFS($J$2:$J$1979,anno_2,A104-1,$C$2:$C$1979,B104) -> 0.028123681 | L104: =SUMIFS($J$2:$J$1979,anno_2,A104-2,$D$2:$D$1979,B104) -> 0.034701857 | M104: {=SUM(IF(NOT(ISERR(J104:L104)),J104:L104*$J$2:$L$2))/SUM(IF(NOT(ISERR(J104:L104)),$J$2:$L$2))} -> 0.030908253 | N104: =((300-VLOOKUP(A104,anni!$A$1:$O$32,8,0))*(M104-I104/300)+I104)/300*(300-VLOOKUP(A104,anni!$A$1:$O$32,7,0)) -> 8.1457548 | O104: =MAX(1,N104) -> 8.1457548 | P104: =INT(MAX(1,O104)+1-VLOOKUP(A104,anni!$A$1:$O$32,5,0)) -> 8 | Q104: {=SUM(IF(anno=A104,IF(distretto=E104,concorrenti!$T$3:$T$5991)))} -> 0 | R104: =P104+Q104 -> 8 | S104: =R104-F104 -> 1 | T104: =1+INT($N104/VLOOKUP($A104,anni!$A$1:$J$35,10,0))+$Q104 -> 7 | U104: =T104-$F104 -> 0 | X104: 22 | Y104: 26 | Z104: =-(Y104-X104)/SQRT(AVERAGE(X104:Y104)) -> -0.81649658
A105: 2015 | B105: =VLOOKUP($E105,accorpamenti!$A$2:$X$104,$A105-B$2,0) -> Reggio Emilia | C105: =VLOOKUP($E105,accorpamenti!$A$2:$X$104,$A105-C$2,0) -> Reggio Emilia | D105: =VLOOKUP($E105,accorpamenti!$A$2:$X$104,$A105-D$2,0) -> Reggio Emilia | E105: Reggio Emilia | F105: {=SUM(IF(anno=A105,IF(distretto=E105,1)))} -> 6 | G105: {=SUM(IF(anno=A105,IF(distretto=E105,IF(punti=-1,1))))} -> 0 | H105: {=SUM(IF(anno=A105,IF(distretto=E105,punti)))+G105} -> 85.2 | I105: 2.8945555 | J105: =H105/VLOOKUP(A105,anni!$A$1:$O$32,4,0) -> 0.0159182 | K105: =SUMIFS($J$2:$J$1979,anno_2,A105-1,$C$2:$C$1979,B105) -> 0.031131279 | L105: =SUMIFS($J$2:$J$1979,anno_2,A105-2,$D$2:$D$1979,B105) -> 0.025143912 | M105: {=SUM(IF(NOT(ISERR(J105:L105)),J105:L105*$J$2:$L$2))/SUM(IF(NOT(ISERR(J105:L105)),$J$2:$L$2))} -> 0.022526845 | N105: =((300-VLOOKUP(A105,anni!$A$1:$O$32,8,0))*(M105-I105/300)+I105)/300*(300-VLOOKUP(A105,anni!$A$1:$O$32,7,0)) -> 5.8695717 | O105: =MAX(1,N105) -> 5.8695717 | P105: =INT(MAX(1,O105)+1-VLOOKUP(A105,anni!$A$1:$O$32,5,0)) -> 6 | Q105: {=SUM(IF(anno=A105,IF(distretto=E105,concorrenti!$T$3:$T$5991)))} -> 1 | R105: =P105+Q105 -> 7 | S105: =R105-F105 -> 1 | T105: =1+INT($N105/VLOOKUP($A105,anni!$A$1:$J$35,10,0))+$Q105 -> 7 | U105: =T105-$F105 -> 1 | X105: 14 | Y105: 14 | Z105: =-(Y105-X105)/SQRT(AVERAGE(X105:Y105)) -> 0
A106: 2015 | B106: =VLOOKUP($E106,accorpamenti!$A$2:$X$104,$A106-B$2,0) -> Trento | C106: =VLOOKUP($E106,accorpamenti!$A$2:$X$104,$A106-C$2,0) -> Trento | D106: =VLOOKUP($E106,accorpamenti!$A$2:$X$104,$A106-D$2,0) -> Trento | E106: Trento | F106: {=SUM(IF(anno=A106,IF(distretto=E106,1)))} -> 6 | G106: {=SUM(IF(anno=A106,IF(distretto=E106,IF(punti=-1,1))))} -> 0 | H106: {=SUM(IF(anno=A106,IF(distretto=E106,punti)))+G106} -> 114.6 | I106: 3.9283253 | J106: =H106/VLOOKUP(A106,anni!$A$1:$O$32,4,0) -> 0.0214111 | K106: =SUMIFS($J$2:$J$1979,anno_2,A106-1,$C$2:$C$1979,B106) -> 0.022266779 | L106: =SUMIFS($J$2:$J$1979,anno_2,A106-2,$D$2:$D$1979,B106) -> 0.027207559 | M106: {=SUM(IF(NOT(ISERR(J106:L106)),J106:L106*$J$2:$L$2))/SUM(IF(NOT(ISERR(J106:L106)),$J$2:$L$2))} -> 0.022662403 | N106: =((300-VLOOKUP(A106,anni!$A$1:$O$32,8,0))*(M106-I106/300)+I106)/300*(300-VLOOKUP(A106,anni!$A$1:$O$32,7,0)) -> 6.0675088 | O106: =MAX(1,N106) -> 6.0675088 | P106: =INT(MAX(1,O106)+1-VLOOKUP(A106,anni!$A$1:$O$32,5,0)) -> 6 | Q106: {=SUM(IF(anno=A106,IF(distretto=E106,concorrenti!$T$3:$T$5991)))} -> 0 | R106: =P106+Q106 -> 6 | S106: =R106-F106 -> 0 | T106: =1+INT($N106/VLOOKUP($A106,anni!$A$1:$J$35,10,0))+$Q106 -> 6 | U106: =T106-$F106 -> 0 | X106: 19 | Y106: 18 | Z106: =-(Y106-X106)/SQRT(AVERAGE(X106:Y106)) -> 0.23249528
A107: 2015 | B107: =VLOOKUP($E107,accorpamenti!$A$2:$X$104,$A107-B$2,0) -> Massa Carrara | C107: =VLOOKUP($E107,accorpamenti!$A$2:$X$104,$A107-C$2,0) -> Massa Carrara | D107: =VLOOKUP($E107,accorpamenti!$A$2:$X$104,$A107-D$2,0) -> Massa Carrara | E107: Massa Carrara | F107: {=SUM(IF(anno=A107,IF(distretto=E107,1)))} -> 6 | G107: {=SUM(IF(anno=A107,IF(distretto=E107,IF(punti=-1,1))))} -> 0 | H107: {=SUM(IF(anno=A107,IF(distretto=E107,punti)))+G107} -> 134.2 | I107: 1.6540317 | J107: =H107/VLOOKUP(A107,anni!$A$1:$O$32,4,0) -> 0.025073034 | K107: =SUMIFS($J$2:$J$1979,anno_2,A107-1,$C$2:$C$1979,B107) -> 0.021791895 | L107: =SUMIFS($J$2:$J$1979,anno_2,A107-2,$D$2:$D$1979,B107) -> 0.02237428 | M107: {=SUM(IF(NOT(ISERR(J107:L107)),J107:L107*$J$2:$L$2))/SUM(IF(NOT(ISERR(J107:L107)),$J$2:$L$2))} -> 0.023529529 | N107: =((300-VLOOKUP(A107,anni!$A$1:$O$32,8,0))*(M107-I107/300)+I107)/300*(300-VLOOKUP(A107,anni!$A$1:$O$32,7,0)) -> 5.911732 | O107: =MAX(1,N107) -> 5.911732 | P107: =INT(MAX(1,O107)+1-VLOOKUP(A107,anni!$A$1:$O$32,5,0)) -> 6 | Q107: {=SUM(IF(anno=A107,IF(distretto=E107,concorrenti!$T$3:$T$5991)))} -> 0 | R107: =P107+Q107 -> 6 | S107: =R107-F107 -> 0 | T107: =1+INT($N107/VLOOKUP($A107,anni!$A$1:$J$35,10,0))+$Q107 -> 6 | U107: =T107-$F107 -> 0 | X107: 8 | Y107: 8 | Z107: =-(Y107-X107)/SQRT(AVERAGE(X107:Y107)) -> 0
A108: 2015 | B108: =VLOOKUP($E108,accorpamenti!$A$2:$X$104,$A108-B$2,0) -> Bergamo | C108: =VLOOKUP($E108,accorpamenti!$A$2:$X$104,$A108-C$2,0) -> Bergamo | D108: =VLOOKUP($E108,accorpamenti!$A$2:$X$104,$A108-D$2,0) -> Bergamo | E108: Bergamo | F108: {=SUM(IF(anno=A108,IF(distretto=E108,1)))} -> 6 | G108: {=SUM(IF(anno=A108,IF(distretto=E108,IF(punti=-1,1))))} -> 0 | H108: {=SUM(IF(anno=A108,IF(distretto=E108,punti)))+G108} -> 95.4 | I108: 3.3080634 | J108: =H108/VLOOKUP(A108,anni!$A$1:$O$32,4,0) -> 0.0178239 | K108: =SUMIFS($J$2:$J$1979,anno_2,A108-1,$C$2:$C$1979,B108) -> 0.020156184 | L108: =SUMIFS($J$2:$J$1979,anno_2,A108-2,$D$2:$D$1979,B108) -> 0.028510916 | M108: {=SUM(IF(NOT(ISERR(J108:L108)),J108:L108*$J$2:$L$2))/SUM(IF(NOT(ISERR(J108:L108)),$J$2:$L$2))} -> 0.020382497 | N108: =((300-VLOOKUP(A108,anni!$A$1:$O$32,8,0))*(M108-I108/300)+I108)/300*(300-VLOOKUP(A108,anni!$A$1:$O$32,7,0)) -> 5.4210895 | O108: =MAX(1,N108) -> 5.4210895 | P108: =INT(MAX(1,O108)+1-VLOOKUP(A108,anni!$A$1:$O$32,5,0)) -> 5 | Q108: {=SUM(IF(anno=A108,IF(distretto=E108,concorrenti!$T$3:$T$5991)))} -> 0 | R108: =P108+Q108 -> 5 | S108: =R108-F108 -> -1 | T108: =1+INT($N108/VLOOKUP($A108,anni!$A$1:$J$35,10,0))+$Q108 -> 5 | U108: =T108-$F108 -> -1 | X108: 16 | Y108: 16 | Z108: =-(Y108-X108)/SQRT(AVERAGE(X108:Y108)) -> 0
A109: 2015 | B109: =VLOOKUP($E109,accorpamenti!$A$2:$X$104,$A109-B$2,0) -> Lecce | C109: =VLOOKUP($E109,accorpamenti!$A$2:$X$104,$A109-C$2,0) -> Lecce | D109: =VLOOKUP($E109,accorpamenti!$A$2:$X$104,$A109-D$2,0) -> Lecce | E109: Lecce | F109: {=SUM(IF(anno=A109,IF(distretto=E109,1)))} -> 6 | G109: {=SUM(IF(anno=A109,IF(distretto=E109,IF(punti=-1,1))))} -> 0 | H109: {=SUM(IF(anno=A109,IF(distretto=E109,punti)))+G109} -> 119 | I109: 4.7553411 | J109: =H109/VLOOKUP(A109,anni!$A$1:$O$32,4,0) -> 0.022233167 | K109: =SUMIFS($J$2:$J$1979,anno_2,A109-1,$C$2:$C$1979,B109) -> 0.013718869 | L109: =SUMIFS($J$2:$J$1979,anno_2,A109-2,$D$2:$D$1979,B109) -> 0.021613989 | M109: {=SUM(IF(NOT(ISERR(J109:L109)),J109:L109*$J$2:$L$2))/SUM(IF(NOT(ISERR(J109:L109)),$J$2:$L$2))} -> 0.019291871 | N109: =((300-VLOOKUP(A109,anni!$A$1:$O$32,8,0))*(M109-I109/300)+I109)/300*(300-VLOOKUP(A109,anni!$A$1:$O$32,7,0)) -> 5.3909037 | O109: =MAX(1,N109) -> 5.3909037 | P109: =INT(MAX(1,O109)+1-VLOOKUP(A109,anni!$A$1:$O$32,5,0)) -> 5 | Q109: {=SUM(IF(anno=A109,IF(distretto=E109,concorrenti!$T$3:$T$5991)))} -> 0 | R109: =P109+Q109 -> 5 | S109: =R109-F109 -> -1 | T109: =1+INT($N109/VLOOKUP($A109,anni!$A$1:$J$35,10,0))+$Q109 -> 5 | U109: =T109-$F109 -> -1 | X109: 23 | Y109: 23 | Z109: =-(Y109-X109)/SQRT(AVERAGE(X109:Y109)) -> 0
A110: 2015 | B110: =VLOOKUP($E110,accorpamenti!$A$2:$X$104,$A110-B$2,0) -> Firenze | C110: =VLOOKUP($E110,accorpamenti!$A$2:$X$104,$A110-C$2,0) -> Firenze | D110: =VLOOKUP($E110,accorpamenti!$A$2:$X$104,$A110-D$2,0) -> Firenze | E110: Firenze | F110: {=SUM(IF(anno=A110,IF(distretto=E110,1)))} -> 5 | G110: {=SUM(IF(anno=A110,IF(distretto=E110,IF(punti=-1,1))))} -> 0 | H110: {=SUM(IF(anno=A110,IF(distretto=E110,punti)))+G110} -> 107.4 | I110: 6.4093728 | J110: =H110/VLOOKUP(A110,anni!$A$1:$O$32,4,0) -> 0.0200659 | K110: =SUMIFS($J$2:$J$1979,anno_2,A110-1,$C$2:$C$1979,B110) -> 0.017043056 | L110: =SUMIFS($J$2:$J$1979,anno_2,A110-2,$D$2:$D$1979,B110) -> 0.014065385 | M110: {=SUM(IF(NOT(ISERR(J110:L110)),J110:L110*$J$2:$L$2))/SUM(IF(NOT(ISERR(J110:L110)),$J$2:$L$2))} -> 0.0180582 | N110: =((300-VLOOKUP(A110,anni!$A$1:$O$32,8,0))*(M110-I110/300)+I110)/300*(300-VLOOKUP(A110,anni!$A$1:$O$32,7,0)) -> 5.3594676 | O110: =MAX(1,N110) -> 5.3594676 | P110: =INT(MAX(1,O110)+1-VLOOKUP(A110,anni!$A$1:$O$32,5,0)) -> 5 | Q110: {=SUM(IF(anno=A110,IF(distretto=E110,concorrenti!$T$3:$T$5991)))} -> 0 | R110: =P110+Q110 -> 5 | S110: =R110-F110 -> 0 | T110: =1+INT($N110/VLOOKUP($A110,anni!$A$1:$J$35,10,0))+$Q110 -> 5 | U110: =T110-$F110 -> 0 | X110: 31 | Y110: 30 | Z110: =-(Y110-X110)/SQRT(AVERAGE(X110:Y110)) -> 0.18107149
A111: 2015 | B111: =VLOOKUP($E111,accorpamenti!$A$2:$X$104,$A111-B$2,0) -> Genova | C111: =VLOOKUP($E111,accorpamenti!$A$2:$X$104,$A111-C$2,0) -> Genova | D111: =VLOOKUP($E111,accorpamenti!$A$2:$X$104,$A111-D$2,0) -> Genova | E111: Genova | F111: {=SUM(IF(anno=A111,IF(distretto=E111,1)))} -> 6 | G111: {=SUM(IF(anno=A111,IF(distretto=E111,IF(punti=-1,1))))} -> 0 | H111: {=SUM(IF(anno=A111,IF(distretto=E111,punti)))+G111} -> 86.8 | I111: 4.5485872 | J111: =H111/VLOOKUP(A111,anni!$A$1:$O$32,4,0) -> 0.016217134 | K111: =SUMIFS($J$2:$J$1979,anno_2,A111-1,$C$2:$C$1979,B111) -> 0.017729 | L111: =SUMIFS($J$2:$J$1979,anno_2,A111-2,$D$2:$D$1979,B111) -> 0.027479092 | M111: {=SUM(IF(NOT(ISERR(J111:L111)),J111:L111*$J$2:$L$2))/SUM(IF(NOT(ISERR(J111:L111)),$J$2:$L$2))} -> 0.018598082 | N111: =((300-VLOOKUP(A111,anni!$A$1:$O$32,8,0))*(M111-I111/300)+I111)/300*(300-VLOOKUP(A111,anni!$A$1:$O$32,7,0)) -> 5.1913136 | O111: =MAX(1,N111) -> 5.1913136 | P111: =INT(MAX(1,O111)+1-VLOOKUP(A111,anni!$A$1:$O$32,5,0)) -> 5 | Q111: {=SUM(IF(anno=A111,IF(distretto=E111,concorrenti!$T$3:$T$5991)))} -> 0 | R111: =P111+Q111 -> 5 | S111: =R111-F111 -> -1 | T111: =1+INT($N111/VLOOKUP($A111,anni!$A$1:$J$35,10,0))+$Q111 -> 5 | U111: =T111-$F111 -> -1 | X111: 22 | Y111: 22 | Z111: =-(Y111-X111)/SQRT(AVERAGE(X111:Y111)) -> 0
... A127: 2015 | B127: =VLOOKUP($E127,accorpamenti!$A$2:$X$104,$A127-B$2,0) -> Pisa | C127: =VLOOKUP($E127,accorpamenti!$A$2:$X$104,$A127-C$2,0) -> Pisa | D127: =VLOOKUP($E127,accorpamenti!$A$2:$X$104,$A127-D$2,0) -> Pisa | E127: Pisa | F127: {=SUM(IF(anno=A127,IF(distretto=E127,1)))} -> 3 | G127: {=SUM(IF(anno=A127,IF(distretto=E127,IF(punti=-1,1))))} -> 0 | H127: {=SUM(IF(anno=A127,IF(distretto=E127,punti)))+G127} -> 63.4 | I127: 2.2742936 | J127: =H127/VLOOKUP(A127,anni!$A$1:$O$32,4,0) -> 0.011845234 | K127: =SUMIFS($J$2:$J$1979,anno_2,A127-1,$C$2:$C$1979,B127) -> 0.011344449 | L127: =SUMIFS($J$2:$J$1979,anno_2,A127-2,$D$2:$D$1979,B127) -> 0.010209623 | M127: {=SUM(IF(NOT(ISERR(J127:L127)),J127:L127*$J$2:$L$2))/SUM(IF(NOT(ISERR(J127:L127)),$J$2:$L$2))} -> 0.011405704 | N127: =((300-VLOOKUP(A127,anni!$A$1:$O$32,8,0))*(M127-I127/300)+I127)/300*(300-VLOOKUP(A127,anni!$A$1:$O$32,7,0)) -> 3.1012559 | O127: =MAX(1,N127) -> 3.1012559 | P127: =INT(MAX(1,O127)+1-VLOOKUP(A127,anni!$A$1:$O$32,5,0)) -> 3 | Q127: {=SUM(IF(anno=A127,IF(distretto=E127,concorrenti!$T$3:$T$5991)))} -> 0 | R127: =P127+Q127 -> 3 | S127: =R127-F127 -> 0 | T127: =1+INT($N127/VLOOKUP($A127,anni!$A$1:$J$35,10,0))+$Q127 -> 3 | U127: =T127-$F127 -> 0 | X127: 11 | Y127: 12 | Z127: =-(Y127-X127)/SQRT(AVERAGE(X127:Y127)) -> -0.29488391
A128: 2015 | B128: =VLOOKUP($E128,accorpamenti!$A$2:$X$104,$A128-B$2,0) -> Biella | C128: =VLOOKUP($E128,accorpamenti!$A$2:$X$104,$A128-C$2,0) -> Biella | D128: =VLOOKUP($E128,accorpamenti!$A$2:$X$104,$A128-D$2,0) -> Biella | E128: Biella | F128: {=SUM(IF(anno=A128,IF(distretto=E128,1)))} -> 5 | G128: {=SUM(IF(anno=A128,IF(distretto=E128,IF(punti=-1,1))))} -> 0 | H128: {=SUM(IF(anno=A128,IF(distretto=E128,punti)))+G128} -> 57 | I128: 2.0675396 | J128: =H128/VLOOKUP(A128,anni!$A$1:$O$32,4,0) -> 0.0106495 | K128: =SUMIFS($J$2:$J$1979,anno_2,A128-1,$C$2:$C$1979,B128) -> 0.011344449 | L128: =SUMIFS($J$2:$J$1979,anno_2,A128-2,$D$2:$D$1979,B128) -> 0.013630933 | M128: {=SUM(IF(NOT(ISERR(J128:L128)),J128:L128*$J$2:$L$2))/SUM(IF(NOT(ISERR(J128:L128)),$J$2:$L$2))} -> 0.011378055 | N128: =((300-VLOOKUP(A128,anni!$A$1:$O$32,8,0))*(M128-I128/300)+I128)/300*(300-VLOOKUP(A128,anni!$A$1:$O$32,7,0)) -> 3.0615396 | O128: =MAX(1,N128) -> 3.0615396 | P128: =INT(MAX(1,O128)+1-VLOOKUP(A128,anni!$A$1:$O$32,5,0)) -> 3 | Q128: {=SUM(IF(anno=A128,IF(distretto=E128,concorrenti!$T$3:$T$5991)))} -> 0 | R128: =P128+Q128 -> 3 | S128: =R128-F128 -> -2 | T128: =1+INT($N128/VLOOKUP($A128,anni!$A$1:$J$35,10,0))+$Q128 -> 3 | U128: =T128-$F128 -> -2 | V128: 1 | X128: 10 | Y128: 10 | Z128: =-(Y128-X128)/SQRT(AVERAGE(X128:Y128)) -> 0
A129: 2015 | B129: =VLOOKUP($E129,accorpamenti!$A$2:$X$104,$A129-B$2,0) -> Forlì Cesena | C129: =VLOOKUP($E129,accorpamenti!$A$2:$X$104,$A129-C$2,0) -> Forlì Cesena | D129: =VLOOKUP($E129,accorpamenti!$A$2:$X$104,$A129-D$2,0) -> Forlì Cesena | E129: Forlì Cesena | F129: {=SUM(IF(anno=A129,IF(distretto=E129,1)))} -> 3 | G129: {=SUM(IF(anno=A129,IF(distretto=E129,IF(punti=-1,1))))} -> 0 | H129: {=SUM(IF(anno=A129,IF(distretto=E129,punti)))+G129} -> 49.8 | I129: 3.1013094 | J129: =H129/VLOOKUP(A129,anni!$A$1:$O$32,4,0) -> 0.0093043001 | K129: =SUMIFS($J$2:$J$1979,anno_2,A129-1,$C$2:$C$1979,B129) -> 0.0061734909 | L129: =SUMIFS($J$2:$J$1979,anno_2,A129-2,$D$2:$D$1979,B129) -> 0.014934289 | M129: {=SUM(IF(NOT(ISERR(J129:L129)),J129:L129*$J$2:$L$2))/SUM(IF(NOT(ISERR(J129:L129)),$J$2:$L$2))} -> 0.0091990286 | N129: =((300-VLOOKUP(A129,anni!$A$1:$O$32,8,0))*(M129-I129/300)+I129)/300*(300-VLOOKUP(A129,anni!$A$1:$O$32,7,0)) -> 2.7039764 | O129: =MAX(1,N129) -> 2.7039764 | P129: =INT(MAX(1,O129)+1-VLOOKUP(A129,anni!$A$1:$O$32,5,0)) -> 3 | Q129: {=SUM(IF(anno=A129,IF(distretto=E129,concorrenti!$T$3:$T$5991)))} -> 0 | R129: =P129+Q129 -> 3 | S129: =R129-F129 -> 0 | T129: =1+INT($N129/VLOOKUP($A129,anni!$A$1:$J$35,10,0))+$Q129 -> 3 | U129: =T129-$F129 -> 0 | X129: 15 | Y129: 14 | Z129: =-(Y129-X129)/SQRT(AVERAGE(X129:Y129)) -> 0.26261287
A130: 2015 | B130: =VLOOKUP($E130,accorpamenti!$A$2:$X$104,$A130-B$2,0) -> Pescara | C130: =VLOOKUP($E130,accorpamenti!$A$2:$X$104,$A130-C$2,0) -> Pescara | D130: =VLOOKUP($E130,accorpamenti!$A$2:$X$104,$A130-D$2,0) -> Pescara | E130: Pescara | F130: {=SUM(IF(anno=A130,IF(distretto=E130,1)))} -> 3 | G130: {=SUM(IF(anno=A130,IF(distretto=E130,IF(punti=-1,1))))} -> 0 | H130: {=SUM(IF(anno=A130,IF(distretto=E130,punti)))+G130} -> 51.6 | I130: 2.0675396 | J130: =H130/VLOOKUP(A130,anni!$A$1:$O$32,4,0) -> 0.0096406001 | K130: =SUMIFS($J$2:$J$1979,anno_2,A130-1,$C$2:$C$1979,B130) -> 0.0078092022 | L130: =SUMIFS($J$2:$J$1979,anno_2,A130-2,$D$2:$D$1979,B130) -> 0.010806995 | M130: {=SUM(IF(NOT(ISERR(J130:L130)),J130:L130*$J$2:$L$2))/SUM(IF(NOT(ISERR(J130:L130)),$J$2:$L$2))} -> 0.0092245333 | N130: =((300-VLOOKUP(A130,anni!$A$1:$O$32,8,0))*(M130-I130/300)+I130)/300*(300-VLOOKUP(A130,anni!$A$1:$O$32,7,0)) -> 2.5446943 | O130: =MAX(1,N130) -> 2.5446943 | P130: =INT(MAX(1,O130)+1-VLOOKUP(A130,anni!$A$1:$O$32,5,0)) -> 3 | Q130: {=SUM(IF(anno=A130,IF(distretto=E130,concorrenti!$T$3:$T$5991)))} -> 0 | R130: =P130+Q130 -> 3 | S130: =R130-F130 -> 0 | T130: =1+INT($N130/VLOOKUP($A130,anni!$A$1:$J$35,10,0))+$Q130 -> 3 | U130: =T130-$F130 -> 0 | X130: 10 | Y130: 8 | Z130: =-(Y130-X130)/SQRT(AVERAGE(X130:Y130)) -> 0.66666667
