Workbook
Name anno: concorrenti!$A$3:$A$5991
Name anno_2: province!$A$2:$A$1979
Name assenti_2: province!$G$2:$G$1979
Name distretto: concorrenti!$D$3:$D$5991
Name num_2: province!$F$2:$F$1979
Name provincia: concorrenti!$E$3:$E$5991
Name punti: concorrenti!$P$3:$P$5991
Name punti_2: province!$H$2:$H$1979
Name q_max: province!$N$2:$N$1979
Name qs_2: province!$I$2:$I$1979
Name unodue: anni!$O$1:$O$50

Sheet concorrenti
Q1: {=SUM(IF($A$2:$A$6126=$A1,IF(ISNUMBER($P$2:$P$6126),IF($P$2:$P$6126>$P1,1,0))))+1} -> 1 | R1: {=SUM(IF(#REF!=#REF!,1))} -> #REF! | U1: 1 | V1: 2 | W1: 3 | X1: 4 | Y1: 5
A2: Cesenatico | B2: ID | C2: Regione | D2: Distretto | E2: Provincia | F2: matricola | H2: Anno | I2: Biennio/Triennio | J2: ES.1 | K2: ES.2 | L2: ES.3 | M2: ES.4 | N2: ES.5 | O2: ES.6 | P2: TOT | Q2: pos | R2: partecipazioni | S2: punti | T2: scorp | U2: 1.8 | V2: 1.6 | W2: 1.4 | X2: 1.2 | Y2: 1
A4: 2016 | B4: 1 | D4: =VLOOKUP(E4,accorpamenti!$A$2:$X$104,A4-1995,0) -> Parma | E4: Parma | F4: 6838 | G4: 2016 | H4: 3 | J4: 7 | K4: 4 | L4: 0 | M4: 1 | N4: 1 | O4: 2 | P4: =IF(T4=0,IF(S4=-1,-1,S4*HLOOKUP(H4,$U$1:$Y$2,2,0)),0) -> 21 | R4: =COUNTIF($F$609:$F$5991,F4) -> 0 | S4: =SUM(J4:O4) -> 15 | T4: =IF(AND(H4<5,S4>=VLOOKUP(A4,anni!$A$1:$O$32,6,0)),1,0) -> 0
A5: 2016 | B5: 2 | D5: =VLOOKUP(E5,accorpamenti!$A$2:$X$104,A5-1995,0) -> Torino | E5: Torino | F5: 6760 | G5: 2016 | H5: 5 | J5: 2 | K5: 0 | L5: 0 | M5: 2 | N5: 0 | O5: 0 | P5: =IF(T5=0,IF(S5=-1,-1,S5*HLOOKUP(H5,$U$1:$Y$2,2,0)),0) -> 4 | R5: =COUNTIF($F$609:$F$5991,F5) -> 0 | S5: =SUM(J5:O5) -> 4 | T5: =IF(AND(H5<5,S5>=VLOOKUP(A5,anni!$A$1:$O$32,6,0)),1,0) -> 0
A6: 2016 | B6: 3 | D6: =VLOOKUP(E6,accorpamenti!$A$2:$X$104,A6-1995,0) -> Palermo | E6: Palermo | F6: 6872 | G6: 2016 | H6: 4 | J6: 4 | K6: 0 | L6: 2 | M6: 2 | N6: 0 | O6: 0 | P6: =IF(T6=0,IF(S6=-1,-1,S6*HLOOKUP(H6,$U$1:$Y$2,2,0)),0) -> 9.6 | R6: =COUNTIF($F$609:$F$5991,F6) -> 0 | S6: =SUM(J6:O6) -> 8 | T6: =IF(AND(H6<5,S6>=VLOOKUP(A6,anni!$A$1:$O$32,6,0)),1,0) -> 0
A7: 2016 | B7: 4 | D7: =VLOOKUP(E7,accorpamenti!$A$2:$X$104,A7-1995,0) -> Roma | E7: Roma | F7: 6873 | G7: 2016 | H7: 5 | J7: 7 | K7: 1 | L7: 0 | M7: 0 | N7: 0 | O7: 0 | P7: =IF(T7=0,IF(S7=-1,-1,S7*HLOOKUP(H7,$U$1:$Y$2,2,0)),0) -> 8 | R7: =COUNTIF($F$609:$F$5991,F7) -> 0 | S7: =SUM(J7:O7) -> 8 | T7: =IF(AND(H7<5,S7>=VLOOKUP(A7,anni!$A$1:$O$32,6,0)),1,0) -> 0
A8: 2016 | B8: 5 | D8: =VLOOKUP(E8,accorpamenti!$A$2:$X$104,A8-1995,0) -> Mantova | E8: Mantova | F8: 6618 | G8: 2016 | H8: 5 | J8: 7 | K8: 2 | L8: 7 | M8: 0 | N8: 0 | O8: 0 | P8: =IF(T8=0,IF(S8=-1,-1,S8*HLOOKUP(H8,$U$1:$Y$2,2,0)),0) -> 16 | R8: =COUNTIF($F$609:$F$5991,F8) -> 1 | S8: =SUM(J8:O8) -> 16 | T8: =IF(AND(H8<5,S8>=VLOOKUP(A8,anni!$A$1:$O$32,6,0)),1,0) -> 0
A9: 2016 | B9: 6 | D9: =VLOOKUP(E9,accorpamenti!$A$2:$X$104,A9-1995,0) -> Roma | E9: Roma | F9: 6874 | G9: 2016 | H9: 5 | J9: 1 | K9: 1 | L9: 2 | M9: 0 | N9: 1 | O9: 0 | P9: =IF(T9=0,IF(S9=-1,-1,S9*HLOOKUP(H9,$U$1:$Y$2,2,0)),0) -> 5 | R9: =COUNTIF($F$609:$F$5991,F9) -> 0 | S9: =SUM(J9:O9) -> 5 | T9: =IF(AND(H9<5,S9>=VLOOKUP(A9,anni!$A$1:$O$32,6,0)),1,0) -> 0
A10: 2016 | B10: 7 | D10: =VLOOKUP(E10,accorpamenti!$A$2:$X$104,A10-1995,0) -> Arezzo | E10: Arezzo | F10: 6875 | G10: 2016 | H10: 3 | J10: 7 | K10: 2 | L10: 6 | M10: 2 | N10: 0 | O10: 0 | P10: =IF(T10=0,IF(S10=-1,-1,S10*HLOOKUP(H10,$U$1:$Y$2,2,0)),0) -> 23.8 | R10: =COUNTIF($F$609:$F$5991,F10) -> 0 | S10: =SUM(J10:O10) -> 17 | T10: =IF(AND(H10<5,S10>=VLOOKUP(A10,anni!$A$1:$O$32,6,0)),1,0) -> 0
A11: 2016 | B11: 8 | D11: =VLOOKUP(E11,accorpamenti!$A$2:$X$104,A11-1995,0) -> Torino | E11: Torino | F11: 6761 | G11: 2016 | H11: 5 | J11: 0 | K11: 0 | L11: 0 | M11: 1 | N11: 0 | O11: 0 | P11: =IF(T11=0,IF(S11=-1,-1,S11*HLOOKUP(H11,$U$1:$Y$2,2,0)),0) -> 1 | R11: =COUNTIF($F$609:$F$5991,F11) -> 0 | S11: =SUM(J11:O11) -> 1 | T11: =IF(AND(H11<5,S11>=VLOOKUP(A11,anni!$A$1:$O$32,6,0)),1,0) -> 0
A12: 2016 | B12: 9 | D12: =VLOOKUP(E12,accorpamenti!$A$2:$X$104,A12-1995,0) -> Treviso | E12: Treviso | F12: 6876 | G12: 2016 | H12: 5 | J12: 0 | K12: 7 | L12: 0 | M12: 3 | N12: 1 | O12: 1 | P12: =IF(T12=0,IF(S12=-1,-1,S12*HLOOKUP(H12,$U$1:$Y$2,2,0)),0) -> 12 | R12: =COUNTIF($F$609:$F$5991,F12) -> 0 | S12: =SUM(J12:O12) -> 12 | T12: =IF(AND(H12<5,S12>=VLOOKUP(A12,anni!$A$1:$O$32,6,0)),1,0) -> 0
A13: 2016 | B13: 10 | D13: =VLOOKUP(E13,accorpamenti!$A$2:$X$104,A13-1995,0) -> Terni | E13: Terni | F13: 6877 | G13: 2016 | H13: 4 | J13: 7 | K13: 2 | L13: 0 | M13: 0 | N13: 1 | O13: 0 | P13: =IF(T13=0,IF(S13=-1,-1,S13*HLOOKUP(H13,$U$1:$Y$2,2,0)),0) -> 12 | R13: =COUNTIF($F$609:$F$5991,F13) -> 0 | S13: =SUM(J13:O13) -> 10 | T13: =IF(AND(H13<5,S13>=VLOOKUP(A13,anni!$A$1:$O$32,6,0)),1,0) -> 0
A14: 2016 | B14: 11 | D14: =VLOOKUP(E14,accorpamenti!$A$2:$X$104,A14-1995,0) -> Biella | E14: Biella | F14: 6878 | G14: 2016 | H14: 5 | J14: 0 | K14: 0 | L14: 0 | M14: 0 | N14: 0 | O14: 1 | P14: =IF(T14=0,IF(S14=-1,-1,S14*HLOOKUP(H14,$U$1:$Y$2,2,0)),0) -> 1 | R14: =COUNTIF($F$609:$F$5991,F14) -> 0 | S14: =SUM(J14:O14) -> 1 | T14: =IF(AND(H14<5,S14>=VLOOKUP(A14,anni!$A$1:$O$32,6,0)),1,0) -> 0
A15: 2016 | B15: 12 | D15: =VLOOKUP(E15,accorpamenti!$A$2:$X$104,A15-1995,0) -> Napoli | E15: Napoli | F15: 6762 | G15: 2016 | H15: 5 | J15: 7 | K15: 0 | L15: 7 | M15: 2 | N15: 0 | O15: 1 | P15: =IF(T15=0,IF(S15=-1,-1,S15*HLOOKUP(H15,$U$1:$Y$2,2,0)),0) -> 17 | R15: =COUNTIF($F$609:$F$5991,F15) -> 0 | S15: =SUM(J15:O15) -> 17 | T15: =IF(AND(H15<5,S15>=VLOOKUP(A15,anni!$A$1:$O$32,6,0)),1,0) -> 0
... A305: 2016 | B305: 302 | D305: =VLOOKUP(E305,accorpamenti!$A$2:$X$104,A305-1995,0) -> Oristano | E305: Sassari | F305: 7047 | G305: 2016 | H305: 5 | J305: 7 | K305: 0 | L305: 7 | M305: 2 | N305: 0 | O305: 0 | P305: =IF(T305=0,IF(S305=-1,-1,S305*HLOOKUP(H305,$U$1:$Y$2,2,0)),0) -> 16 | R305: =COUNTIF($F$609:$F$5991,F305) -> 0 | S305: =SUM(J305:O305) -> 16 | T305: =IF(AND(H305<5,S305>=VLOOKUP(A305,anni!$A$1:$O$32,6,0)),1,0) -> 0
A307: 2015 | B307: 1 | C307: Emilia Romagna | D307: =VLOOKUP(E307,accorpamenti!$A$2:$X$104,A307-1995,0) -> Parma | E307: Parma | F307: 6838 | G307: 2015 | H307: 2 | J307: 7 | K307: 5 | L307: 2 | M307: 4 | N307: 0 | O307: 0 | P307: =IF(T307=0,IF(S307=-1,-1,S307*HLOOKUP(H307,$U$1:$Y$2,2,0)),0) -> 28.8 | Q307: 105 | R307: =COUNTIF($F$609:$F$5991,F307) -> 0 | S307: =SUM(J307:O307) -> 18 | T307: =IF(AND(H307<5,S307>=VLOOKUP(A307,anni!$A$1:$O$32,6,0)),1,0) -> 0
A308: 2015 | B308: 2 | C308: Piemonte | D308: =VLOOKUP(E308,accorpamenti!$A$2:$X$104,A308-1995,0) -> Torino | E308: Torino | F308: 6760 | G308: 2015 | H308: 4 | J308: 7 | K308: 7 | L308: 0 | M308: 7 | N308: 0 | O308: 2 | P308: =IF(T308=0,IF(S308=-1,-1,S308*HLOOKUP(H308,$U$1:$Y$2,2,0)),0) -> 27.6 | Q308: 51 | R308: =COUNTIF($F$609:$F$5991,F308) -> 0 | S308: =SUM(J308:O308) -> 23 | T308: =IF(AND(H308<5,S308>=VLOOKUP(A308,anni!$A$1:$O$32,6,0)),1,0) -> 0
A309: 2015 | B309: 3 | C309: Puglia | D309: =VLOOKUP(E309,accorpamenti!$A$2:$X$104,A309-1995,0) -> Lecce | E309: Lecce | F309: 6300 | G309: 2015 | H309: 5 | J309: 7 | K309: 7 | L309: 7 | M309: 7 | N309: 0 | O309: 0 | P309: =IF(T309=0,IF(S309=-1,-1,S309*HLOOKUP(H309,$U$1:$Y$2,2,0)),0) -> 28 | Q309: 17 | R309: =COUNTIF($F$609:$F$5991,F309) -> 3 | S309: =SUM(J309:O309) -> 28 | T309: =IF(AND(H309<5,S309>=VLOOKUP(A309,anni!$A$1:$O$32,6,0)),1,0) -> 0
A310: 2015 | B310: 4 | C310: Lombardia | D310: =VLOOKUP(E310,accorpamenti!$A$2:$X$104,A310-1995,0) -> Mantova | E310: Mantova | F310: 6618 | G310: 2015 | H310: 4 | J310: 7 | K310: 5 | L310: 1 | M310: 7 | N310: 0 | O310: 0 | P310: =IF(T310=0,IF(S310=-1,-1,S310*HLOOKUP(H310,$U$1:$Y$2,2,0)),0) -> 24 | Q310: 82 | R310: =COUNTIF($F$609:$F$5991,F310) -> 1 | S310: =SUM(J310:O310) -> 20 | T310: =IF(AND(H310<5,S310>=VLOOKUP(A310,anni!$A$1:$O$32,6,0)),1,0) -> 0
A311: 2015 | B311: 5 | C311: Piemonte | D311: =VLOOKUP(E311,accorpamenti!$A$2:$X$104,A311-1995,0) -> Torino | E311: Torino | F311: 6761 | G311: 2015 | H311: 4 | J311: 7 | K311: 2 | L311: 1 | M311: 2 | N311: 0 | O311: 0 | P311: =IF(T311=0,IF(S311=-1,-1,S311*HLOOKUP(H311,$U$1:$Y$2,2,0)),0) -> 14.4 | Q311: 214 | R311: =COUNTIF($F$609:$F$5991,F311) -> 0 | S311: =SUM(J311:O311) -> 12 | T311: =IF(AND(H311<5,S311>=VLOOKUP(A311,anni!$A$1:$O$32,6,0)),1,0) -> 0
A312: 2015 | B312: 6 | C312: Lazio | D312: =VLOOKUP(E312,accorpamenti!$A$2:$X$104,A312-1995,0) -> Latina | E312: Latina | F312: 6691 | G312: 2015 | H312: 5 | J312: 4 | K312: 3 | L312: 2 | M312: 0 | N312: 0 | O312: 0 | P312: =IF(T312=0,IF(S312=-1,-1,S312*HLOOKUP(H312,$U$1:$Y$2,2,0)),0) -> 9 | Q312: 252 | R312: =COUNTIF($F$609:$F$5991,F312) -> 0 | S312: =SUM(J312:O312) -> 9 | T312: =IF(AND(H312<5,S312>=VLOOKUP(A312,anni!$A$1:$O$32,6,0)),1,0) -> 0
A313: 2015 | B313: 7 | C313: Campania | D313: =VLOOKUP(E313,accorpamenti!$A$2:$X$104,A313-1995,0) -> Napoli | E313: Napoli | F313: 6762 | G313: 2015 | H313: 4 | J313: 7 | K313: 6 | L313: 1 | M313: 1 | N313: 0 | O313: 0 | P313: =IF(T313=0,IF(S313=-1,-1,S313*HLOOKUP(H313,$U$1:$Y$2,2,0)),0) -> 18 | Q313: 151 | R313: =COUNTIF($F$609:$F$5991,F313) -> 0 | S313: =SUM(J313:O313) -> 15 | T313: =IF(AND(H313<5,S313>=VLOOKUP(A313,anni!$A$1:$O$32,6,0)),1,0) -> 0
A314: 2015 | B314: 8 | C314: Piemonte | D314: =VLOOKUP(E314,accorpamenti!$A$2:$X$104,A314-1995,0) -> Cuneo | E314: Cuneo | F314: 6442 | G314: 2015 | H314: 5 | J314: 7 | K314: 6 | L314: 3 | M314: 4 | N314: 0 | O314: 0 | P314: =IF(T314=0,IF(S314=-1,-1,S314*HLOOKUP(H314,$U$1:$Y$2,2,0)),0) -> 20 | Q314: 82 | R314: =COUNTIF($F$609:$F$5991,F314) -> 2 | S314: =SUM(J314:O314) -> 20 | T314: =IF(AND(H314<5,S314>=VLOOKUP(A314,anni!$A$1:$O$32,6,0)),1,0) -> 0
A315: 2015 | B315: 9 | C315: Emilia Romagna | D315: =VLOOKUP(E315,accorpamenti!$A$2:$X$104,A315-1995,0) -> Reggio Emilia | E315: Reggio Emilia | F315: 6472 | G315: 2015 | H315: 4 | J315: 7 | K315: 7 | L315: 7 | M315: 7 | N315: 0 | O315: 1 | P315: =IF(T315=0,IF(S315=-1,-1,S315*HLOOKUP(H315,$U$1:$Y$2,2,0)),0) -> 0 | Q315: 9 | R315: =COUNTIF($F$609:$F$5991,F315) -> 2 | S315: =SUM(J315:O315) -> 29 | T315: =IF(AND(H315<5,S315>=VLOOKUP(A315,anni!$A$1:$O$32,6,0)),1,0) -> 1
A316: 2015 | B316: 10 | C316: Lombardia | D316: =VLOOKUP(E316,accorpamenti!$A$2:$X$104,A316-1995,0) -> Milano | E316: Milano | F316: 6653 | G316: 2015 | H316: 3 | J316: 7 | K316: 7 | L316: 0 | M316: 7 | N316: 0 | O316: 2 | P316: =IF(T316=0,IF(S316=-1,-1,S316*HLOOKUP(H316,$U$1:$Y$2,2,0)),0) -> 32.2 | Q316: 51 | R316: =COUNTIF($F$609:$F$5991,F316) -> 1 | S316: =SUM(J316:O316) -> 23 | T316: =IF(AND(H316<5,S316>=VLOOKUP(A316,anni!$A$1:$O$32,6,0)),1,0) -> 0
A317: 2015 | B317: 11 | C317: Piemonte | D317: =VLOOKUP(E317,accorpamenti!$A$2:$X$104,A317-1995,0) -> Biella | E317: Vercelli | F317: 6692 | G317: 2015 | H317: 5 | J317: 7 | K317: 0 | L317: 1 | M317: 0 | N317: 0 | O317: 0 | P317: =IF(T317=0,IF(S317=-1,-1,S317*HLOOKUP(H317,$U$1:$Y$2,2,0)),0) -> 8 | Q317: 264 | R317: =COUNTIF($F$609:$F$5991,F317) -> 0 | S317: =SUM(J317:O317) -> 8 | T317: =IF(AND(H317<5,S317>=VLOOKUP(A317,anni!$A$1:$O$32,6,0)),1,0) -> 0
A318: 2015 | B318: 12 | C318: Veneto | D318: =VLOOKUP(E318,accorpamenti!$A$2:$X$104,A318-1995,0) -> Verona | E318: Verona | F318: 6693 | G318: 2015 | H318: 5 | J318: 7 | K318: 0 | L318: 5 | M318: 0 | N318: 0 | O318: 0 | P318: =IF(T318=0,IF(S318=-1,-1,S318*HLOOKUP(H318,$U$1:$Y$2,2,0)),0) -> 12 | Q318: 214 | R318: =COUNTIF($F$609:$F$5991,F318) -> 0 | S318: =SUM(J318:O318) -> 12 | T318: =IF(AND(H318<5,S318>=VLOOKUP(A318,anni!$A$1:$O$32,6,0)),1,0) -> 0
... A334: 2015 | B334: 28 | C334: Lombardia | D334: =VLOOKUP(E334,accorpamenti!$A$2:$X$104,A334-1995,0) -> Lecco | E334: Sondrio | F334: 6568 | G334: 2015 | H334: 5 | J334: 7 | K334: 7 | L334: 7 | M334: 2 | N334: 3 | O334: 0 | P334: =IF(T334=0,IF(S334=-1,-1,S334*HLOOKUP(H334,$U$1:$Y$2,2,0)),0) -> 26 | Q334: 30 | R334: =COUNTIF($F$609:$F$5991,F334) -> 1 | S334: =SUM(J334:O334) -> 26 | T334: =IF(AND(H334<5,S334>=VLOOKUP(A334,anni!$A$1:$O$32,6,0)),1,0) -> 0
A335: 2015 | B335: 29 | C335: Lombardia | D335: =VLOOKUP(E335,accorpamenti!$A$2:$X$104,A335-1995,0) -> Como | E335: Como | F335: 6839 | G335: 2015 | H335: 2 | P335: =IF(T335=0,IF(S335=-1,-1,S335*HLOOKUP(H335,$U$1:$Y$2,2,0)),0) -> -1 | Q335: 300 | R335: =COUNTIF($F$609:$F$5991,F335) -> 0 | S335: -1 | T335: =IF(AND(H335<5,S335>=VLOOKUP(A335,anni!$A$1:$O$32,6,0)),1,0) -> 0
A336: 2015 | B336: 30 | C336: Veneto | D336: =VLOOKUP(E336,accorpamenti!$A$2:$X$104,A336-1995,0) -> Rovigo | E336: Rovigo | F336: 6764 | G336: 2015 | H336: 4 | J336: 7 | K336: 6 | L336: 0 | M336: 0 | N336: 0 | O336: 0 | P336: =IF(T336=0,IF(S336=-1,-1,S336*HLOOKUP(H336,$U$1:$Y$2,2,0)),0) -> 15.6 | Q336: 198 | R336: =COUNTIF($F$609:$F$5991,F336) -> 0 | S336: =SUM(J336:O336) -> 13 | T336: =IF(AND(H336<5,S336>=VLOOKUP(A336,anni!$A$1:$O$32,6,0)),1,0) -> 0
A337: 2015 | B337: 31 | C337: Lombardia | D337: =VLOOKUP(E337,accorpamenti!$A$2:$X$104,A337-1995,0) -> Cremona | E337: Cremona | F337: 6445 | G337: 2015 | H337: 5 | J337: 7 | K337: 7 | L337: 5 | M337: 7 | N337: 0 | O337: 0 | P337: =IF(T337=0,IF(S337=-1,-1,S337*HLOOKUP(H337,$U$1:$Y$2,2,0)),0) -> 26 | Q337: 67 | R337: =COUNTIF($F$609:$F$5991,F337) -> 2 | S337: =SUM(J337:O337) -> 26 | T337: =IF(AND(H337<5,S337>=VLOOKUP(A337,anni!$A$1:$O$32,6,0)),1,0) -> 0
A338: 2015 | B338: 32 | C338: Toscana | D338: =VLOOKUP(E338,accorpamenti!$A$2:$X$104,A338-1995,0) -> Pistoia | E338: Pistoia | F338: 6699 | G338: 2015 | H338: 5 | J338: 5 | K338: 4 | L338: 0 | M338: 4 | N338: 0 | O338: 0 | P338: =IF(T338=0,IF(S338=-1,-1,S338*HLOOKUP(H338,$U$1:$Y$2,2,0)),0) -> 13 | Q338: 198 | R338: =COUNTIF($F$609:$F$5991,F338) -> 0 | S338: =SUM(J338:O338) -> 13 | T338: =IF(AND(H338<5,S338>=VLOOKUP(A338,anni!$A$1:$O$32,6,0)),1,0) -> 0
A339: 2015 | B339: 33 | C339: Veneto | D339: =VLOOKUP(E339,accorpamenti!$A$2:$X$104,A339-1995,0) -> Venezia | E339: Venezia | F339: 6625 | G339: 2015 | H339: 4 | J339: 7 | K339: 6 | L339: 2 | M339: 0 | N339: 0 | O339: 0 | P339: =IF(T339=0,IF(S339=-1,-1,S339*HLOOKUP(H339,$U$1:$Y$2,2,0)),0) -> 18 | Q339: 151 | R339: =COUNTIF($F$609:$F$5991,F339) -> 1 | S339: =SUM(J339:O339) -> 15 | T339: =IF(AND(H339<5,S339>=VLOOKUP(A339,anni!$A$1:$O$32,6,0)),1,0) -> 0
A340: 2015 | B340: 34 | C340: Toscana | D340: =VLOOKUP(E340,accorpamenti!$A$2:$X$104,A340-1995,0) -> Arezzo | E340: Arezzo | F340: 6765 | G340: 2015 | H340: 4 | J340: 7 | K340: 7 | L340: 2 | M340: 7 | N340: 0 | O340: 1 | P340: =IF(T340=0,IF(S340=-1,-1,S340*HLOOKUP(H340,$U$1:$Y$2,2,0)),0) -> 28.8 | Q340: 44 | R340: =COUNTIF($F$609:$F$5991,F340) -> 0 | S340: =SUM(J340:O340) -> 24 | T340: =IF(AND(H340<5,S340>=VLOOKUP(A340,anni!$A$1:$O$32,6,0)),1,0) -> 0
A341: 2015 | B341: 35 | C341: Emilia Romagna | D341: =VLOOKUP(E341,accorpamenti!$A$2:$X$104,A341-1995,0) -> Forlì Cesena | E341: Forlì Cesena | F341: 6766 | G341: 2015 | H341: 4 | J341: 6 | K341: 4 | L341: 2 | M341: 1 | N341: 0 | O341: 0 | P341: =IF(T341=0,IF(S341=-1,-1,S341*HLOOKUP(H341,$U$1:$Y$2,2,0)),0) -> 15.6 | Q341: 198 | R341: =COUNTIF($F$609:$F$5991,F341) -> 0 | S341: =SUM(J341:O341) -> 13 | T341: =IF(AND(H341<5,S341>=VLOOKUP(A341,anni!$A$1:$O$32,6,0)),1,0) -> 0
A342: 2015 | B342: 36 | C342: Piemonte | D342: =VLOOKUP(E342,accorpamenti!$A$2:$X$104,A342-1995,0) -> Torino | E342: Torino | F342: 6700 | G342: 2015 | H342: 5 | J342: 0 | K342: 6 | L342: 0 | M342: 3 | N342: 0 | O342: 0 | P342: =IF(T342=0,IF(S342=-1,-1,S342*HLOOKUP(H342,$U$1:$Y$2,2,0)),0) -> 9 | Q342: 252 | R342: =COUNTIF($F$609:$F$5991,F342) -> 0 | S342: =SUM(J342:O342) -> 9 | T342: =IF(AND(H342<5,S342>=VLOOKUP(A342,anni!$A$1:$O$32,6,0)),1,0) -> 0
A343: 2015 | B343: 37 | C343: Sicilia | D343: =VLOOKUP(E343,accorpamenti!$A$2:$X$104,A343-1995,0) -> Trapani | E343: Trapani | F343: 6767 | G343: 2015 | H343: 4 | J343: 5 | K343: 1 | L343: 0 | M343: 0 | N343: 0 | O343: 0 | P343: =IF(T343=0,IF(S343=-1,-1,S343*HLOOKUP(H343,$U$1:$Y$2,2,0)),0) -> 7.2 | Q343: 279 | R343: =COUNTIF($F$609:$F$5991,F343) -> 0 | S343: =SUM(J343:O343) -> 6 | T343: =IF(AND(H343<5,S343>=VLOOKUP(A343,anni!$A$1:$O$32,6,0)),1,0) -> 0
A344: 2015 | B344: 38 | C344: Puglia | D344: =VLOOKUP(E344,accorpamenti!$A$2:$X$104,A344-1995,0) -> Bari | E344: Bari | F344: 6701 | G344: 2015 | H344: 5 | J344: 6 | K344: 5 | L344: 0 | M344: 0 | N344: 0 | O344: 0 | P344: =IF(T344=0,IF(S344=-1,-1,S344*HLOOKUP(H344,$U$1:$Y$2,2,0)),0) -> 11 | Q344: 234 | R344: =COUNTIF($F$609:$F$5991,F344) -> 0 | S344: =SUM(J344:O344) -> 11 | T344: =IF(AND(H344<5,S344>=VLOOKUP(A344,anni!$A$1:$O$32,6,0)),1,0) -> 0
A345: 2015 | B345: 39 | C345: Veneto | D345: =VLOOKUP(E345,accorpamenti!$A$2:$X$104,A345-1995,0) -> Verona | E345: Verona | F345: 6702 | G345: 2015 | H345: 5 | J345: 6 | K345: 4 | L345: 0 | M345: 1 | N345: 0 | O345: 2 | P345: =IF(T345=0,IF(S345=-1,-1,S345*HLOOKUP(H345,$U$1:$Y$2,2,0)),0) -> 13 | Q345: 198 | R345: =COUNTIF($F$609:$F$5991,F345) -> 0 | S345: =SUM(J345:O345) -> 13 | T345: =IF(AND(H345<5,S345>=VLOOKUP(A345,anni!$A$1:$O$32,6,0)),1,0) -> 0
A346: 2015 | B346: 40 | C346: Campania | D346: =VLOOKUP(E346,accorpamenti!$A$2:$X$104,A346-1995,0) -> Avellino | E346: Avellino | F346: 6703 | G346: 2015 | H346: 5 | J346: 7 | K346: 6 | L346: 0 | M346: 1 | N346: 0 | O346: 1 | P346: =IF(T346=0,IF(S346=-1,-1,S346*HLOOKUP(H346,$U$1:$Y$2,2,0)),0) -> 15 | Q346: 151 | R346: =COUNTIF($F$609:$F$5991,F346) -> 0 | S346: =SUM(J346:O346) -> 15 | T346: =IF(AND(H346<5,S346>=VLOOKUP(A346,anni!$A$1:$O$32,6,0)),1,0) -> 0
A347: 2015 | B347: 41 | C347: Friuli Venezia Giulia | D347: =VLOOKUP(E347,accorpamenti!$A$2:$X$104,A347-1995,0) -> Udine | E347: Udine | F347: 6768 | G347: 2015 | H347: 4 | J347: 7 | K347: 0 | L347: 7 | M347: 6 | N347: 0 | O347: 0 | P347: =IF(T347=0,IF(S347=-1,-1,S347*HLOOKUP(H347,$U$1:$Y$2,2,0)),0) -> 24 | Q347: 82 | R347: =COUNTIF($F$609:$F$5991,F347) -> 0 | S347: =SUM(J347:O347) -> 20 | T347: =IF(AND(H347<5,S347>=VLOOKUP(A347,anni!$A$1:$O$32,6,0)),1,0) -> 0
... A414: 2015 | B414: 108 | C414: Lazio | D414: =VLOOKUP(E414,accorpamenti!$A$2:$X$104,A414-1995,0) -> Roma | E414: Roma | F414: 6478 | G414: 2015 | H414: 4 | J414: 7 | K414: 0 | L414: 0 | M414: 7 | N414: 0 | O414: 0 | P414: =IF(T414=0,IF(S414=-1,-1,S414*HLOOKUP(H414,$U$1:$Y$2,2,0)),0) -> 16.8 | Q414: 176 | R414: =COUNTIF($F$609:$F$5991,F414) -> 1 | S414: =SUM(J414:O414) -> 14 | T414: =IF(AND(H414<5,S414>=VLOOKUP(A414,anni!$A$1:$O$32,6,0)),1,0) -> 0
A415: 2015 | B415: 109 | C415: Sicilia | D415: =VLOOKUP(E415,accorpamenti!$A$2:$X$104,A415-1995,0) -> Siracusa | E415: Siracusa | F415: 6136 | G415: 2015 | H415: 5 | P415: =IF(T415=0,IF(S415=-1,-1,S415*HLOOKUP(H415,$U$1:$Y$2,2,0)),0) -> -1 | Q415: 300 | R415: =COUNTIF($F$609:$F$5991,F415) -> 3 | S415: -1 | T415: =IF(AND(H415<5,S415>=VLOOKUP(A415,anni!$A$1:$O$32,6,0)),1,0) -> 0
A416: 2015 | B416: 110 | C416: Emilia Romagna | D416: =VLOOKUP(E416,accorpamenti!$A$2:$X$104,A416-1995,0) -> Reggio Emilia | E416: Reggio Emilia | F416: 6718 | G416: 2015 | H416: 5 | J416: 7 | K416: 7 | L416: 0 | M416: 6 | N416: 0 | O416: 2 | P416: =IF(T416=0,IF(S416=-1,-1,S416*HLOOKUP(H416,$U$1:$Y$2,2,0)),0) -> 22 | Q416: 56 | R416: =COUNTIF($F$609:$F$5991,F416) -> 0 | S416: =SUM(J416:O416) -> 22 | T416: =IF(AND(H416<5,S416>=VLOOKUP(A416,anni!$A$1:$O$32,6,0)),1,0) -> 0
A417: 2015 | B417: 111 | C417: Veneto | D417: =VLOOKUP(E417,accorpamenti!$A$2:$X$104,A417-1995,0) -> Belluno | E417: Belluno | F417: 6578 | G417: 2015 | H417: 5 | J417: 6 | K417: 4 | L417: 0 | M417: 0 | N417: 0 | O417: 2 | P417: =IF(T417=0,IF(S417=-1,-1,S417*HLOOKUP(H417,$U$1:$Y$2,2,0)),0) -> 12 | Q417: 214 | R417: =COUNTIF($F$609:$F$5991,F417) -> 1 | S417: =SUM(J417:O417) -> 12 | T417: =IF(AND(H417<5,S417>=VLOOKUP(A417,anni!$A$1:$O$32,6,0)),1,0) -> 0
A418: 2015 | B418: 112 | C418: Calabria | D418: =VLOOKUP(E418,accorpamenti!$A$2:$X$104,A418-1995,0) -> Reggio Calabria | E418: Reggio Calabria | F418: 6783 | G418: 2015 | H418: 4 | J418: 4 | K418: 0 | L418: 0 | M418: 1 | N418: 0 | O418: 0 | P418: =IF(T418=0,IF(S418=-1,-1,S418*HLOOKUP(H418,$U$1:$Y$2,2,0)),0) -> 6 | Q418: 284 | R418: =COUNTIF($F$609:$F$5991,F418) -> 0 | S418: =SUM(J418:O418) -> 5 | T418: =IF(AND(H418<5,S418>=VLOOKUP(A418,anni!$A$1:$O$32,6,0)),1,0) -> 0
A419: 2015 | B419: 113 | C419: Toscana | D419: =VLOOKUP(E419,accorpamenti!$A$2:$X$104,A419-1995,0) -> Siena | E419: Siena | F419: 6579 | G419: 2015 | H419: 5 | J419: 7 | K419: 7 | L419: 0 | M419: 4 | N419: 0 | O419: 1 | P419: =IF(T419=0,IF(S419=-1,-1,S419*HLOOKUP(H419,$U$1:$Y$2,2,0)),0) -> 19 | Q419: 95 | R419: =COUNTIF($F$609:$F$5991,F419) -> 1 | S419: =SUM(J419:O419) -> 19 | T419: =IF(AND(H419<5,S419>=VLOOKUP(A419,anni!$A$1:$O$32,6,0)),1,0) -> 0
A420: 2015 | B420: 114 | C420: Piemonte | D420: =VLOOKUP(E420,accorpamenti!$A$2:$X$104,A420-1995,0) -> Torino | E420: Torino | F420: 6784 | G420: 2015 | H420: 4 | J420: 7 | K420: 4 | L420: 4 | M420: 0 | N420: 0 | O420: 2 | P420: =IF(T420=0,IF(S420=-1,-1,S420*HLOOKUP(H420,$U$1:$Y$2,2,0)),0) -> 20.4 | Q420: 111 | R420: =COUNTIF($F$609:$F$5991,F420) -> 0 | S420: =SUM(J420:O420) -> 17 | T420: =IF(AND(H420<5,S420>=VLOOKUP(A420,anni!$A$1:$O$32,6,0)),1,0) -> 0
A421: 2015 | B421: 115 | C421: Friuli Venezia Giulia | D421: =VLOOKUP(E421,accorpamenti!$A$2:$X$104,A421-1995,0) -> Udine | E421: Udine | F421: 6785 | G421: 2015 | H421: 4 | J421: 7 | K421: 7 | L421: 7 | M421: 6 | N421: 0 | O421: 0 | P421: =IF(T421=0,IF(S421=-1,-1,S421*HLOOKUP(H421,$U$1:$Y$2,2,0)),0) -> 32.4 | Q421: 25 | R421: =COUNTIF($F$609:$F$5991,F421) -> 0 | S421: =SUM(J421:O421) -> 27 | T421: =IF(AND(H421<5,S421>=VLOOKUP(A421,anni!$A$1:$O$32,6,0)),1,0) -> 0
A422: 2015 | B422: 116 | C422: Liguria | D422: =VLOOKUP(E422,accorpamenti!$A$2:$X$104,A422-1995,0) -> Genova | E422: Genova | F422: 6632 | G422: 2015 | H422: 4 | J422: 7 | K422: 7 | L422: 7 | M422: 0 | N422: 0 | O422: 0 | P422: =IF(T422=0,IF(S422=-1,-1,S422*HLOOKUP(H422,$U$1:$Y$2,2,0)),0) -> 25.2 | Q422: 67 | R422: =COUNTIF($F$609:$F$5991,F422) -> 1 | S422: =SUM(J422:O422) -> 21 | T422: =IF(AND(H422<5,S422>=VLOOKUP(A422,anni!$A$1:$O$32,6,0)),1,0) -> 0
A423: 2015 | B423: 117 | C423: Lombardia | D423: =VLOOKUP(E423,accorpamenti!$A$2:$X$104,A423-1995,0) -> Pavia | E423: Pavia | F423: 6633 | G423: 2015 | H423: 4 | J423: 7 | K423: 7 | L423: 7 | M423: 7 | N423: 0 | O423: 1 | P423: =IF(T423=0,IF(S423=-1,-1,S423*HLOOKUP(H423,$U$1:$Y$2,2,0)),0) -> 0 | Q423: 9 | R423: =COUNTIF($F$609:$F$5991,F423) -> 1 | S423: =SUM(J423:O423) -> 29 | T423: =IF(AND(H423<5,S423>=VLOOKUP(A423,anni!$A$1:$O$32,6,0)),1,0) -> 1
A424: 2015 | B424: 118 | C424: Abruzzo | D424: =VLOOKUP(E424,accorpamenti!$A$2:$X$104,A424-1995,0) -> Pescara | E424: Pescara | F424: 6719 | G424: 2015 | H424: 5 | J424: 7 | K424: 5 | L424: 0 | M424: 2 | N424: 0 | O424: 0 | P424: =IF(T424=0,IF(S424=-1,-1,S424*HLOOKUP(H424,$U$1:$Y$2,2,0)),0) -> 14 | Q424: 176 | R424: =COUNTIF($F$609:$F$5991,F424) -> 0 | S424: =SUM(J424:O424) -> 14 | T424: =IF(AND(H424<5,S424>=VLOOKUP(A424,anni!$A$1:$O$32,6,0)),1,0) -> 0
A425: 2015 | B425: 119 | C425: Liguria | D425: =VLOOKUP(E425,accorpamenti!$A$2:$X$104,A425-1995,0) -> Genova | E425: Genova | F425: 6720 | G425: 2015 | H425: 5 | J425: 7 | K425: 4 | L425: 0 | M425: 1 | N425: 0 | O425: 0 | P425: =IF(T425=0,IF(S425=-1,-1,S425*HLOOKUP(H425,$U$1:$Y$2,2,0)),0) -> 12 | Q425: 214 | R425: =COUNTIF($F$609:$F$5991,F425) -> 0 | S425: =SUM(J425:O425) -> 12 | T425: =IF(AND(H425<5,S425>=VLOOKUP(A425,anni!$A$1:$O$32,6,0)),1,0) -> 0
A426: 2015 | B426: 120 | C426: Lazio | D426: =VLOOKUP(E426,accorpamenti!$A$2:$X$104,A426-1995,0) -> Roma | E426: Roma | F426: 6786 | G426: 2015 | H426: 4 | J426: 7 | K426: 2 | L426: 0 | M426: 5 | N426: 0 | O426: 0 | P426: =IF(T426=0,IF(S426=-1,-1,S426*HLOOKUP(H426,$U$1:$Y$2,2,0)),0) -> 16.8 | Q426: 176 | R426: =COUNTIF($F$609:$F$5991,F426) -> 0 | S426: =SUM(J426:O426) -> 14 | T426: =IF(AND(H426<5,S426>=VLOOKUP(A426,anni!$A$1:$O$32,6,0)),1,0) -> 0
A427: 2015 | B427: 121 | C427: Toscana | D427: =VLOOKUP(E427,accorpamenti!$A$2:$X$104,A427-1995,0) -> Livorno | E427: Livorno | F427: 6721 | G427: 2015 | H427: 5 | J427: 7 | K427: 0 | L427: 1 | M427: 0 | N427: 0 | O427: 0 | P427: =IF(T427=0,IF(S427=-1,-1,S427*HLOOKUP(H427,$U$1:$Y$2,2,0)),0) -> 8 | Q427: 264 | R427: =COUNTIF($F$609:$F$5991,F427) -> 0 | S427: =SUM(J427:O427) -> 8 | T427: =IF(AND(H427<5,S427>=VLOOKUP(A427,anni!$A$1:$O$32,6,0)),1,0) -> 0
... A505: 2015 | B505: 199 | C505: Campania | D505: =VLOOKUP(E505,accorpamenti!$A$2:$X$104,A505-1995,0) -> Salerno | E505: Salerno | F505: 6826 | G505: 2015 | H505: 3 | J505: 7 | K505: 3 | L505: 0 | M505: 0 | N505: 0 | O505: 0 | P505: =IF(T505=0,IF(S505=-1,-1,S505*HLOOKUP(H505,$U$1:$Y$2,2,0)),0) -> 14 | Q505: 243 | R505: =COUNTIF($F$609:$F$5991,F505) -> 0 | S505: =SUM(J505:O505) -> 10 | T505: =IF(AND(H505<5,S505>=VLOOKUP(A505,anni!$A$1:$O$32,6,0)),1,0) -> 0
A506: 2015 | B506: 200 | C506: Sicilia | D506: =VLOOKUP(E506,accorpamenti!$A$2:$X$104,A506-1995,0) -> Siracusa | E506: Siracusa | F506: 6856 | G506: 2015 | H506: 2 | P506: =IF(T506=0,IF(S506=-1,-1,S506*HLOOKUP(H506,$U$1:$Y$2,2,0)),0) -> -1 | Q506: 300 | R506: =COUNTIF($F$609:$F$5991,F506) -> 0 | S506: -1 | T506: =IF(AND(H506<5,S506>=VLOOKUP(A506,anni!$A$1:$O$32,6,0)),1,0) -> 0
A507: 2015 | B507: 201 | C507: Campania | D507: =VLOOKUP(E507,accorpamenti!$A$2:$X$104,A507-1995,0) -> Caserta | E507: Caserta | F507: 6737 | G507: 2015 | H507: 5 | J507: 7 | K507: 3 | L507: 0 | M507: 0 | N507: 0 | O507: 0 | P507: =IF(T507=0,IF(S507=-1,-1,S507*HLOOKUP(H507,$U$1:$Y$2,2,0)),0) -> 10 | Q507: 243 | R507: =COUNTIF($F$609:$F$5991,F507) -> 0 | S507: =SUM(J507:O507) -> 10 | T507: =IF(AND(H507<5,S507>=VLOOKUP(A507,anni!$A$1:$O$32,6,0)),1,0) -> 0
A508: 2015 | B508: 202 | C508: Lombardia | D508: =VLOOKUP(E508,accorpamenti!$A$2:$X$104,A508-1995,0) -> Mantova | E508: Mantova | F508: 6805 | G508: 2015 | H508: 4 | J508: 6 | K508: 3 | L508: 2 | M508: 1 | N508: 0 | O508: 0 | P508: =IF(T508=0,IF(S508=-1,-1,S508*HLOOKUP(H508,$U$1:$Y$2,2,0)),0) -> 14.4 | Q508: 214 | R508: =COUNTIF($F$609:$F$5991,F508) -> 0 | S508: =SUM(J508:O508) -> 12 | T508: =IF(AND(H508<5,S508>=VLOOKUP(A508,anni!$A$1:$O$32,6,0)),1,0) -> 0
A509: 2015 | B509: 203 | C509: Piemonte | D509: =VLOOKUP(E509,accorpamenti!$A$2:$X$104,A509-1995,0) -> Biella | E509: Vercelli | F509: 6738 | G509: 2015 | H509: 5 | J509: 7 | K509: 3 | L509: 0 | M509: 1 | N509: 0 | O509: 0 | P509: =IF(T509=0,IF(S509=-1,-1,S509*HLOOKUP(H509,$U$1:$Y$2,2,0)),0) -> 11 | Q509: 234 | R509: =COUNTIF($F$609:$F$5991,F509) -> 0 | S509: =SUM(J509:O509) -> 11 | T509: =IF(AND(H509<5,S509>=VLOOKUP(A509,anni!$A$1:$O$32,6,0)),1,0) -> 0
A510: 2015 | B510: 204 | C510: Trentino Alto Adige | D510: =VLOOKUP(E510,accorpamenti!$A$2:$X$104,A510-1995,0) -> Trento | E510: Trento | F510: 6637 | G510: 2015 | H510: 4 | J510: 6 | K510: 7 | L510: 1 | M510: 7 | N510: 0 | O510: 0 | P510: =IF(T510=0,IF(S510=-1,-1,S510*HLOOKUP(H510,$U$1:$Y$2,2,0)),0) -> 25.2 | Q510: 67 | R510: =COUNTIF($F$609:$F$5991,F510) -> 1 | S510: =SUM(J510:O510) -> 21 | T510: =IF(AND(H510<5,S510>=VLOOKUP(A510,anni!$A$1:$O$32,6,0)),1,0) -> 0
A511: 2015 | B511: 205 | C511: Piemonte | D511: =VLOOKUP(E511,accorpamenti!$A$2:$X$104,A511-1995,0) -> Torino | E511: Torino | F511: 6462 | G511: 2015 | H511: 5 | J511: 7 | K511: 7 | L511: 7 | M511: 7 | N511: 0 | O511: 3 | P511: =IF(T511=0,IF(S511=-1,-1,S511*HLOOKUP(H511,$U$1:$Y$2,2,0)),0) -> 31 | Q511: 4 | R511: =COUNTIF($F$609:$F$5991,F511) -> 2 | S511: =SUM(J511:O511) -> 31 | T511: =IF(AND(H511<5,S511>=VLOOKUP(A511,anni!$A$1:$O$32,6,0)),1,0) -> 0
A512: 2015 | B512: 206 | C512: Sicilia | D512: =VLOOKUP(E512,accorpamenti!$A$2:$X$104,A512-1995,0) -> Catania | E512: Catania | F512: 6487 | G512: 2015 | H512: 4 | J512: 7 | K512: 7 | L512: 3 | M512: 0 | N512: 0 | O512: 0 | P512: =IF(T512=0,IF(S512=-1,-1,S512*HLOOKUP(H512,$U$1:$Y$2,2,0)),0) -> 20.4 | Q512: 111 | R512: =COUNTIF($F$609:$F$5991,F512) -> 2 | S512: =SUM(J512:O512) -> 17 | T512: =IF(AND(H512<5,S512>=VLOOKUP(A512,anni!$A$1:$O$32,6,0)),1,0) -> 0
A513: 2015 | B513: 207 | C513: Veneto | D513: =VLOOKUP(E513,accorpamenti!$A$2:$X$104,A513-1995,0) -> Vicenza | E513: Vicenza | F513: 6857 | G513: 2015 | H513: 2 | J513: 7 | K513: 7 | L513: 2 | M513: 0 | N513: 0 | O513: 0 | P513: =IF(T513=0,IF(S513=-1,-1,S513*HLOOKUP(H513,$U$1:$Y$2,2,0)),0) -> 25.6 | Q513: 131 | R513: =COUNTIF($F$609:$F$5991,F513) -> 0 | S513: =SUM(J513:O513) -> 16 | T513: =IF(AND(H513<5,S513>=VLOOKUP(A513,anni!$A$1:$O$32,6,0)),1,0) -> 0
A514: 2015 | B514: 208 | C514: Friuli Venezia Giulia | D514: =VLOOKUP(E514,accorpamenti!$A$2:$X$104,A514-1995,0) -> Udine | E514: Udine | F514: 6858 | G514: 2015 | H514: 2 | J514: 7 | K514: 2 | L514: 0 | M514: 3 | N514: 0 | O514: 0 | P514: =IF(T514=0,IF(S514=-1,-1,S514*HLOOKUP(H514,$U$1:$Y$2,2,0)),0) -> 19.2 | Q514: 214 | R514: =COUNTIF($F$609:$F$5991,F514) -> 0 | S514: =SUM(J514:O514) -> 12 | T514: =IF(AND(H514<5,S514>=VLOOKUP(A514,anni!$A$1:$O$32,6,0)),1,0) -> 0
A515: 2015 | B515: 209 | C515: Trentino Alto Adige | D515: =VLOOKUP(E515,accorpamenti!$A$2:$X$104,A515-1995,0) -> Bolzano | E515: Bolzano | F515: 6806 | G515: 2015 | H515: 4 | J515: 0 | K515: 6 | L515: 1 | M515: 1 | N515: 0 | O515: 0 | P515: =IF(T515=0,IF(S515=-1,-1,S515*HLOOKUP(H515,$U$1:$Y$2,2,0)),0) -> 9.6 | Q515: 264 | R515: =COUNTIF($F$609:$F$5991,F515) -> 0 | S515: =SUM(J515:O515) -> 8 | T515: =IF(AND(H515<5,S515>=VLOOKUP(A515,anni!$A$1:$O$32,6,0)),1,0) -> 0
A516: 2015 | B516: 210 | C516: Lazio | D516: =VLOOKUP(E516,accorpamenti!$A$2:$X$104,A516-1995,0) -> Roma | E516: Roma | F516: 6739 | G516: 2015 | H516: 5 | J516: 7 | K516: 7 | L516: 0 | M516: 0 | N516: 0 | O516: 0 | P516: =IF(T516=0,IF(S516=-1,-1,S516*HLOOKUP(H516,$U$1:$Y$2,2,0)),0) -> 14 | Q516: 176 | R516: =COUNTIF($F$609:$F$5991,F516) -> 0 | S516: =SUM(J516:O516) -> 14 | T516: =IF(AND(H516<5,S516>=VLOOKUP(A516,anni!$A$1:$O$32,6,0)),1,0) -> 0
A517: 2015 | B517: 211 | C517: Campania | D517: =VLOOKUP(E517,accorpamenti!$A$2:$X$104,A517-1995,0) -> Napoli | E517: Napoli | F517: 6869 | G517: 2015 | H517: 1 | J517: 7 | K517: 6 | L517: 0 | M517: 0 | N517: 0 | O517: 0 | P517: =IF(T517=0,IF(S517=-1,-1,S517*HLOOKUP(H517,$U$1:$Y$2,2,0)),0) -> 23.4 | Q517: 198 | R517: =COUNTIF($F$609:$F$5991,F517) -> 0 | S517: =SUM(J517:O517) -> 13 | T517: =IF(AND(H517<5,S517>=VLOOKUP(A517,anni!$A$1:$O$32,6,0)),1,0) -> 0
A518: 2015 | B518: 212 | C518: Marche | D518: =VLOOKUP(E518,accorpamenti!$A$2:$X$104,A518-1995,0) -> Ancona | E518: Ancona | F518: 6602 | G518: 2015 | H518: 5 | J518: 7 | K518: 7 | L518: 0 | M518: 3 | N518: 0 | O518: 0 | P518: =IF(T518=0,IF(S518=-1,-1,S518*HLOOKUP(H518,$U$1:$Y$2,2,0)),0) -> 17 | Q518: 111 | R518: =COUNTIF($F$609:$F$5991,F518) -> 1 | S518: =SUM(J518:O518) -> 17 | T518: =IF(AND(H518<5,S518>=VLOOKUP(A518,anni!$A$1:$O$32,6,0)),1,0) -> 0
... A722: 2014 | B722: 114 | C722: Veneto | D722: =VLOOKUP(E722,accorpamenti!$A$2:$X$104,A722-1995,0) -> Treviso | E722: Treviso | F722: 5955 | G722: 2014 | H722: 5 | J722: 7 | K722: 7 | L722: 6 | M722: 7 | N722: 0 | O722: 0 | P722: =IF(T722=0,IF(S722=-1,-1,S722*HLOOKUP(H722,$U$1:$Y$2,2,0)),0) -> 27 | Q722: 13 | R722: =COUNTIF($F$609:$F$5991,F722) -> 5 | S722: =SUM(J722:O722) -> 27 | T722: =IF(AND(H722<5,S722>=VLOOKUP(A722,anni!$A$1:$O$32,6,0)),1,0) -> 0
A723: 2014 | B723: 115 | C723: Sicilia | D723: =VLOOKUP(E723,accorpamenti!$A$2:$X$104,A723-1995,0) -> Messina | E723: Messina | F723: 6412 | G723: 2014 | H723: 5 | P723: =IF(T723=0,IF(S723=-1,-1,S723*HLOOKUP(H723,$U$1:$Y$2,2,0)),0) -> -1 | Q723: 298 | R723: =COUNTIF($F$609:$F$5991,F723) -> 2 | S723: -1 | T723: =IF(AND(H723<5,S723>=VLOOKUP(A723,anni!$A$1:$O$32,6,0)),1,0) -> 0
A724: 2014 | B724: 116 | C724: Veneto | D724: =VLOOKUP(E724,accorpamenti!$A$2:$X$104,A724-1995,0) -> Belluno | E724: Belluno | F724: 6524 | G724: 2014 | H724: 5 | J724: 1 | K724: 1 | L724: 0 | M724: 0 | N724: 0 | O724: 0 | P724: =IF(T724=0,IF(S724=-1,-1,S724*HLOOKUP(H724,$U$1:$Y$2,2,0)),0) -> 2 | Q724: 280 | R724: =COUNTIF($F$609:$F$5991,F724) -> 1 | S724: =SUM(J724:O724) -> 2 | T724: =IF(AND(H724<5,S724>=VLOOKUP(A724,anni!$A$1:$O$32,6,0)),1,0) -> 0
A725: 2014 | B725: 117 | C725: Veneto | D725: =VLOOKUP(E725,accorpamenti!$A$2:$X$104,A725-1995,0) -> Belluno | E725: Belluno | F725: 6578 | G725: 2014 | H725: 4 | J725: 6 | K725: 2 | L725: 0 | M725: 0 | N725: 0 | O725: 0 | P725: =IF(T725=0,IF(S725=-1,-1,S725*HLOOKUP(H725,$U$1:$Y$2,2,0)),0) -> 9.6 | Q725: 189 | R725: =COUNTIF($F$609:$F$5991,F725) -> 1 | S725: =SUM(J725:O725) -> 8 | T725: =IF(AND(H725<5,S725>=VLOOKUP(A725,anni!$A$1:$O$32,6,0)),1,0) -> 0
A726: 2014 | B726: 118 | C726: Veneto | D726: =VLOOKUP(E726,accorpamenti!$A$2:$X$104,A726-1995,0) -> Treviso | E726: Treviso | F726: 6525 | G726: 2014 | H726: 5 | J726: 4 | K726: 7 | L726: 7 | M726: 2 | N726: 0 | O726: 0 | P726: =IF(T726=0,IF(S726=-1,-1,S726*HLOOKUP(H726,$U$1:$Y$2,2,0)),0) -> 20 | Q726: 39 | R726: =COUNTIF($F$609:$F$5991,F726) -> 1 | S726: =SUM(J726:O726) -> 20 | T726: =IF(AND(H726<5,S726>=VLOOKUP(A726,anni!$A$1:$O$32,6,0)),1,0) -> 0
A727: 2014 | B727: 119 | C727: Toscana | D727: =VLOOKUP(E727,accorpamenti!$A$2:$X$104,A727-1995,0) -> Siena | E727: Siena | F727: 6579 | G727: 2014 | H727: 4 | J727: 5 | K727: 1 | L727: 1 | M727: 0 | N727: 0 | O727: 0 | P727: =IF(T727=0,IF(S727=-1,-1,S727*HLOOKUP(H727,$U$1:$Y$2,2,0)),0) -> 8.4 | Q727: 204 | R727: =COUNTIF($F$609:$F$5991,F727) -> 1 | S727: =SUM(J727:O727) -> 7 | T727: =IF(AND(H727<5,S727>=VLOOKUP(A727,anni!$A$1:$O$32,6,0)),1,0) -> 0
A728: 2014 | B728: 120 | C728: Molise | D728: =VLOOKUP(E728,accorpamenti!$A$2:$X$104,A728-1995,0) -> Campobasso | E728: Campobasso | F728: 6664 | G728: 2014 | H728: 2 | J728: 2 | K728: 2 | L728: 1 | M728: 0 | N728: 0 | O728: 0 | P728: =IF(T728=0,IF(S728=-1,-1,S728*HLOOKUP(H728,$U$1:$Y$2,2,0)),0) -> 8 | Q728: 234 | R728: =COUNTIF($F$609:$F$5991,F728) -> 1 | S728: =SUM(J728:O728) -> 5 | T728: =IF(AND(H728<5,S728>=VLOOKUP(A728,anni!$A$1:$O$32,6,0)),1,0) -> 0
A729: 2014 | B729: 121 | C729: Trentino Alto Adige | D729: =VLOOKUP(E729,accorpamenti!$A$2:$X$104,A729-1995,0) -> Bolzano | E729: Bolzano | F729: 6526 | G729: 2014 | H729: 5 | J729: 7 | K729: 7 | L729: 0 | M729: 7 | N729: 0 | O729: 0 | P729: =IF(T729=0,IF(S729=-1,-1,S729*HLOOKUP(H729,$U$1:$Y$2,2,0)),0) -> 21 | Q729: 33 | R729: =COUNTIF($F$609:$F$5991,F729) -> 1 | S729: =SUM(J729:O729) -> 21 | T729: =IF(AND(H729<5,S729>=VLOOKUP(A729,anni!$A$1:$O$32,6,0)),1,0) -> 0
A730: 2014 | B730: 122 | C730: Liguria | D730: =VLOOKUP(E730,accorpamenti!$A$2:$X$104,A730-1995,0) -> Genova | E730: Genova | F730: 6632 | G730: 2014 | H730: 3 | J730: 3 | K730: 0 | L730: 0 | M730: 0 | N730: 0 | O730: 0 | P730: =IF(T730=0,IF(S730=-1,-1,S730*HLOOKUP(H730,$U$1:$Y$2,2,0)),0) -> 4.2 | Q730: 265 | R730: =COUNTIF($F$609:$F$5991,F730) -> 1 | S730: =SUM(J730:O730) -> 3 | T730: =IF(AND(H730<5,S730>=VLOOKUP(A730,anni!$A$1:$O$32,6,0)),1,0) -> 0
A731: 2014 | B731: 123 | C731: Lazio | D731: =VLOOKUP(E731,accorpamenti!$A$2:$X$104,A731-1995,0) -> Roma | E731: Roma | F731: 6665 | G731: 2014 | H731: 2 | J731: 0 | K731: 1 | L731: 0 | M731: 0 | N731: 0 | O731: 0 | P731: =IF(T731=0,IF(S731=-1,-1,S731*HLOOKUP(H731,$U$1:$Y$2,2,0)),0) -> 1.6 | Q731: 286 | R731: =COUNTIF($F$609:$F$5991,F731) -> 1 | S731: =SUM(J731:O731) -> 1 | T731: =IF(AND(H731<5,S731>=VLOOKUP(A731,anni!$A$1:$O$32,6,0)),1,0) -> 0
A732: 2014 | B732: 124 | C732: Lombardia | D732: =VLOOKUP(E732,accorpamenti!$A$2:$X$104,A732-1995,0) -> Pavia | E732: Pavia | F732: 6633 | G732: 2014 | H732: 3 | J732: 4 | K732: 0 | L732: 6 | M732: 1 | N732: 0 | O732: 0 | P732: =IF(T732=0,IF(S732=-1,-1,S732*HLOOKUP(H732,$U$1:$Y$2,2,0)),0) -> 15.4 | Q732: 134 | R732: =COUNTIF($F$609:$F$5991,F732) -> 1 | S732: =SUM(J732:O732) -> 11 | T732: =IF(AND(H732<5,S732>=VLOOKUP(A732,anni!$A$1:$O$32,6,0)),1,0) -> 0
A733: 2014 | B733: 125 | C733: Piemonte | D733: =VLOOKUP(E733,accorpamenti!$A$2:$X$104,A733-1995,0) -> Alessandria | E733: Alessandria | F733: 6527 | G733: 2014 | H733: 5 | J733: 6 | K733: 1 | L733: 0 | M733: 0 | N733: 0 | O733: 0 | P733: =IF(T733=0,IF(S733=-1,-1,S733*HLOOKUP(H733,$U$1:$Y$2,2,0)),0) -> 7 | Q733: 204 | R733: =COUNTIF($F$609:$F$5991,F733) -> 1 | S733: =SUM(J733:O733) -> 7 | T733: =IF(AND(H733<5,S733>=VLOOKUP(A733,anni!$A$1:$O$32,6,0)),1,0) -> 0
A734: 2014 | B734: 126 | C734: Veneto | D734: =VLOOKUP(E734,accorpamenti!$A$2:$X$104,A734-1995,0) -> Vicenza | E734: Vicenza | F734: 6528 | G734: 2014 | H734: 5 | J734: 7 | K734: 0 | L734: 0 | M734: 1 | N734: 0 | O734: 0 | P734: =IF(T734=0,IF(S734=-1,-1,S734*HLOOKUP(H734,$U$1:$Y$2,2,0)),0) -> 8 | Q734: 189 | R734: =COUNTIF($F$609:$F$5991,F734) -> 1 | S734: =SUM(J734:O734) -> 8 | T734: =IF(AND(H734<5,S734>=VLOOKUP(A734,anni!$A$1:$O$32,6,0)),1,0) -> 0
A735: 2014 | B735: 127 | C735: Piemonte | D735: =VLOOKUP(E735,accorpamenti!$A$2:$X$104,A735-1995,0) -> Torino | E735: Torino | F735: 6580 | G735: 2014 | H735: 4 | J735: 7 | K735: 0 | L735: 0 | M735: 0 | N735: 0 | O735: 0 | P735: =IF(T735=0,IF(S735=-1,-1,S735*HLOOKUP(H735,$U$1:$Y$2,2,0)),0) -> 8.4 | Q735: 204 | R735: =COUNTIF($F$609:$F$5991,F735) -> 1 | S735: =SUM(J735:O735) -> 7 | T735: =IF(AND(H735<5,S735>=VLOOKUP(A735,anni!$A$1:$O$32,6,0)),1,0) -> 0
... A771: 2014 | B771: 164 | C771: Veneto | D771: =VLOOKUP(E771,accorpamenti!$A$2:$X$104,A771-1995,0) -> Belluno | E771: Belluno | F771: 6538 | G771: 2014 | H771: 5 | J771: 6 | K771: 6 | L771: 0 | M771: 1 | N771: 0 | O771: 0 | P771: =IF(T771=0,IF(S771=-1,-1,S771*HLOOKUP(H771,$U$1:$Y$2,2,0)),0) -> 13 | Q771: 109 | R771: =COUNTIF($F$609:$F$5991,F771) -> 1 | S771: =SUM(J771:O771) -> 13 | T771: =IF(AND(H771<5,S771>=VLOOKUP(A771,anni!$A$1:$O$32,6,0)),1,0) -> 0
A772: 2014 | B772: 163 | C772: Puglia | D772: =VLOOKUP(E772,accorpamenti!$A$2:$X$104,A772-1995,0) -> Bari | E772: Bari | F772: 6278 | G772: 2014 | H772: 5 | P772: =IF(T772=0,IF(S772=-1,-1,S772*HLOOKUP(H772,$U$1:$Y$2,2,0)),0) -> -1 | Q772: 298 | R772: =COUNTIF($F$609:$F$5991,F772) -> 3 | S772: -1 | T772: =IF(AND(H772<5,S772>=VLOOKUP(A772,anni!$A$1:$O$32,6,0)),1,0) -> 0
A773: 2014 | B773: 165 | C773: Marche | D773: =VLOOKUP(E773,accorpamenti!$A$2:$X$104,A773-1995,0) -> Ascoli Piceno | E773: Ascoli Piceno | F773: 6592 | G773: 2014 | H773: 4 | J773: 1 | K773: 0 | L773: 0 | M773: 0 | N773: 0 | O773: 0 | P773: =IF(T773=0,IF(S773=-1,-1,S773*HLOOKUP(H773,$U$1:$Y$2,2,0)),0) -> 1.2 | Q773: 286 | R773: =COUNTIF($F$609:$F$5991,F773) -> 1 | S773: =SUM(J773:O773) -> 1 | T773: =IF(AND(H773<5,S773>=VLOOKUP(A773,anni!$A$1:$O$32,6,0)),1,0) -> 0
A774: 2014 | B774: 166 | C774: Emilia Romagna | D774: =VLOOKUP(E774,accorpamenti!$A$2:$X$104,A774-1995,0) -> Reggio Emilia | E774: Reggio Emilia | F774: 6668 | G774: 2014 | H774: 2 | J774: 3 | K774: 2 | L774: 0 | M774: 0 | N774: 0 | O774: 0 | P774: =IF(T774=0,IF(S774=-1,-1,S774*HLOOKUP(H774,$U$1:$Y$2,2,0)),0) -> 8 | Q774: 234 | R774: =COUNTIF($F$609:$F$5991,F774) -> 1 | S774: =SUM(J774:O774) -> 5 | T774: =IF(AND(H774<5,S774>=VLOOKUP(A774,anni!$A$1:$O$32,6,0)),1,0) -> 0
A775: 2014 | B775: 167 | C775: Piemonte | D775: =VLOOKUP(E775,accorpamenti!$A$2:$X$104,A775-1995,0) -> Vercelli | E775: Vercelli | F775: 6280 | G775: 2014 | H775: 5 | J775: 1 | K775: 0 | L775: 0 | M775: 0 | N775: 0 | O775: 0 | P775: =IF(T775=0,IF(S775=-1,-1,S775*HLOOKUP(H775,$U$1:$Y$2,2,0)),0) -> 1 | Q775: 286 | R775: =COUNTIF($F$609:$F$5991,F775) -> 1 | S775: =SUM(J775:O775) -> 1 | T775: =IF(AND(H775<5,S775>=VLOOKUP(A775,anni!$A$1:$O$32,6,0)),1,0) -> 0
A776: 2014 | B776: 168 | C776: Toscana | D776: =VLOOKUP(E776,accorpamenti!$A$2:$X$104,A776-1995,0) -> Massa Carrara | E776: Massa Carrara | F776: 6419 | G776: 2014 | H776: 5 | J776: 7 | K776: 1 | L776: 0 | M776: 1 | N776: 0 | O776: 0 | P776: =IF(T776=0,IF(S776=-1,-1,S776*HLOOKUP(H776,$U$1:$Y$2,2,0)),0) -> 9 | Q776: 176 | R776: =COUNTIF($F$609:$F$5991,F776) -> 2 | S776: =SUM(J776:O776) -> 9 | T776: =IF(AND(H776<5,S776>=VLOOKUP(A776,anni!$A$1:$O$32,6,0)),1,0) -> 0
A777: 2014 | B777: 169 | C777: Puglia | D777: =VLOOKUP(E777,accorpamenti!$A$2:$X$104,A777-1995,0) -> Brindisi | E777: Taranto | F777: 6634 | G777: 2014 | H777: 3 | J777: 3 | K777: 1 | L777: 1 | M777: 0 | N777: 0 | O777: 0 | P777: =IF(T777=0,IF(S777=-1,-1,S777*HLOOKUP(H777,$U$1:$Y$2,2,0)),0) -> 7 | Q777: 234 | R777: =COUNTIF($F$609:$F$5991,F777) -> 1 | S777: =SUM(J777:O777) -> 5 | T777: =IF(AND(H777<5,S777>=VLOOKUP(A777,anni!$A$1:$O$32,6,0)),1,0) -> 0
A778: 2014 | B778: 170 | C778: Lombardia | D778: =VLOOKUP(E778,accorpamenti!$A$2:$X$104,A778-1995,0) -> Pavia | E778: Pavia | F778: 6593 | G778: 2014 | H778: 4 | J778: 7 | K778: 7 | L778: 0 | M778: 1 | N778: 0 | O778: 0 | P778: =IF(T778=0,IF(S778=-1,-1,S778*HLOOKUP(H778,$U$1:$Y$2,2,0)),0) -> 18 | Q778: 80 | R778: =COUNTIF($F$609:$F$5991,F778) -> 1 | S778: =SUM(J778:O778) -> 15 | T778: =IF(AND(H778<5,S778>=VLOOKUP(A778,anni!$A$1:$O$32,6,0)),1,0) -> 0
A779: 2014 | B779: 171 | C779: Lombardia | D779: =VLOOKUP(E779,accorpamenti!$A$2:$X$104,A779-1995,0) -> Varese | E779: Varese | F779: 6539 | G779: 2014 | H779: 5 | J779: 5 | K779: 7 | L779: 0 | M779: 7 | N779: 0 | O779: 0 | P779: =IF(T779=0,IF(S779=-1,-1,S779*HLOOKUP(H779,$U$1:$Y$2,2,0)),0) -> 19 | Q779: 45 | R779: =COUNTIF($F$609:$F$5991,F779) -> 1 | S779: =SUM(J779:O779) -> 19 | T779: =IF(AND(H779<5,S779>=VLOOKUP(A779,anni!$A$1:$O$32,6,0)),1,0) -> 0
A780: 2014 | B780: 172 | C780: Emilia Romagna | D780: =VLOOKUP(E780,accorpamenti!$A$2:$X$104,A780-1995,0) -> Bologna | E780: Bologna | F780: 6540 | G780: 2014 | H780: 5 | J780: 2 | K780: 1 | L780: 0 | M780: 0 | N780: 0 | O780: 0 | P780: =IF(T780=0,IF(S780=-1,-1,S780*HLOOKUP(H780,$U$1:$Y$2,2,0)),0) -> 3 | Q780: 265 | R780: =COUNTIF($F$609:$F$5991,F780) -> 1 | S780: =SUM(J780:O780) -> 3 | T780: =IF(AND(H780<5,S780>=VLOOKUP(A780,anni!$A$1:$O$32,6,0)),1,0) -> 0
A781: 2014 | B781: 173 | C781: Lazio | D781: =VLOOKUP(E781,accorpamenti!$A$2:$X$104,A781-1995,0) -> Roma | E781: Roma | F781: 6125 | G781: 2014 | H781: 5 | J781: 2 | K781: 7 | L781: 7 | M781: 7 | N781: 7 | O781: 0 | P781: =IF(T781=0,IF(S781=-1,-1,S781*HLOOKUP(H781,$U$1:$Y$2,2,0)),0) -> 30 | Q781: 7 | R781: =COUNTIF($F$609:$F$5991,F781) -> 4 | S781: =SUM(J781:O781) -> 30 | T781: =IF(AND(H781<5,S781>=VLOOKUP(A781,anni!$A$1:$O$32,6,0)),1,0) -> 0
A782: 2014 | B782: 174 | C782: Calabria | D782: =VLOOKUP(E782,accorpamenti!$A$2:$X$104,A782-1995,0) -> Catanzaro | E782: Catanzaro | F782: 6282 | G782: 2014 | H782: 5 | J782: 7 | K782: 3 | L782: 0 | M782: 0 | N782: 0 | O782: 0 | P782: =IF(T782=0,IF(S782=-1,-1,S782*HLOOKUP(H782,$U$1:$Y$2,2,0)),0) -> 10 | Q782: 156 | R782: =COUNTIF($F$609:$F$5991,F782) -> 3 | S782: =SUM(J782:O782) -> 10 | T782: =IF(AND(H782<5,S782>=VLOOKUP(A782,anni!$A$1:$O$32,6,0)),1,0) -> 0
A783: 2014 | B783: 175 | C783: Campania | D783: =VLOOKUP(E783,accorpamenti!$A$2:$X$104,A783-1995,0) -> Salerno | E783: Salerno | F783: 6684 | G783: 2014 | H783: 1 | J783: 5 | K783: 0 | L783: 0 | M783: 0 | N783: 0 | O783: 0 | P783: =IF(T783=0,IF(S783=-1,-1,S783*HLOOKUP(H783,$U$1:$Y$2,2,0)),0) -> 9 | Q783: 234 | R783: =COUNTIF($F$609:$F$5991,F783) -> 1 | S783: =SUM(J783:O783) -> 5 | T783: =IF(AND(H783<5,S783>=VLOOKUP(A783,anni!$A$1:$O$32,6,0)),1,0) -> 0
A784: 2014 | B784: 176 | C784: Piemonte | D784: =VLOOKUP(E784,accorpamenti!$A$2:$X$104,A784-1995,0) -> Torino | E784: Torino | F784: 6541 | G784: 2014 | H784: 5 | J784: 5 | K784: 2 | L784: 0 | M784: 0 | N784: 0 | O784: 0 | P784: =IF(T784=0,IF(S784=-1,-1,S784*HLOOKUP(H784,$U$1:$Y$2,2,0)),0) -> 7 | Q784: 204 | R784: =COUNTIF($F$609:$F$5991,F784) -> 1 | S784: =SUM(J784:O784) -> 7 | T784: =IF(AND(H784<5,S784>=VLOOKUP(A784,anni!$A$1:$O$32,6,0)),1,0) -> 0
... A794: 2014 | B794: 186 | C794: Molise | D794: =VLOOKUP(E794,accorpamenti!$A$2:$X$104,A794-1995,0) -> Campobasso | E794: Campobasso | F794: 6286 | G794: 2014 | H794: 5 | J794: 4 | K794: 7 | L794: 2 | M794: 0 | N794: 0 | O794: 0 | P794: =IF(T794=0,IF(S794=-1,-1,S794*HLOOKUP(H794,$U$1:$Y$2,2,0)),0) -> 13 | Q794: 109 | R794: =COUNTIF($F$609:$F$5991,F794) -> 2 | S794: =SUM(J794:O794) -> 13 | T794: =IF(AND(H794<5,S794>=VLOOKUP(A794,anni!$A$1:$O$32,6,0)),1,0) -> 0
A795: 2014 | B795: 187 | C795: Calabria | D795: =VLOOKUP(E795,accorpamenti!$A$2:$X$104,A795-1995,0) -> Reggio Calabria | E795: Reggio Calabria | F795: 6595 | G795: 2014 | H795: 4 | P795: =IF(T795=0,IF(S795=-1,-1,S795*HLOOKUP(H795,$U$1:$Y$2,2,0)),0) -> -1 | Q795: 298 | R795: =COUNTIF($F$609:$F$5991,F795) -> 1 | S795: -1 | T795: =IF(AND(H795<5,S795>=VLOOKUP(A795,anni!$A$1:$O$32,6,0)),1,0) -> 0
A796: 2014 | B796: 188 | C796: Puglia | D796: =VLOOKUP(E796,accorpamenti!$A$2:$X$104,A796-1995,0) -> Brindisi | E796: Brindisi | F796: 6312 | G796: 2014 | H796: 4 | J796: 7 | K796: 6 | L796: 4 | M796: 0 | N796: 7 | O796: 0 | P796: =IF(T796=0,IF(S796=-1,-1,S796*HLOOKUP(H796,$U$1:$Y$2,2,0)),0) -> 28.8 | Q796: 25 | R796: =COUNTIF($F$609:$F$5991,F796) -> 3 | S796: =SUM(J796:O796) -> 24 | T796: =IF(AND(H796<5,S796>=VLOOKUP(A796,anni!$A$1:$O$32,6,0)),1,0) -> 0
...

Sheet province
A1: anno | B1: distretto ultimo | C1: distretto +1 | D1: distretto +2 | E1: provincia | F1: num | G1: assenti | H1: punti | I1: q_scuole | M1: storia | N1: q_vera | O1: parz | P1: quote_sc | Q1: extra | R1: quote_tot | S1: diff | T1: hont* | U1: diff* | V1: bonus | X1: scuole | AB1: quote_tot
B2: 1995 | C2: 1994 | D2: 1993 | J2: 3 | K2: 2 | L2: 1 | X2: ultimo | Y2: penultimo
A4: 2016 | B4: =VLOOKUP($E4,accorpamenti!$A$2:$X$104,$A4-B$2,0) -> Roma | C4: =VLOOKUP($E4,accorpamenti!$A$2:$X$104,$A4-C$2,0) -> Roma | D4: =VLOOKUP($E4,accorpamenti!$A$2:$X$104,$A4-D$2,0) -> Roma | E4: Roma | F4: {=SUM(IF(anno=A4,IF(distretto=E4,1)))} -> 21 | G4: {=SUM(IF(anno=A4,IF(distretto=E4,IF(punti=-1,1))))} -> 0 | H4: {=SUM(IF(anno=A4,IF(distretto=E4,punti)))+G4} -> 264.6 | I4: =X4/1465*300 -> 25.802048 | J4: =H4/VLOOKUP(A4,anni!$A$1:$O$32,4,0) -> 0.063349933 | K4: =SUMIFS($J$2:$J$1979,anno_2,A4-1,$C$2:$C$1979,B4) -> 0.067895234 | L4: =SUMIFS($J$2:$J$1979,anno_2,A4-2,$D$2:$D$1979,B4) -> 0.0875897 | M4: {=SUM(IF(NOT(ISERR(J4:L4)),J4:L4*$J$2:$L$2))/SUM(IF(NOT(ISERR(J4:L4)),$J$2:$L$2))} -> 0.068904995 | N4: =((300-VLOOKUP(A4,anni!$A$1:$O$32,8,0))*(M4-I4/300)+I4)/300*(300-VLOOKUP(A4,anni!$A$1:$O$32,7,0)) -> 20.809037 | O4: =MAX(1,N4) -> 20.809037 | P4: =INT(MAX(1,O4)+1-VLOOKUP(A4,anni!$A$1:$O$32,5,0)) -> 21 | Q4: {=SUM(IF(anno=A4,IF(distretto=E4,concorrenti!$T$3:$T$5991)))} -> 2 | R4: =P4+Q4 -> 23 | S4: =R4-F4 -> 2 | T4: =1+INT($N4/VLOOKUP($A4,anni!$A$1:$J$35,10,0))+$Q4 -> 20 | U4: =T4-$F4 -> -1 | X4: 126 | Y4: 126 | Z4: =-(Y4-X4)/SQRT(AVERAGE(X4:Y4)) -> 0
A5: 2016 | B5: =VLOOKUP($E5,accorpamenti!$A$2:$X$104,$A5-B$2,0) -> Brescia | C5: =VLOOKUP($E5,accorpamenti!$A$2:$X$104,$A5-C$2,0) -> Brescia | D5: =VLOOKUP($E5,accorpamenti!$A$2:$X$104,$A5-D$2,0) -> Brescia | E5: Brescia | F5: {=SUM(IF(anno=A5,IF(distretto=E5,1)))} -> 11 | G5: {=SUM(IF(anno=A5,IF(distretto=E5,IF(punti=-1,1))))} -> 0 | H5: {=SUM(IF(anno=A5,IF(distretto=E5,punti)))+G5} -> 245 | I5: =X5/1465*300 -> 3.4812287 | J5: =H5/VLOOKUP(A5,anni!$A$1:$O$32,4,0) -> 0.058657345 | K5: =SUMIFS($J$2:$J$1979,anno_2,A5-1,$C$2:$C$1979,B5) -> 0.051566001 | L5: =SUMIFS($J$2:$J$1979,anno_2,A5-2,$D$2:$D$1979,B5) -> 0.030445336 | M5: {=SUM(IF(NOT(ISERR(J5:L5)),J5:L5*$J$2:$L$2))/SUM(IF(NOT(ISERR(J5:L5)),$J$2:$L$2))} -> 0.051591562 | N5: =((300-VLOOKUP(A5,anni!$A$1:$O$32,8,0))*(M5-I5/300)+I5)/300*(300-VLOOKUP(A5,anni!$A$1:$O$32,7,0)) -> 13.028825 | O5: =MAX(1,N5) -> 13.028825 | P5: =INT(MAX(1,O5)+1-VLOOKUP(A5,anni!$A$1:$O$32,5,0)) -> 13 | Q5: {=SUM(IF(anno=A5,IF(distretto=E5,concorrenti!$T$3:$T$5991)))} -> 0 | R5: =P5+Q5 -> 13 | S5: =R5-F5 -> 2 | T5: =1+INT($N5/VLOOKUP($A5,anni!$A$1:$J$35,10,0))+$Q5 -> 11 | U5: =T5-$F5 -> 0 | X5: 17 | Y5: 15 | Z5: =-(Y5-X5)/SQRT(AVERAGE(X5:Y5)) -> 0.5
A6: 2016 | B6: =VLOOKUP($E6,accorpamenti!$A$2:$X$104,$A6-B$2,0) -> Milano | C6: =VLOOKUP($E6,accorpamenti!$A$2:$X$104,$A6-C$2,0) -> Milano | D6: =VLOOKUP($E6,accorpamenti!$A$2:$X$104,$A6-D$2,0) -> Milano | E6: Milano | F6: {=SUM(IF(anno=A6,IF(distretto=E6,1)))} -> 11 | G6: {=SUM(IF(anno=A6,IF(distretto=E6,IF(punti=-1,1))))} -> 0 | H6: {=SUM(IF(anno=A6,IF(distretto=E6,punti)))+G6} -> 163.2 | I6: =X6/1465*300 -> 10.648464 | J6: =H6/VLOOKUP(A6,anni!$A$1:$O$32,4,0) -> 0.039072975 | K6: =SUMIFS($J$2:$J$1979,anno_2,A6-1,$C$2:$C$1979,B6) -> 0.040094434 | L6: =SUMIFS($J$2:$J$1979,anno_2,A6-2,$D$2:$D$1979,B6) -> 0.041473195 | M6: {=SUM(IF(NOT(ISERR(J6:L6)),J6:L6*$J$2:$L$2))/SUM(IF(NOT(ISERR(J6:L6)),$J$2:$L$2))} -> 0.039813498 | N6: =((300-VLOOKUP(A6,anni!$A$1:$O$32,8,0))*(M6-I6/300)+I6)/300*(300-VLOOKUP(A6,anni!$A$1:$O$32,7,0)) -> 11.337181 | O6: =MAX(1,N6) -> 11.337181 | P6: =INT(MAX(1,O6)+1-VLOOKUP(A6,anni!$A$1:$O$32,5,0)) -> 11 | Q6: {=SUM(IF(anno=A6,IF(distretto=E6,concorrenti!$T$3:$T$5991)))} -> 2 | R6: =P6+Q6 -> 13 | S6: =R6-F6 -> 2 | T6: =1+INT($N6/VLOOKUP($A6,anni!$A$1:$J$35,10,0))+$Q6 -> 12 | U6: =T6-$F6 -> 1 | X6: 52 | Y6: 48 | Z6: =-(Y6-X6)/SQRT(AVERAGE(X6:Y6)) -> 0.56568542
A7: 2016 | B7: =VLOOKUP($E7,accorpamenti!$A$2:$X$104,$A7-B$2,0) -> Torino | C7: =VLOOKUP($E7,accorpamenti!$A$2:$X$104,$A7-C$2,0) -> Torino | D7: =VLOOKUP($E7,accorpamenti!$A$2:$X$104,$A7-D$2,0) -> Torino | E7: Torino | F7: {=SUM(IF(anno=A7,IF(distretto=E7,1)))} -> 10 | G7: {=SUM(IF(anno=A7,IF(distretto=E7,IF(punti=-1,1))))} -> 0 | H7: {=SUM(IF(anno=A7,IF(distretto=E7,punti)))+G7} -> 170.2 | I7: =X7/1465*300 -> 13.105802 | J7: =H7/VLOOKUP(A7,anni!$A$1:$O$32,4,0) -> 0.040748899 | K7: =SUMIFS($J$2:$J$1979,anno_2,A7-1,$C$2:$C$1979,B7) -> 0.035124667 | L7: =SUMIFS($J$2:$J$1979,anno_2,A7-2,$D$2:$D$1979,B7) -> 0.035774588 | M7: {=SUM(IF(NOT(ISERR(J7:L7)),J7:L7*$J$2:$L$2))/SUM(IF(NOT(ISERR(J7:L7)),$J$2:$L$2))} -> 0.038045103 | N7: =((300-VLOOKUP(A7,anni!$A$1:$O$32,8,0))*(M7-I7/300)+I7)/300*(300-VLOOKUP(A7,anni!$A$1:$O$32,7,0)) -> 11.305724 | O7: =MAX(1,N7) -> 11.305724 | P7: =INT(MAX(1,O7)+1-VLOOKUP(A7,anni!$A$1:$O$32,5,0)) -> 11 | Q7: {=SUM(IF(anno=A7,IF(distretto=E7,concorrenti!$T$3:$T$5991)))} -> 0 | R7: =P7+Q7 -> 11 | S7: =R7-F7 -> 1 | T7: =1+INT($N7/VLOOKUP($A7,anni!$A$1:$J$35,10,0))+$Q7 -> 10 | U7: =T7-$F7 -> 0 | X7: 64 | Y7: 64 | Z7: =-(Y7-X7)/SQRT(AVERAGE(X7:Y7)) -> 0
A8: 2016 | B8: =VLOOKUP($E8,accorpamenti!$A$2:$X$104,$A8-B$2,0) -> Udine | C8: =VLOOKUP($E8,accorpamenti!$A$2:$X$104,$A8-C$2,0) -> Udine | D8: =VLOOKUP($E8,accorpamenti!$A$2:$X$104,$A8-D$2,0) -> Udine | E8: Udine | F8: {=SUM(IF(anno=A8,IF(distretto=E8,1)))} -> 7 | G8: {=SUM(IF(anno=A8,IF(distretto=E8,IF(punti=-1,1))))} -> 0 | H8: {=SUM(IF(anno=A8,IF(distretto=E8,punti)))+G8} -> 159 | I8: =X8/1465*300 -> 3.4812287 | J8: =H8/VLOOKUP(A8,anni!$A$1:$O$32,4,0) -> 0.03806742 | K8: =SUMIFS($J$2:$J$1979,anno_2,A8-1,$C$2:$C$1979,B8) -> 0.031014334 | L8: =SUMIFS($J$2:$J$1979,anno_2,A8-2,$D$2:$D$1979,B8) -> 0.028756859 | M8: {=SUM(IF(NOT(ISERR(J8:L8)),J8:L8*$J$2:$L$2))/SUM(IF(NOT(ISERR(J8:L8)),$J$2:$L$2))} -> 0.034164631 | N8: =((300-VLOOKUP(A8,anni!$A$1:$O$32,8,0))*(M8-I8/300)+I8)/300*(300-VLOOKUP(A8,anni!$A$1:$O$32,7,0)) -> 8.8173172 | O8: =MAX(1,N8) -> 8.8173172 | P8: =INT(MAX(1,O8)+1-VLOOKUP(A8,anni!$A$1:$O$32,5,0)) -> 9 | Q8: {=SUM(IF(anno=A8,IF(distretto=E8,concorrenti!$T$3:$T$5991)))} -> 0 | R8: =P8+Q8 -> 9 | S8: =R8-F8 -> 2 | T8: =1+INT($N8/VLOOKUP($A8,anni!$A$1:$J$35,10,0))+$Q8 -> 8 | U8: =T8-$F8 -> 1 | X8: 17 | Y8: 20 | Z8: =-(Y8-X8)/SQRT(AVERAGE(X8:Y8)) -> -0.69748583
A9: 2016 | B9: =VLOOKUP($E9,accorpamenti!$A$2:$X$104,$A9-B$2,0) -> Vicenza | C9: =VLOOKUP($E9,accorpamenti!$A$2:$X$104,$A9-C$2,0) -> Vicenza | D9: =VLOOKUP($E9,accorpamenti!$A$2:$X$104,$A9-D$2,0) -> Vicenza | E9: Vicenza | F9: {=SUM(IF(anno=A9,IF(distretto=E9,1)))} -> 7 | G9: {=SUM(IF(anno=A9,IF(distretto=E9,IF(punti=-1,1))))} -> 0 | H9: {=SUM(IF(anno=A9,IF(distretto=E9,punti)))+G9} -> 123 | I9: =X9/1465*300 -> 5.1194539 | J9: =H9/VLOOKUP(A9,anni!$A$1:$O$32,4,0) -> 0.029448382 | K9: =SUMIFS($J$2:$J$1979,anno_2,A9-1,$C$2:$C$1979,B9) -> 0.0315001 | L9: =SUMIFS($J$2:$J$1979,anno_2,A9-2,$D$2:$D$1979,B9) -> 0.028123681 | M9: {=SUM(IF(NOT(ISERR(J9:L9)),J9:L9*$J$2:$L$2))/SUM(IF(NOT(ISERR(J9:L9)),$J$2:$L$2))} -> 0.029911504 | N9: =((300-VLOOKUP(A9,anni!$A$1:$O$32,8,0))*(M9-I9/300)+I9)/300*(300-VLOOKUP(A9,anni!$A$1:$O$32,7,0)) -> 8.0534145 | O9: =MAX(1,N9) -> 8.0534145 | P9: =INT(MAX(1,O9)+1-VLOOKUP(A9,anni!$A$1:$O$32,5,0)) -> 8 | Q9: {=SUM(IF(anno=A9,IF(distretto=E9,concorrenti!$T$3:$T$5991)))} -> 1 | R9: =P9+Q9 -> 9 | S9: =R9-F9 -> 2 | T9: =1+INT($N9/VLOOKUP($A9,anni!$A$1:$J$35,10,0))+$Q9 -> 8 | U9: =T9-$F9 -> 1 | X9: 25 | Y9: 22 | Z9: =-(Y9-X9)/SQRT(AVERAGE(X9:Y9)) -> 0.61885275
A10: 2016 | B10: =VLOOKUP($E10,accorpamenti!$A$2:$X$104,$A10-B$2,0) -> Napoli | C10: =VLOOKUP($E10,accorpamenti!$A$2:$X$104,$A10-C$2,0) -> Napoli | D10: =VLOOKUP($E10,accorpamenti!$A$2:$X$104,$A10-D$2,0) -> Napoli | E10: Napoli | F10: {=SUM(IF(anno=A10,IF(distretto=E10,1)))} -> 11 | G10: {=SUM(IF(anno=A10,IF(distretto=E10,IF(punti=-1,1))))} -> 0 | H10: {=SUM(IF(anno=A10,IF(distretto=E10,punti)))+G10} -> 124 | I10: =X10/1465*300 -> 16.382253 | J10: =H10/VLOOKUP(A10,anni!$A$1:$O$32,4,0) -> 0.029687799 | K10: =SUMIFS($J$2:$J$1979,anno_2,A10-1,$C$2:$C$1979,B10) -> 0.024475167 | L10: =SUMIFS($J$2:$J$1979,anno_2,A10-2,$D$2:$D$1979,B10) -> 0.031711693 | M10: {=SUM(IF(NOT(ISERR(J10:L10)),J10:L10*$J$2:$L$2))/SUM(IF(NOT(ISERR(J10:L10)),$J$2:$L$2))} -> 0.028287571 | N10: =((300-VLOOKUP(A10,anni!$A$1:$O$32,8,0))*(M10-I10/300)+I10)/300*(300-VLOOKUP(A10,anni!$A$1:$O$32,7,0)) -> 9.4755258 | O10: =MAX(1,N10) -> 9.4755258 | P10: =INT(MAX(1,O10)+1-VLOOKUP(A10,anni!$A$1:$O$32,5,0)) -> 9 | Q10: {=SUM(IF(anno=A10,IF(distretto=E10,concorrenti!$T$3:$T$5991)))} -> 1 | R10: =P10+Q10 -> 10 | S10: =R10-F10 -> -1 | T10: =1+INT($N10/VLOOKUP($A10,anni!$A$1:$J$35,10,0))+$Q10 -> 10 | U10: =T10-$F10 -> -1 | X10: 80 | Y10: 78 | Z10: =-(Y10-X10)/SQRT(AVERAGE(X10:Y10)) -> 0.22501758
A11: 2016 | B11: =VLOOKUP($E11,accorpamenti!$A$2:$X$104,$A11-B$2,0) -> Reggio Emilia | C11: =VLOOKUP($E11,accorpamenti!$A$2:$X$104,$A11-C$2,0) -> Reggio Emilia | D11: =VLOOKUP($E11,accorpamenti!$A$2:$X$104,$A11-D$2,0) -> Reggio Emilia | E11: Reggio Emilia | F11: {=SUM(IF(anno=A11,IF(distretto=E11,1)))} -> 7 | G11: {=SUM(IF(anno=A11,IF(distretto=E11,IF(punti=-1,1))))} -> 0 | H11: {=SUM(IF(anno=A11,IF(distretto=E11,punti)))+G11} -> 137.4 | I11: =X11/1465*300 -> 3.0716724 | J11: =H11/VLOOKUP(A11,anni!$A$1:$O$32,4,0) -> 0.032895997 | K11: =SUMIFS($J$2:$J$1979,anno_2,A11-1,$C$2:$C$1979,B11) -> 0.0159182 | L11: =SUMIFS($J$2:$J$1979,anno_2,A11-2,$D$2:$D$1979,B11) -> 0.031131279 | M11: {=SUM(IF(NOT(ISERR(J11:L11)),J11:L11*$J$2:$L$2))/SUM(IF(NOT(ISERR(J11:L11)),$J$2:$L$2))} -> 0.026942612 | N11: =((300-VLOOKUP(A11,anni!$A$1:$O$32,8,0))*(M11-I11/300)+I11)/300*(300-VLOOKUP(A11,anni!$A$1:$O$32,7,0)) -> 7.0060117 | O11: =MAX(1,N11) -> 7.0060117 | P11: =INT(MAX(1,O11)+1-VLOOKUP(A11,anni!$A$1:$O$32,5,0)) -> 7 | Q11: {=SUM(IF(anno=A11,IF(distretto=E11,concorrenti!$T$3:$T$5991)))} -> 0 | R11: =P11+Q11 -> 7 | S11: =R11-F11 -> 0 | T11: =1+INT($N11/VLOOKUP($A11,anni!$A$1:$J$35,10,0))+$Q11 -> 6 | U11: =T11-$F11 -> -1 | X11: 15 | Y11: 14 | Z11: =-(Y11-X11)/SQRT(AVERAGE(X11:Y11)) -> 0.26261287
A12: 2016 | B12: =VLOOKUP($E12,accorpamenti!$A$2:$X$104,$A12-B$2,0) -> Bari | C12: =VLOOKUP($E12,accorpamenti!$A$2:$X$104,$A12-C$2,0) -> Bari | D12: =VLOOKUP($E12,accorpamenti!$A$2:$X$104,$A12-D$2,0) -> Bari | E12: Bari | F12: {=SUM(IF(anno=A12,IF(distretto=E12,1)))} -> 8 | G12: {=SUM(IF(anno=A12,IF(distretto=E12,IF(punti=-1,1))))} -> 0 | H12: {=SUM(IF(anno=A12,IF(distretto=E12,punti)))+G12} -> 123.2 | I12: =X12/1465*300 -> 9.2150171 | J12: =H12/VLOOKUP(A12,anni!$A$1:$O$32,4,0) -> 0.029496265 | K12: =SUMIFS($J$2:$J$1979,anno_2,A12-1,$C$2:$C$1979,B12) -> 0.019804334 | L12: =SUMIFS($J$2:$J$1979,anno_2,A12-2,$D$2:$D$1979,B12) -> 0.024852258 | M12: {=SUM(IF(NOT(ISERR(J12:L12)),J12:L12*$J$2:$L$2))/SUM(IF(NOT(ISERR(J12:L12)),$J$2:$L$2))} -> 0.02549162 | N12: =((300-VLOOKUP(A12,anni!$A$1:$O$32,8,0))*(M12-I12/300)+I12)/300*(300-VLOOKUP(A12,anni!$A$1:$O$32,7,0)) -> 7.6451165 | O12: =MAX(1,N12) -> 7.6451165 | P12: =INT(MAX(1,O12)+1-VLOOKUP(A12,anni!$A$1:$O$32,5,0)) -> 8 | Q12: {=SUM(IF(anno=A12,IF(distretto=E12,concorrenti!$T$3:$T$5991)))} -> 0 | R12: =P12+Q12 -> 8 | S12: =R12-F12 -> 0 | T12: =1+INT($N12/VLOOKUP($A12,anni!$A$1:$J$35,10,0))+$Q12 -> 7 | U12: =T12-$F12 -> -1 | X12: 45 | Y12: 43 | Z12: =-(Y12-X12)/SQRT(AVERAGE(X12:Y12)) -> 0.30151134
A13: 2016 | B13: =VLOOKUP($E13,accorpamenti!$A$2:$X$104,$A13-B$2,0) -> Treviso | C13: =VLOOKUP($E13,accorpamenti!$A$2:$X$104,$A13-C$2,0) -> Treviso | D13: =VLOOKUP($E13,accorpamenti!$A$2:$X$104,$A13-D$2,0) -> Treviso | E13: Treviso | F13: {=SUM(IF(anno=A13,IF(distretto=E13,1)))} -> 8 | G13: {=SUM(IF(anno=A13,IF(distretto=E13,IF(punti=-1,1))))} -> 0 | H13: {=SUM(IF(anno=A13,IF(distretto=E13,punti)))+G13} -> 81.8 | I13: =X13/1465*300 -> 4.3003413 | J13: =H13/VLOOKUP(A13,anni!$A$1:$O$32,4,0) -> 0.019584371 | K13: =SUMIFS($J$2:$J$1979,anno_2,A13-1,$C$2:$C$1979,B13) -> 0.0267919 | L13: =SUMIFS($J$2:$J$1979,anno_2,A13-2,$D$2:$D$1979,B13) -> 0.040101309 | M13: {=SUM(IF(NOT(ISERR(J13:L13)),J13:L13*$J$2:$L$2))/SUM(IF(NOT(ISERR(J13:L13)),$J$2:$L$2))} -> 0.02540637 | N13: =((300-VLOOKUP(A13,anni!$A$1:$O$32,8,0))*(M13-I13/300)+I13)/300*(300-VLOOKUP(A13,anni!$A$1:$O$32,7,0)) -> 6.8327056 | O13: =MAX(1,N13) -> 6.8327056 | P13: =INT(MAX(1,O13)+1-VLOOKUP(A13,anni!$A$1:$O$32,5,0)) -> 7 | Q13: {=SUM(IF(anno=A13,IF(distretto=E13,concorrenti!$T$3:$T$5991)))} -> 0 | R13: =P13+Q13 -> 7 | S13: =R13-F13 -> -1 | T13: =1+INT($N13/VLOOKUP($A13,anni!$A$1:$J$35,10,0))+$Q13 -> 6 | U13: =T13-$F13 -> -2 | X13: 21 | Y13: 21 | Z13: =-(Y13-X13)/SQRT(AVERAGE(X13:Y13)) -> 0
A14: 2016 | B14: =VLOOKUP($E14,accorpamenti!$A$2:$X$104,$A14-B$2,0) -> Massa Carrara | C14: =VLOOKUP($E14,accorpamenti!$A$2:$X$104,$A14-C$2,0) -> Massa Carrara | D14: =VLOOKUP($E14,accorpamenti!$A$2:$X$104,$A14-D$2,0) -> Massa Carrara | E14: Massa Carrara | F14: {=SUM(IF(anno=A14,IF(distretto=E14,1)))} -> 6 | G14: {=SUM(IF(anno=A14,IF(distretto=E14,IF(punti=-1,1))))} -> 0 | H14: {=SUM(IF(anno=A14,IF(distretto=E14,punti)))+G14} -> 110 | I14: =X14/1465*300 -> 1.8430034 | J14: =H14/VLOOKUP(A14,anni!$A$1:$O$32,4,0) -> 0.026335951 | K14: =SUMIFS($J$2:$J$1979,anno_2,A14-1,$C$2:$C$1979,B14) -> 0.025073034 | L14: =SUMIFS($J$2:$J$1979,anno_2,A14-2,$D$2:$D$1979,B14) -> 0.021791895 | M14: {=SUM(IF(NOT(ISERR(J14:L14)),J14:L14*$J$2:$L$2))/SUM(IF(NOT(ISERR(J14:L14)),$J$2:$L$2))} -> 0.025157636 | N14: =((300-VLOOKUP(A14,anni!$A$1:$O$32,8,0))*(M14-I14/300)+I14)/300*(300-VLOOKUP(A14,anni!$A$1:$O$32,7,0)) -> 6.3766903 | O14: =MAX(1,N14) -> 6.3766903 | P14: =INT(MAX(1,O14)+1-VLOOKUP(A14,anni!$A$1:$O$32,5,0)) -> 6 | Q14: {=SUM(IF(anno=A14,IF(distretto=E14,concorrenti!$T$3:$T$5991)))} -> 0 | R14: =P14+Q14 -> 6 | S14: =R14-F14 -> 0 | T14: =1+INT($N14/VLOOKUP($A14,anni!$A$1:$J$35,10,0))+$Q14 -> 6 | U14: =T14-$F14 -> 0 | X14: 9 | Y14: 8 | Z14: =-(Y14-X14)/SQRT(AVERAGE(X14:Y14)) -> 0.34299717
A15: 2016 | B15: =VLOOKUP($E15,accorpamenti!$A$2:$X$104,$A15-B$2,0) -> Trento | C15: =VLOOKUP($E15,accorpamenti!$A$2:$X$104,$A15-C$2,0) -> Trento | D15: =VLOOKUP($E15,accorpamenti!$A$2:$X$104,$A15-D$2,0) -> Trento | E15: Trento | F15: {=SUM(IF(anno=A15,IF(distretto=E15,1)))} -> 6 | G15: {=SUM(IF(anno=A15,IF(distretto=E15,IF(punti=-1,1))))} -> 0 | H15: {=SUM(IF(anno=A15,IF(distretto=E15,punti)))+G15} -> 109.2 | I15: =X15/1465*300 -> 3.0716724 | J15: =H15/VLOOKUP(A15,anni!$A$1:$O$32,4,0) -> 0.026144417 | K15: =SUMIFS($J$2:$J$1979,anno_2,A15-1,$C$2:$C$1979,B15) -> 0.0214111 | L15: =SUMIFS($J$2:$J$1979,anno_2,A15-2,$D$2:$D$1979,B15) -> 0.022266779 | M15: {=SUM(IF(NOT(ISERR(J15:L15)),J15:L15*$J$2:$L$2))/SUM(IF(NOT(ISERR(J15:L15)),$J$2:$L$2))} -> 0.023920372 | N15: =((300-VLOOKUP(A15,anni!$A$1:$O$32,8,0))*(M15-I15/300)+I15)/300*(300-VLOOKUP(A15,anni!$A$1:$O$32,7,0)) -> 6.275637 | O15: =MAX(1,N15) -> 6.275637 | P15: =INT(MAX(1,O15)+1-VLOOKUP(A15,anni!$A$1:$O$32,5,0)) -> 6 | Q15: {=SUM(IF(anno=A15,IF(distretto=E15,concorrenti!$T$3:$T$5991)))} -> 0 | R15: =P15+Q15 -> 6 | S15: =R15-F15 -> 0 | T15: =1+INT($N15/VLOOKUP($A15,anni!$A$1:$J$35,10,0))+$Q15 -> 6 | U15: =T15-$F15 -> 0 | X15: 15 | Y15: 19 | Z15: =-(Y15-X15)/SQRT(AVERAGE(X15:Y15)) -> -0.9701425
... A95: 2016 | B95: =VLOOKUP($E95,accorpamenti!$A$2:$X$104,$A95-B$2,0) -> Aosta | C95: =VLOOKUP($E95,accorpamenti!$A$2:$X$104,$A95-C$2,0) -> Aosta | D95: =VLOOKUP($E95,accorpamenti!$A$2:$X$104,$A95-D$2,0) -> Aosta | E95: Aosta | F95: {=SUM(IF(anno=A95,IF(distretto=E95,1)))} -> 1 | G95: {=SUM(IF(anno=A95,IF(distretto=E95,IF(punti=-1,1))))} -> 0 | H95: {=SUM(IF(anno=A95,IF(distretto=E95,punti)))+G95} -> 1.4 | I95: =X95/1465*300 -> 0.40955631 | J95: =H95/VLOOKUP(A95,anni!$A$1:$O$32,4,0) -> 0.00033518483 | K95: =SUMIFS($J$2:$J$1979,anno_2,A95-1,$C$2:$C$1979,B95) -> 0.0016815 | L95: =SUMIFS($J$2:$J$1979,anno_2,A95-2,$D$2:$D$1979,B95) -> 0.0005276488 | M95: {=SUM(IF(NOT(ISERR(J95:L95)),J95:L95*$J$2:$L$2))/SUM(IF(NOT(ISERR(J95:L95)),$J$2:$L$2))} -> 0.00081603389 | N95: =((300-VLOOKUP(A95,anni!$A$1:$O$32,8,0))*(M95-I95/300)+I95)/300*(300-VLOOKUP(A95,anni!$A$1:$O$32,7,0)) -> 0.26319226 | O95: =MAX(1,N95) -> 1 | P95: =INT(MAX(1,O95)+1-VLOOKUP(A95,anni!$A$1:$O$32,5,0)) -> 1 | Q95: {=SUM(IF(anno=A95,IF(distretto=E95,concorrenti!$T$3:$T$5991)))} -> 0 | R95: =P95+Q95 -> 1 | S95: =R95-F95 -> 0 | T95: =1+INT($N95/VLOOKUP($A95,anni!$A$1:$J$35,10,0))+$Q95 -> 1 | U95: =T95-$F95 -> 0 | X95: 2 | Y95: 2 | Z95: =-(Y95-X95)/SQRT(AVERAGE(X95:Y95)) -> 0
A96: 2015 | B96: =VLOOKUP($E96,accorpamenti!$A$2:$X$104,$A96-B$2,0) -> Roma | C96: =VLOOKUP($E96,accorpamenti!$A$2:$X$104,$A96-C$2,0) -> Roma | D96: =VLOOKUP($E96,accorpamenti!$A$2:$X$104,$A96-D$2,0) -> Roma | E96: Roma | F96: {=SUM(IF(anno=A96,IF(distretto=E96,1)))} -> 21 | G96: {=SUM(IF(anno=A96,IF(distretto=E96,IF(punti=-1,1))))} -> 0 | H96: {=SUM(IF(anno=A96,IF(distretto=E96,punti)))+G96} -> 363.4 | I96: 26.050999 | J96: =H96/VLOOKUP(A96,anni!$A$1:$O$32,4,0) -> 0.067895234 | K96: =SUMIFS($J$2:$J$1979,anno_2,A96-1,$C$2:$C$1979,B96) -> 0.0875897 | L96: =SUMIFS($J$2:$J$1979,anno_2,A96-2,$D$2:$D$1979,B96) -> 0.070055393 | M96: {=SUM(IF(NOT(ISERR(J96:L96)),J96:L96*$J$2:$L$2))/SUM(IF(NOT(ISERR(J96:L96)),$J$2:$L$2))} -> 0.074820083 | N96: =((300-VLOOKUP(A96,anni!$A$1:$O$32,8,0))*(M96-I96/300)+I96)/300*(300-VLOOKUP(A96,anni!$A$1:$O$32,7,0)) -> 22.12498 | O96: =MAX(1,N96) -> 22.12498 | P96: =INT(MAX(1,O96)+1-VLOOKUP(A96,anni!$A$1:$O$32,5,0)) -> 22 | Q96: {=SUM(IF(anno=A96,IF(distretto=E96,concorrenti!$T$3:$T$5991)))} -> 2 | R96: =P96+Q96 -> 24 | S96: =R96-F96 -> 3 | T96: =1+INT($N96/VLOOKUP($A96,anni!$A$1:$J$35,10,0))+$Q96 -> 21 | U96: =T96-$F96 -> 0 | X96: 126 | Y96: 110 | Z96: =-(Y96-X96)/SQRT(AVERAGE(X96:Y96)) -> 1.4729194
A97: 2015 | B97: =VLOOKUP($E97,accorpamenti!$A$2:$X$104,$A97-B$2,0) -> Brescia | C97: =VLOOKUP($E97,accorpamenti!$A$2:$X$104,$A97-C$2,0) -> Brescia | D97: =VLOOKUP($E97,accorpamenti!$A$2:$X$104,$A97-D$2,0) -> Brescia | E97: Brescia | F97: {=SUM(IF(anno=A97,IF(distretto=E97,1)))} -> 11 | G97: {=SUM(IF(anno=A97,IF(distretto=E97,IF(punti=-1,1))))} -> 0 | H97: {=SUM(IF(anno=A97,IF(distretto=E97,punti)))+G97} -> 276 | I97: 3.1013094 | J97: =H97/VLOOKUP(A97,anni!$A$1:$O$32,4,0) -> 0.051566001 | K97: =SUMIFS($J$2:$J$1979,anno_2,A97-1,$C$2:$C$1979,B97) -> 0.030445336 | L97: =SUMIFS($J$2:$J$1979,anno_2,A97-2,$D$2:$D$1979,B97) -> 0.044802867 | M97: {=SUM(IF(NOT(ISERR(J97:L97)),J97:L97*$J$2:$L$2))/SUM(IF(NOT(ISERR(J97:L97)),$J$2:$L$2))} -> 0.04339859 | N97: =((300-VLOOKUP(A97,anni!$A$1:$O$32,8,0))*(M97-I97/300)+I97)/300*(300-VLOOKUP(A97,anni!$A$1:$O$32,7,0)) -> 10.911871 | O97: =MAX(1,N97) -> 10.911871 | P97: =INT(MAX(1,O97)+1-VLOOKUP(A97,anni!$A$1:$O$32,5,0)) -> 11 | Q97: {=SUM(IF(anno=A97,IF(distretto=E97,concorrenti!$T$3:$T$5991)))} -> 1 | R97: =P97+Q97 -> 12 | S97: =R97-F97 -> 1 | T97: =1+INT($N97/VLOOKUP($A97,anni!$A$1:$J$35,10,0))+$Q97 -> 11 | U97: =T97-$F97 -> 0 | X97: 15 | Y97: 20 | Z97: =-(Y97-X97)/SQRT(AVERAGE(X97:Y97)) -> -1.1952286
A98: 2015 | B98: =VLOOKUP($E98,accorpamenti!$A$2:$X$104,$A98-B$2,0) -> Napoli | C98: =VLOOKUP($E98,accorpamenti!$A$2:$X$104,$A98-C$2,0) -> Napoli | D98: =VLOOKUP($E98,accorpamenti!$A$2:$X$104,$A98-D$2,0) -> Napoli | E98: Napoli | F98: {=SUM(IF(anno=A98,IF(distretto=E98,1)))} -> 10 | G98: {=SUM(IF(anno=A98,IF(distretto=E98,IF(punti=-1,1))))} -> 0 | H98: {=SUM(IF(anno=A98,IF(distretto=E98,punti)))+G98} -> 131 | I98: 16.126809 | J98: =H98/VLOOKUP(A98,anni!$A$1:$O$32,4,0) -> 0.024475167 | K98: =SUMIFS($J$2:$J$1979,anno_2,A98-1,$C$2:$C$1979,B98) -> 0.031711693 | L98: =SUMIFS($J$2:$J$1979,anno_2,A98-2,$D$2:$D$1979,B98) -> 0.037905941 | M98: {=SUM(IF(NOT(ISERR(J98:L98)),J98:L98*$J$2:$L$2))/SUM(IF(NOT(ISERR(J98:L98)),$J$2:$L$2))} -> 0.029125805 | N98: =((300-VLOOKUP(A98,anni!$A$1:$O$32,8,0))*(M98-I98/300)+I98)/300*(300-VLOOKUP(A98,anni!$A$1:$O$32,7,0)) -> 9.5704826 | O98: =MAX(1,N98) -> 9.5704826 | P98: =INT(MAX(1,O98)+1-VLOOKUP(A98,anni!$A$1:$O$32,5,0)) -> 10 | Q98: {=SUM(IF(anno=A98,IF(distretto=E98,concorrenti!$T$3:$T$5991)))} -> 2 | R98: =P98+Q98 -> 12 | S98: =R98-F98 -> 2 | T98: =1+INT($N98/VLOOKUP($A98,anni!$A$1:$J$35,10,0))+$Q98 -> 11 | U98: =T98-$F98 -> 1 | X98: 78 | Y98: 73 | Z98: =-(Y98-X98)/SQRT(AVERAGE(X98:Y98)) -> 0.57543534
A99: 2015 | B99: =VLOOKUP($E99,accorpamenti!$A$2:$X$104,$A99-B$2,0) -> Milano | C99: =VLOOKUP($E99,accorpamenti!$A$2:$X$104,$A99-C$2,0) -> Milano | D99: =VLOOKUP($E99,accorpamenti!$A$2:$X$104,$A99-D$2,0) -> Milano | E99: Milano | F99: {=SUM(IF(anno=A99,IF(distretto=E99,1)))} -> 10 | G99: {=SUM(IF(anno=A99,IF(distretto=E99,IF(punti=-1,1))))} -> 0 | H99: {=SUM(IF(anno=A99,IF(distretto=E99,punti)))+G99} -> 214.6 | I99: 9.9241902 | J99: =H99/VLOOKUP(A99,anni!$A$1:$O$32,4,0) -> 0.040094434 | K99: =SUMIFS($J$2:$J$1979,anno_2,A99-1,$C$2:$C$1979,B99) -> 0.041473195 | L99: =SUMIFS($J$2:$J$1979,anno_2,A99-2,$D$2:$D$1979,B99) -> 0.033072662 | M99: {=SUM(IF(NOT(ISERR(J99:L99)),J99:L99*$J$2:$L$2))/SUM(IF(NOT(ISERR(J99:L99)),$J$2:$L$2))} -> 0.039383726 | N99: =((300-VLOOKUP(A99,anni!$A$1:$O$32,8,0))*(M99-I99/300)+I99)/300*(300-VLOOKUP(A99,anni!$A$1:$O$32,7,0)) -> 11.039965 | O99: =MAX(1,N99) -> 11.039965 | P99: =INT(MAX(1,O99)+1-VLOOKUP(A99,anni!$A$1:$O$32,5,0)) -> 11 | Q99: {=SUM(IF(anno=A99,IF(distretto=E99,concorrenti!$T$3:$T$5991)))} -> 0 | R99: =P99+Q99 -> 11 | S99: =R99-F99 -> 1 | T99: =1+INT($N99/VLOOKUP($A99,anni!$A$1:$J$35,10,0))+$Q99 -> 10 | U99: =T99-$F99 -> 0 | V99: 1 | X99: 48 | Y99: 47 | Z99: =-(Y99-X99)/SQRT(AVERAGE(X99:Y99)) -> 0.14509525
A100: 2015 | B100: =VLOOKUP($E100,accorpamenti!$A$2:$X$104,$A100-B$2,0) -> Torino | C100: =VLOOKUP($E100,accorpamenti!$A$2:$X$104,$A100-C$2,0) -> Torino | D100: =VLOOKUP($E100,accorpamenti!$A$2:$X$104,$A100-D$2,0) -> Torino | E100: Torino | F100: {=SUM(IF(anno=A100,IF(distretto=E100,1)))} -> 11 | G100: {=SUM(IF(anno=A100,IF(distretto=E100,IF(punti=-1,1))))} -> 0 | H100: {=SUM(IF(anno=A100,IF(distretto=E100,punti)))+G100} -> 188 | I100: 13.232254 | J100: =H100/VLOOKUP(A100,anni!$A$1:$O$32,4,0) -> 0.035124667 | K100: =SUMIFS($J$2:$J$1979,anno_2,A100-1,$C$2:$C$1979,B100) -> 0.035774588 | L100: =SUMIFS($J$2:$J$1979,anno_2,A100-2,$D$2:$D$1979,B100) -> 0.041978929 | M100: {=SUM(IF(NOT(ISERR(J100:L100)),J100:L100*$J$2:$L$2))/SUM(IF(NOT(ISERR(J100:L100)),$J$2:$L$2))} -> 0.036483685 | N100: =((300-VLOOKUP(A100,anni!$A$1:$O$32,8,0))*(M100-I100/300)+I100)/300*(300-VLOOKUP(A100,anni!$A$1:$O$32,7,0)) -> 10.873245 | O100: =MAX(1,N100) -> 10.873245 | P100: =INT(MAX(1,O100)+1-VLOOKUP(A100,anni!$A$1:$O$32,5,0)) -> 11 | Q100: {=SUM(IF(anno=A100,IF(distretto=E100,concorrenti!$T$3:$T$5991)))} -> 0 | R100: =P100+Q100 -> 11 | S100: =R100-F100 -> 0 | T100: =1+INT($N100/VLOOKUP($A100,anni!$A$1:$J$35,10,0))+$Q100 -> 10 | U100: =T100-$F100 -> -1 | X100: 64 | Y100: 65 | Z100: =-(Y100-X100)/SQRT(AVERAGE(X100:Y100)) -> -0.12451456
A101: 2015 | B101: =VLOOKUP($E101,accorpamenti!$A$2:$X$104,$A101-B$2,0) -> Treviso | C101: =VLOOKUP($E101,accorpamenti!$A$2:$X$104,$A101-C$2,0) -> Treviso | D101: =VLOOKUP($E101,accorpamenti!$A$2:$X$104,$A101-D$2,0) -> Treviso | E101: Treviso | F101: {=SUM(IF(anno=A101,IF(distretto=E101,1)))} -> 8 | G101: {=SUM(IF(anno=A101,IF(distretto=E101,IF(punti=-1,1))))} -> 0 | H101: {=SUM(IF(anno=A101,IF(distretto=E101,punti)))+G101} -> 143.4 | I101: 4.3418332 | J101: =H101/VLOOKUP(A101,anni!$A$1:$O$32,4,0) -> 0.0267919 | K101: =SUMIFS($J$2:$J$1979,anno_2,A101-1,$C$2:$C$1979,B101) -> 0.040101309 | L101: =SUMIFS($J$2:$J$1979,anno_2,A101-2,$D$2:$D$1979,B101) -> 0.030085804 | M101: {=SUM(IF(NOT(ISERR(J101:L101)),J101:L101*$J$2:$L$2))/SUM(IF(NOT(ISERR(J101:L101)),$J$2:$L$2))} -> 0.031777354 | N101: =((300-VLOOKUP(A101,anni!$A$1:$O$32,8,0))*(M101-I101/300)+I101)/300*(300-VLOOKUP(A101,anni!$A$1:$O$32,7,0)) -> 8.3212582 | O101: =MAX(1,N101) -> 8.3212582 | P101: =INT(MAX(1,O101)+1-VLOOKUP(A101,anni!$A$1:$O$32,5,0)) -> 8 | Q101: {=SUM(IF(anno=A101,IF(distretto=E101,concorrenti!$T$3:$T$5991)))} -> 0 | R101: =P101+Q101 -> 8 | S101: =R101-F101 -> 0 | T101: =1+INT($N101/VLOOKUP($A101,anni!$A$1:$J$35,10,0))+$Q101 -> 8 | U101: =T101-$F101 -> 0 | X101: 21 | Y101: 22 | Z101: =-(Y101-X101)/SQRT(AVERAGE(X101:Y101)) -> -0.21566555
A102: 2015 | B102: =VLOOKUP($E102,accorpamenti!$A$2:$X$104,$A102-B$2,0) -> Bari | C102: =VLOOKUP($E102,accorpamenti!$A$2:$X$104,$A102-C$2,0) -> Bari | D102: =VLOOKUP($E102,accorpamenti!$A$2:$X$104,$A102-D$2,0) -> Bari | E102: Bari | F102: {=SUM(IF(anno=A102,IF(distretto=E102,1)))} -> 8 | G102: {=SUM(IF(anno=A102,IF(distretto=E102,IF(punti=-1,1))))} -> 0 | H102: {=SUM(IF(anno=A102,IF(distretto=E102,punti)))+G102} -> 106 | I102: 8.8904204 | J102: =H102/VLOOKUP(A102,anni!$A$1:$O$32,4,0) -> 0.019804334 | K102: =SUMIFS($J$2:$J$1979,anno_2,A102-1,$C$2:$C$1979,B102) -> 0.024852258 | L102: =SUMIFS($J$2:$J$1979,anno_2,A102-2,$D$2:$D$1979,B102) -> 0.037743022 | M102: {=SUM(IF(NOT(ISERR(J102:L102)),J102:L102*$J$2:$L$2))/SUM(IF(NOT(ISERR(J102:L102)),$J$2:$L$2))} -> 0.024476757 | N102: =((300-VLOOKUP(A102,anni!$A$1:$O$32,8,0))*(M102-I102/300)+I102)/300*(300-VLOOKUP(A102,anni!$A$1:$O$32,7,0)) -> 7.2968888 | O102: =MAX(1,N102) -> 7.2968888 | P102: =INT(MAX(1,O102)+1-VLOOKUP(A102,anni!$A$1:$O$32,5,0)) -> 7 | Q102: {=SUM(IF(anno=A102,IF(distretto=E102,concorrenti!$T$3:$T$5991)))} -> 1 | R102: =P102+Q102 -> 8 | S102: =R102-F102 -> 0 | T102: =1+INT($N102/VLOOKUP($A102,anni!$A$1:$J$35,10,0))+$Q102 -> 8 | U102: =T102-$F102 -> 0 | X102: 43 | Y102: 46 | Z102: =-(Y102-X102)/SQRT(AVERAGE(X102:Y102)) -> -0.44971901
A103: 2015 | B103: =VLOOKUP($E103,accorpamenti!$A$2:$X$104,$A103-B$2,0) -> Udine | C103: =VLOOKUP($E103,accorpamenti!$A$2:$X$104,$A103-C$2,0) -> Udine | D103: =VLOOKUP($E103,accorpamenti!$A$2:$X$104,$A103-D$2,0) -> Udine | E103: Udine | F103: {=SUM(IF(anno=A103,IF(distretto=E103,1)))} -> 7 | G103: {=SUM(IF(anno=A103,IF(distretto=E103,IF(punti=-1,1))))} -> 0 | H103: {=SUM(IF(anno=A103,IF(distretto=E103,punti)))+G103} -> 166 | I103: 4.1350793 | J103: =H103/VLOOKUP(A103,anni!$A$1:$O$32,4,0) -> 0.031014334 | K103: =SUMIFS($J$2:$J$1979,anno_2,A103-1,$C$2:$C$1979,B103) -> 0.028756859 | L103: =SUMIFS($J$2:$J$1979,anno_2,A103-2,$D$2:$D$1979,B103) -> 0.036711198 | M103: {=SUM(IF(NOT(ISERR(J103:L103)),J103:L103*$J$2:$L$2))/SUM(IF(NOT(ISERR(J103:L103)),$J$2:$L$2))} -> 0.03121132 | N103: =((300-VLOOKUP(A103,anni!$A$1:$O$32,8,0))*(M103-I103/300)+I103)/300*(300-VLOOKUP(A103,anni!$A$1:$O$32,7,0)) -> 8.1523294 | O103: =MAX(1,N103) -> 8.1523294 | P103: =INT(MAX(1,O103)+1-VLOOKUP(A103,anni!$A$1:$O$32,5,0)) -> 8 | Q103: {=SUM(IF(anno=A103,IF(distretto=E103,concorrenti!$T$3:$T$5991)))} -> 0 | R103: =P103+Q103 -> 8 | S103: =R103-F103 -> 1 | T103: =1+INT($N103/VLOOKUP($A103,anni!$A$1:$J$35,10,0))+$Q103 -> 7 | U103: =T103-$F103 -> 0 | X103: 20 | Y103: 17 | Z103: =-(Y103-X103)/SQRT(AVERAGE(X103:Y103)) -> 0.69748583
A104: 2015 | B104: =VLOOKUP($E104,accorpamenti!$A$2:$X$104,$A104-B$2,0) -> Vicenza | C104: =VLOOKUP($E104,accorpamenti!$A$2:$X$104,$A104-C$2,0) -> Vicenza | D104: =VLOOKUP($E104,accorpamenti!$A$2:$X$104,$A104-D$2,0) -> Vicenza | E104: Vicenza | F104: {=SUM(IF(anno=A104,IF(distretto=E104,1)))} -> 7 | G104: {=SUM(IF(anno=A104,IF(distretto=E104,IF(punti=-1,1))))} -> 0 | H104: {=SUM(IF(anno=A104,IF(distretto=E104,punti)))+G104} -> 168.6 | I104: 4.5485872 | J104: =H104/VLOOKUP(A104,anni!$A$1:$O$32,4,0) -> 0.0315001 | K104: =SUMIFS($J$2:$J$1979,anno_2,A104-1,$C$2:$C$1979,B104) -> 0.028123681 | L104: =SUMIFS($J$2:$J$1979,anno_2,A104-2,$D$2:$D$1979,B104) -> 0.034701857 | M104: {=SUM(IF(NOT(ISERR(J104:L104)),J104:L104*$J$2:$L$2))/SUM(IF(NOT(ISERR(J104:L104)),$J$2:$L$2))} -> 0.030908253 | N104: =((300-VLOOKUP(A104,anni!$A$1:$O$32,8,0))*(M104-I104/300)+I104)/300*(300-VLOOKUP(A104,anni!$A$1:$O$32,7,0)) -> 8.1457548 | O104: =MAX(1,N104) -> 8.1457548 | P104: =INT(MAX(1,O104)+1-VLOOKUP(A104,anni!$A$1:$O$32,5,0)) -> 8 | Q104: {=SUM(IF(anno=A104,IF(distretto=E104,concorrenti!$T$3:$T$5991)))} -> 0 | R104: =P104+Q104 -> 8 | S104: =R104-F104 -> 1 | T104: =1+INT($N104/VLOOKUP($A104,anni!$A$1:$J$35,10,0))+$Q104 -> 7 | U104: =T104-$F104 -> 0 | X104: 22 | Y104: 26 | Z104: =-(Y104-X104)/SQRT(AVERAGE(X104:Y104)) -> -0.81649658
A105: 2015 | B105: =VLOOKUP($E105,accorpamenti!$A$2:$X$104,$A105-B$2,0) -> Reggio Emilia | C105: =VLOOKUP($E105,accorpamenti!$A$2:$X$104,$A105-C$2,0) -> Reggio Emilia | D105: =VLOOKUP($E105,accorpamenti!$A$2:$X$104,$A105-D$2,0) -> Reggio Emilia | E105: Reggio Emilia | F105: {=SUM(IF(anno=A105,IF(distretto=E105,1)))} -> 6 | G105: {=SUM(IF(anno=A105,IF(distretto=E105,IF(punti=-1,1))))} -> 0 | H105: {=SUM(IF(anno=A105,IF(distretto=E105,punti)))+G105} -> 85.2 | I105: 2.8945555 | J105: =H105/VLOOKUP(A105,anni!$A$1:$O$32,4,0) -> 0.0159182 | K105: =SUMIFS($J$2:$J$1979,anno_2,A105-1,$C$2:$C$1979,B105) -> 0.031131279 | L105: =SUMIFS($J$2:$J$1979,anno_2,A105-2,$D$2:$D$1979,B105) -> 0.025143912 | M105: {=SUM(IF(NOT(ISERR(J105:L105)),J105:L105*$J$2:$L$2))/SUM(IF(NOT(ISERR(J105:L105)),$J$2:$L$2))} -> 0.022526845 | N105: =((300-VLOOKUP(A105,anni!$A$1:$O$32,8,0))*(M105-I105/300)+I105)/300*(300-VLOOKUP(A105,anni!$A$1:$O$32,7,0)) -> 5.8695717 | O105: =MAX(1,N105) -> 5.8695717 | P105: =INT(MAX(1,O105)+1-VLOOKUP(A105,anni!$A$1:$O$32,5,0)) -> 6 | Q105: {=SUM(IF(anno=A105,IF(distretto=E105,concorrenti!$T$3:$T$5991)))} -> 1 | R105: =P105+Q105 -> 7 | S105: =R105-F105 -> 1 | T105: =1+INT($N105/VLOOKUP($A105,anni!$A$1:$J$35,10,0))+$Q105 -> 7 | U105: =T105-$F105 -> 1 | X105: 14 | Y105: 14 | Z105: =-(Y105-X105)/SQRT(AVERAGE(X105:Y105)) -> 0
A106: 2015 | B106: =VLOOKUP($E106,accorpamenti!$A$2:$X$104,$A106-B$2,0) -> Trento | C106: =VLOOKUP($E106,accorpamenti!$A$2:$X$104,$A106-C$2,0) -> Trento | D106: =VLOOKUP($E106,accorpamenti!$A$2:$X$104,$A106-D$2,0) -> Trento | E106: Trento | F106: {=SUM(IF(anno=A106,IF(distretto=E106,1)))} -> 6 | G106: {=SUM(IF(anno=A106,IF(distretto=E106,IF(punti=-1,1))))} -> 0 | H106: {=SUM(IF(anno=A106,IF(distretto=E106,punti)))+G106} -> 114.6 | I106: 3.9283253 | J106: =H106/VLOOKUP(A106,anni!$A$1:$O$32,4,0) -> 0.0214111 | K106: =SUMIFS($J$2:$J$1979,anno_2,A106-1,$C$2:$C$1979,B106) -> 0.022266779 | L106: =SUMIFS($J$2:$J$1979,anno_2,A106-2,$D$2:$D$1979,B106) -> 0.027207559 | M106: {=SUM(IF(NOT(ISERR(J106:L106)),J106:L106*$J$2:$L$2))/SUM(IF(NOT(ISERR(J106:L106)),$J$2:$L$2))} -> 0.022662403 | N106: =((300-VLOOKUP(A106,anni!$A$1:$O$32,8,0))*(M106-I106/300)+I106)/300*(300-VLOOKUP(A106,anni!$A$1:$O$32,7,0)) -> 6.0675088 | O106: =MAX(1,N106) -> 6.0675088 | P106: =INT(MAX(1,O106)+1-VLOOKUP(A106,anni!$A$1:$O$32,5,0)) -> 6 | Q106: {=SUM(IF(anno=A106,IF(distretto=E106,concorrenti!$T$3:$T$5991)))} -> 0 | R106: =P106+Q106 -> 6 | S106: =R106-F106 -> 0 | T106: =1+INT($N106/VLOOKUP($A106,anni!$A$1:$J$35,10,0))+$Q106 -> 6 | U106: =T106-$F106 -> 0 | X106: 19 | Y106: 18 | Z106: =-(Y106-X106)/SQRT(AVERAGE(X106:Y106)) -> 0.23249528
A107: 2015 | B107: =VLOOKUP($E107,accorpamenti!$A$2:$X$104,$A107-B$2,0) -> Massa Carrara | C107: =VLOOKUP($E107,accorpamenti!$A$2:$X$104,$A107-C$2,0) -> Massa Carrara | D107: =VLOOKUP($E107,accorpamenti!$A$2:$X$104,$A107-D$2,0) -> Massa Carrara | E107: Massa Carrara | F107: {=SUM(IF(anno=A107,IF(distretto=E107,1)))} -> 6 | G107: {=SUM(IF(anno=A107,IF(distretto=E107,IF(punti=-1,1))))} -> 0 | H107: {=SUM(IF(anno=A107,IF(distretto=E107,punti)))+G107} -> 134.2 | I107: 1.6540317 | J107: =H107/VLOOKUP(A107,anni!$A$1:$O$32,4,0) -> 0.025073034 | K107: =SUMIFS($J$2:$J$1979,anno_2,A107-1,$C$2:$C$1979,B107) -> 0.021791895 | L107: =SUMIFS($J$2:$J$1979,anno_2,A107-2,$D$2:$D$1979,B107) -> 0.02237428 | M107: {=SUM(IF(NOT(ISERR(J107:L107)),J107:L107*$J$2:$L$2))/SUM(IF(NOT(ISERR(J107:L107)),$J$2:$L$2))} -> 0.023529529 | N107: =((300-VLOOKUP(A107,anni!$A$1:$O$32,8,0))*(M107-I107/300)+I107)/300*(300-VLOOKUP(A107,anni!$A$1:$O$32,7,0)) -> 5.911732 | O107: =MAX(1,N107) -> 5.911732 | P107: =INT(MAX(1,O107)+1-VLOOKUP(A107,anni!$A$1:$O$32,5,0)) -> 6 | Q107: {=SUM(IF(anno=A107,IF(distretto=E107,concorrenti!$T$3:$T$5991)))} -> 0 | R107: =P107+Q107 -> 6 | S107: =R107-F107 -> 0 | T107: =1+INT($N107/VLOOKUP($A107,anni!$A$1:$J$35,10,0))+$Q107 -> 6 | U107: =T107-$F107 -> 0 | X107: 8 | Y107: 8 | Z107: =-(Y107-X107)/SQRT(AVERAGE(X107:Y107)) -> 0
A108: 2015 | B108: =VLOOKUP($E108,accorpamenti!$A$2:$X$104,$A108-B$2,0) -> Bergamo | C108: =VLOOKUP($E108,accorpamenti!$A$2:$X$104,$A108-C$2,0) -> Bergamo | D108: =VLOOKUP($E108,accorpamenti!$A$2:$X$104,$A108-D$2,0) -> Bergamo | E108: Bergamo | F108: {=SUM(IF(anno=A108,IF(distretto=E108,1)))} -> 6 | G108: {=SUM(IF(anno=A108,IF(distretto=E108,IF(punti=-1,1))))} -> 0 | H108: {=SUM(IF(anno=A108,IF(distretto=E108,punti)))+G108} -> 95.4 | I108: 3.3080634 | J108: =H108/VLOOKUP(A108,anni!$A$1:$O$32,4,0) -> 0.0178239 | K108: =SUMIFS($J$2:$J$1979,anno_2,A108-1,$C$2:$C$1979,B108) -> 0.020156184 | L108: =SUMIFS($J$2:$J$1979,anno_2,A108-2,$D$2:$D$1979,B108) -> 0.028510916 | M108: {=SUM(IF(NOT(ISERR(J108:L108)),J108:L108*$J$2:$L$2))/SUM(IF(NOT(ISERR(J108:L108)),$J$2:$L$2))} -> 0.020382497 | N108: =((300-VLOOKUP(A108,anni!$A$1:$O$32,8,0))*(M108-I108/300)+I108)/300*(300-VLOOKUP(A108,anni!$A$1:$O$32,7,0)) -> 5.4210895 | O108: =MAX(1,N108) -> 5.4210895 | P108: =INT(MAX(1,O108)+1-VLOOKUP(A108,anni!$A$1:$O$32,5,0)) -> 5 | Q108: {=SUM(IF(anno=A108,IF(distretto=E108,concorrenti!$T$3:$T$5991)))} -> 0 | R108: =P108+Q108 -> 5 | S108: =R108-F108 -> -1 | T108: =1+INT($N108/VLOOKUP($A108,anni!$A$1:$J$35,10,0))+$Q108 -> 5 | U108: =T108-$F108 -> -1 | X108: 16 | Y108: 16 | Z108: =-(Y108-X108)/SQRT(AVERAGE(X108:Y108)) -> 0
A109: 2015 | B109: =VLOOKUP($E109,accorpamenti!$A$2:$X$104,$A109-B$2,0) -> Lecce | C109: =VLOOKUP($E109,accorpamenti!$A$2:$X$104,$A109-C$2,0) -> Lecce | D109: =VLOOKUP($E109,accorpamenti!$A$2:$X$104,$A109-D$2,0) -> Lecce | E109: Lecce | F109: {=SUM(IF(anno=A109,IF(distretto=E109,1)))} -> 6 | G109: {=SUM(IF(anno=A109,IF(distretto=E109,IF(punti=-1,1))))} -> 0 | H109: {=SUM(IF(anno=A109,IF(distretto=E109,punti)))+G109} -> 119 | I109: 4.7553411 | J109: =H109/VLOOKUP(A109,anni!$A$1:$O$32,4,0) -> 0.022233167 | K109: =SUMIFS($J$2:$J$1979,anno_2,A109-1,$C$2:$C$1979,B109) -> 0.013718869 | L109: =SUMIFS($J$2:$J$1979,anno_2,A109-2,$D$2:$D$1979,B109) -> 0.021613989 | M109: {=SUM(IF(NOT(ISERR(J109:L109)),J109:L109*$J$2:$L$2))/SUM(IF(NOT(ISERR(J109:L109)),$J$2:$L$2))} -> 0.019291871 | N109: =((300-VLOOKUP(A109,anni!$A$1:$O$32,8,0))*(M109-I109/300)+I109)/300*(300-VLOOKUP(A109,anni!$A$1:$O$32,7,0)) -> 5.3909037 | O109: =MAX(1,N109) -> 5.3909037 | P109: =INT(MAX(1,O109)+1-VLOOKUP(A109,anni!$A$1:$O$32,5,0)) -> 5 | Q109: {=SUM(IF(anno=A109,IF(distretto=E109,concorrenti!$T$3:$T$5991)))} -> 0 | R109: =P109+Q109 -> 5 | S109: =R109-F109 -> -1 | T109: =1+INT($N109/VLOOKUP($A109,anni!$A$1:$J$35,10,0))+$Q109 -> 5 | U109: =T109-$F109 -> -1 | X109: 23 | Y109: 23 | Z109: =-(Y109-X109)/SQRT(AVERAGE(X109:Y109)) -> 0
A110: 2015 | B110: =VLOOKUP($E110,accorpamenti!$A$2:$X$104,$A110-B$2,0) -> Firenze | C110: =VLOOKUP($E110,accorpamenti!$A$2:$X$104,$A110-C$2,0) -> Firenze | D110: =VLOOKUP($E110,accorpamenti!$A$2:$X$104,$A110-D$2,0) -> Firenze | E110: Firenze | F110: {=SUM(IF(anno=A110,IF(distretto=E110,1)))} -> 5 | G110: {=SUM(IF(anno=A110,IF(distretto=E110,IF(punti=-1,1))))} -> 0 | H110: {=SUM(IF(anno=A110,IF(distretto=E110,punti)))+G110} -> 107.4 | I110: 6.4093728 | J110: =H110/VLOOKUP(A110,anni!$A$1:$O$32,4,0) -> 0.0200659 | K110: =SUMIFS($J$2:$J$1979,anno_2,A110-1,$C$2:$C$1979,B110) -> 0.017043056 | L110: =SUMIFS($J$2:$J$1979,anno_2,A110-2,$D$2:$D$1979,B110) -> 0.014065385 | M110: {=SUM(IF(NOT(ISERR(J110:L110)),J110:L110*$J$2:$L$2))/SUM(IF(NOT(ISERR(J110:L110)),$J$2:$L$2))} -> 0.0180582 | N110: =((300-VLOOKUP(A110,anni!$A$1:$O$32,8,0))*(M110-I110/300)+I110)/300*(300-VLOOKUP(A110,anni!$A$1:$O$32,7,0)) -> 5.3594676 | O110: =MAX(1,N110) -> 5.3594676 | P110: =INT(MAX(1,O110)+1-VLOOKUP(A110,anni!$A$1:$O$32,5,0)) -> 5 | Q110: {=SUM(IF(anno=A110,IF(distretto=E110,concorrenti!$T$3:$T$5991)))} -> 0 | R110: =P110+Q110 -> 5 | S110: =R110-F110 -> 0 | T110: =1+INT($N110/VLOOKUP($A110,anni!$A$1:$J$35,10,0))+$Q110 -> 5 | U110: =T110-$F110 -> 0 | X110: 31 | Y110: 30 | Z110: =-(Y110-X110)/SQRT(AVERAGE(X110:Y110)) -> 0.18107149
A111: 2015 | B111: =VLOOKUP($E111,accorpamenti!$A$2:$X$104,$A111-B$2,0) -> Genova | C111: =VLOOKUP($E111,accorpamenti!$A$2:$X$104,$A111-C$2,0) -> Genova | D111: =VLOOKUP($E111,accorpamenti!$A$2:$X$104,$A111-D$2,0) -> Genova | E111: Genova | F111: {=SUM(IF(anno=A111,IF(distretto=E111,1)))} -> 6 | G111: {=SUM(IF(anno=A111,IF(distretto=E111,IF(punti=-1,1))))} -> 0 | H111: {=SUM(IF(anno=A111,IF(distretto=E111,punti)))+G111} -> 86.8 | I111: 4.5485872 | J111: =H111/VLOOKUP(A111,anni!$A$1:$O$32,4,0) -> 0.016217134 | K111: =SUMIFS($J$2:$J$1979,anno_2,A111-1,$C$2:$C$1979,B111) -> 0.017729 | L111: =SUMIFS($J$2:$J$1979,anno_2,A111-2,$D$2:$D$1979,B111) -> 0.027479092 | M111: {=SUM(IF(NOT(ISERR(J111:L111)),J111:L111*$J$2:$L$2))/SUM(IF(NOT(ISERR(J111:L111)),$J$2:$L$2))} -> 0.018598082 | N111: =((300-VLOOKUP(A111,anni!$A$1:$O$32,8,0))*(M111-I111/300)+I111)/300*(300-VLOOKUP(A111,anni!$A$1:$O$32,7,0)) -> 5.1913136 | O111: =MAX(1,N111) -> 5.1913136 | P111: =INT(MAX(1,O111)+1-VLOOKUP(A111,anni!$A$1:$O$32,5,0)) -> 5 | Q111: {=SUM(IF(anno=A111,IF(distretto=E111,concorrenti!$T$3:$T$5991)))} -> 0 | R111: =P111+Q111 -> 5 | S111: =R111-F111 -> -1 | T111: =1+INT($N111/VLOOKUP($A111,anni!$A$1:$J$35,10,0))+$Q111 -> 5 | U111: =T111-$F111 -> -1 | X111: 22 | Y111: 22 | Z111: =-(Y111-X111)/SQRT(AVERAGE(X111:Y111)) -> 0
... A127: 2015 | B127: =VLOOKUP($E127,accorpamenti!$A$2:$X$104,$A127-B$2,0) -> Pisa | C127: =VLOOKUP($E127,accorpamenti!$A$2:$X$104,$A127-C$2,0) -> Pisa | D127: =VLOOKUP($E127,accorpamenti!$A$2:$X$104,$A127-D$2,0) -> Pisa | E127: Pisa | F127: {=SUM(IF(anno=A127,IF(distretto=E127,1)))} -> 3 | G127: {=SUM(IF(anno=A127,IF(distretto=E127,IF(punti=-1,1))))} -> 0 | H127: {=SUM(IF(anno=A127,IF(distretto=E127,punti)))+G127} -> 63.4 | I127: 2.2742936 | J127: =H127/VLOOKUP(A127,anni!$A$1:$O$32,4,0) -> 0.011845234 | K127: =SUMIFS($J$2:$J$1979,anno_2,A127-1,$C$2:$C$1979,B127) -> 0.011344449 | L127: =SUMIFS($J$2:$J$1979,anno_2,A127-2,$D$2:$D$1979,B127) -> 0.010209623 | M127: {=SUM(IF(NOT(ISERR(J127:L127)),J127:L127*$J$2:$L$2))/SUM(IF(NOT(ISERR(J127:L127)),$J$2:$L$2))} -> 0.011405704 | N127: =((300-VLOOKUP(A127,anni!$A$1:$O$32,8,0))*(M127-I127/300)+I127)/300*(300-VLOOKUP(A127,anni!$A$1:$O$32,7,0)) -> 3.1012559 | O127: =MAX(1,N127) -> 3.1012559 | P127: =INT(MAX(1,O127)+1-VLOOKUP(A127,anni!$A$1:$O$32,5,0)) -> 3 | Q127: {=SUM(IF(anno=A127,IF(distretto=E127,concorrenti!$T$3:$T$5991)))} -> 0 | R127: =P127+Q127 -> 3 | S127: =R127-F127 -> 0 | T127: =1+INT($N127/VLOOKUP($A127,anni!$A$1:$J$35,10,0))+$Q127 -> 3 | U127: =T127-$F127 -> 0 | X127: 11 | Y127: 12 | Z127: =-(Y127-X127)/SQRT(AVERAGE(X127:Y127)) -> -0.29488391
A128: 2015 | B128: =VLOOKUP($E128,accorpamenti!$A$2:$X$104,$A128-B$2,0) -> Biella | C128: =VLOOKUP($E128,accorpamenti!$A$2:$X$104,$A128-C$2,0) -> Biella | D128: =VLOOKUP($E128,accorpamenti!$A$2:$X$104,$A128-D$2,0) -> Biella | E128: Biella | F128: {=SUM(IF(anno=A128,IF(distretto=E128,1)))} -> 5 | G128: {=SUM(IF(anno=A128,IF(distretto=E128,IF(punti=-1,1))))} -> 0 | H128: {=SUM(IF(anno=A128,IF(distretto=E128,punti)))+G128} -> 57 | I128: 2.0675396 | J128: =H128/VLOOKUP(A128,anni!$A$1:$O$32,4,0) -> 0.0106495 | K128: =SUMIFS($J$2:$J$1979,anno_2,A128-1,$C$2:$C$1979,B128) -> 0.011344449 | L128: =SUMIFS($J$2:$J$1979,anno_2,A128-2,$D$2:$D$1979,B128) -> 0.013630933 | M128: {=SUM(IF(NOT(ISERR(J128:L128)),J128:L128*$J$2:$L$2))/SUM(IF(NOT(ISERR(J128:L128)),$J$2:$L$2))} -> 0.011378055 | N128: =((300-VLOOKUP(A128,anni!$A$1:$O$32,8,0))*(M128-I128/300)+I128)/300*(300-VLOOKUP(A128,anni!$A$1:$O$32,7,0)) -> 3.0615396 | O128: =MAX(1,N128) -> 3.0615396 | P128: =INT(MAX(1,O128)+1-VLOOKUP(A128,anni!$A$1:$O$32,5,0)) -> 3 | Q128: {=SUM(IF(anno=A128,IF(distretto=E128,concorrenti!$T$3:$T$5991)))} -> 0 | R128: =P128+Q128 -> 3 | S128: =R128-F128 -> -2 | T128: =1+INT($N128/VLOOKUP($A128,anni!$A$1:$J$35,10,0))+$Q128 -> 3 | U128: =T128-$F128 -> -2 | V128: 1 | X128: 10 | Y128: 10 | Z128: =-(Y128-X128)/SQRT(AVERAGE(X128:Y128)) -> 0
A129: 2015 | B129: =VLOOKUP($E129,accorpamenti!$A$2:$X$104,$A129-B$2,0) -> Forlì Cesena | C129: =VLOOKUP($E129,accorpamenti!$A$2:$X$104,$A129-C$2,0) -> Forlì Cesena | D129: =VLOOKUP($E129,accorpamenti!$A$2:$X$104,$A129-D$2,0) -> Forlì Cesena | E129: Forlì Cesena | F129: {=SUM(IF(anno=A129,IF(distretto=E129,1)))} -> 3 | G129: {=SUM(IF(anno=A129,IF(distretto=E129,IF(punti=-1,1))))} -> 0 | H129: {=SUM(IF(anno=A129,IF(distretto=E129,punti)))+G129} -> 49.8 | I129: 3.1013094 | J129: =H129/VLOOKUP(A129,anni!$A$1:$O$32,4,0) -> 0.0093043001 | K129: =SUMIFS($J$2:$J$1979,anno_2,A129-1,$C$2:$C$1979,B129) -> 0.0061734909 | L129: =SUMIFS($J$2:$J$1979,anno_2,A129-2,$D$2:$D$1979,B129) -> 0.014934289 | M129: {=SUM(IF(NOT(ISERR(J129:L129)),J129:L129*$J$2:$L$2))/SUM(IF(NOT(ISERR(J129:L129)),$J$2:$L$2))} -> 0.0091990286 | N129: =((300-VLOOKUP(A129,anni!$A$1:$O$32,8,0))*(M129-I129/300)+I129)/300*(300-VLOOKUP(A129,anni!$A$1:$O$32,7,0)) -> 2.7039764 | O129: =MAX(1,N129) -> 2.7039764 | P129: =INT(MAX(1,O129)+1-VLOOKUP(A129,anni!$A$1:$O$32,5,0)) -> 3 | Q129: {=SUM(IF(anno=A129,IF(distretto=E129,concorrenti!$T$3:$T$5991)))} -> 0 | R129: =P129+Q129 -> 3 | S129: =R129-F129 -> 0 | T129: =1+INT($N129/VLOOKUP($A129,anni!$A$1:$J$35,10,0))+$Q129 -> 3 | U129: =T129-$F129 -> 0 | X129: 15 | Y129: 14 | Z129: =-(Y129-X129)/SQRT(AVERAGE(X129:Y129)) -> 0.26261287
A130: 2015 | B130: =VLOOKUP($E130,accorpamenti!$A$2:$X$104,$A130-B$2,0) -> Pescara | C130: =VLOOKUP($E130,accorpamenti!$A$2:$X$104,$A130-C$2,0) -> Pescara | D130: =VLOOKUP($E130,accorpamenti!$A$2:$X$104,$A130-D$2,0) -> Pescara | E130: Pescara | F130: {=SUM(IF(anno=A130,IF(distretto=E130,1)))} -> 3 | G130: {=SUM(IF(anno=A130,IF(distretto=E130,IF(punti=-1,1))))} -> 0 | H130: {=SUM(IF(anno=A130,IF(distretto=E130,punti)))+G130} -> 51.6 | I130: 2.0675396 | J130: =H130/VLOOKUP(A130,anni!$A$1:$O$32,4,0) -> 0.0096406001 | K130: =SUMIFS($J$2:$J$1979,anno_2,A130-1,$C$2:$C$1979,B130) -> 0.0078092022 | L130: =SUMIFS($J$2:$J$1979,anno_2,A130-2,$D$2:$D$1979,B130) -> 0.010806995 | M130: {=SUM(IF(NOT(ISERR(J130:L130)),J130:L130*$J$2:$L$2))/SUM(IF(NOT(ISERR(J130:L130)),$J$2:$L$2))} -> 0.0092245333 | N130: =((300-VLOOKUP(A130,anni!$A$1:$O$32,8,0))*(M130-I130/300)+I130)/300*(300-VLOOKUP(A130,anni!$A$1:$O$32,7,0)) -> 2.5446943 | O130: =MAX(1,N130) -> 2.5446943 | P130: =INT(MAX(1,O130)+1-VLOOKUP(A130,anni!$A$1:$O$32,5,0)) -> 3 | Q130: {=SUM(IF(anno=A130,IF(distretto=E130,concorrenti!$T$3:$T$5991)))} -> 0 | R130: =P130+Q130 -> 3 | S130: =R130-F130 -> 0 | T130: =1+INT($N130/VLOOKUP($A130,anni!$A$1:$J$35,10,0))+$Q130 -> 3 | U130: =T130-$F130 -> 0 | X130: 10 | Y130: 8 | Z130: =-(Y130-X130)/SQRT(AVERAGE(X130:Y130)) -> 0.66666667
A131: 2015 | B131: =VLOOKUP($E131,accorpamenti!$A$2:$X$104,$A131-B$2,0) -> Parma | C131: =VLOOKUP($E131,accorpamenti!$A$2:$X$104,$A131-C$2,0) -> Parma | D131: =VLOOKUP($E131,accorpamenti!$A$2:$X$104,$A131-D$2,0) -> Parma | E131: Parma | F131: {=SUM(IF(anno=A131,IF(distretto=E131,1)))} -> 2 | G131: {=SUM(IF(anno=A131,IF(distretto=E131,IF(punti=-1,1))))} -> 0 | H131: {=SUM(IF(anno=A131,IF(distretto=E131,punti)))+G131} -> 56.8 | I131: 2.0675396 | J131: =H131/VLOOKUP(A131,anni!$A$1:$O$32,4,0) -> 0.010612133 | K131: =SUMIFS($J$2:$J$1979,anno_2,A131-1,$C$2:$C$1979,B131) -> 0.0077564373 | L131: =SUMIFS($J$2:$J$1979,anno_2,A131-2,$D$2:$D$1979,B131) -> 0.0057564896 | M131: {=SUM(IF(NOT(ISERR(J131:L131)),J131:L131*$J$2:$L$2))/SUM(IF(NOT(ISERR(J131:L131)),$J$2:$L$2))} -> 0.0088509608 | N131: =((300-VLOOKUP(A131,anni!$A$1:$O$32,8,0))*(M131-I131/300)+I131)/300*(300-VLOOKUP(A131,anni!$A$1:$O$32,7,0)) -> 2.4550369 | O131: =MAX(1,N131) -> 2.4550369 | P131: =INT(MAX(1,O131)+1-VLOOKUP(A131,anni!$A$1:$O$32,5,0)) -> 2 | Q131: {=SUM(IF(anno=A131,IF(distretto=E131,concorrenti!$T$3:$T$5991)))} -> 0 | R131: =P131+Q131 -> 2 | S131: =R131-F131 -> 0 | T131: =1+INT($N131/VLOOKUP($A131,anni!$A$1:$J$35,10,0))+$Q131 -> 3 | U131: =T131-$F131 -> 1 | X131: 10 | Y131: 10 | Z131: =-(Y131-X131)/SQRT(AVERAGE(X131:Y131)) -> 0
A132: 2015 | B132: =VLOOKUP($E132,accorpamenti!$A$2:$X$104,$A132-B$2,0) -> Perugia | C132: =VLOOKUP($E132,accorpamenti!$A$2:$X$104,$A132-C$2,0) -> Perugia | D132: =VLOOKUP($E132,accorpamenti!$A$2:$X$104,$A132-D$2,0) -> Perugia | E132: Perugia | F132: {=SUM(IF(anno=A132,IF(distretto=E132,1)))} -> 2 | G132: {=SUM(IF(anno=A132,IF(distretto=E132,IF(punti=-1,1))))} -> 0 | H132: {=SUM(IF(anno=A132,IF(distretto=E132,punti)))+G132} -> 39.4 | I132: 3.5148174 | J132: =H132/VLOOKUP(A132,anni!$A$1:$O$32,4,0) -> 0.0073612334 | K132: =SUMIFS($J$2:$J$1979,anno_2,A132-1,$C$2:$C$1979,B132) -> 0.0084423808 | L132: =SUMIFS($J$2:$J$1979,anno_2,A132-2,$D$2:$D$1979,B132) -> 0.0073313783 | M132: {=SUM(IF(NOT(ISERR(J132:L132)),J132:L132*$J$2:$L$2))/SUM(IF(NOT(ISERR(J132:L132)),$J$2:$L$2))} -> 0.00771664 | N132: =((300-VLOOKUP(A132,anni!$A$1:$O$32,8,0))*(M132-I132/300)+I132)/300*(300-VLOOKUP(A132,anni!$A$1:$O$32,7,0)) -> 2.4143644 | O132: =MAX(1,N132) -> 2.4143644 | P132: =INT(MAX(1,O132)+1-VLOOKUP(A132,anni!$A$1:$O$32,5,0)) -> 2 | Q132: {=SUM(IF(anno=A132,IF(distretto=E132,concorrenti!$T$3:$T$5991)))} -> 0 | R132: =P132+Q132 -> 2 | S132: =R132-F132 -> 0 | T132: =1+INT($N132/VLOOKUP($A132,anni!$A$1:$J$35,10,0))+$Q132 -> 3 | U132: =T132-$F132 -> 1 | X132: 17 | Y132: 12 | Z132: =-(Y132-X132)/SQRT(AVERAGE(X132:Y132)) -> 1.3130643
A133: 2015 | B133: =VLOOKUP($E133,accorpamenti!$A$2:$X$104,$A133-B$2,0) -> Benevento | C133: =VLOOKUP($E133,accorpamenti!$A$2:$X$104,$A133-C$2,0) -> Benevento | D133: =VLOOKUP($E133,accorpamenti!$A$2:$X$104,$A133-D$2,0) -> Benevento | E133: Benevento | F133: {=SUM(IF(anno=A133,IF(distretto=E133,1)))} -> 2 | G133: {=SUM(IF(anno=A133,IF(distretto=E133,IF(punti=-1,1))))} -> 0 | H133: {=SUM(IF(anno=A133,IF(distretto=E133,punti)))+G133} -> 45.8 | I133: 2.2742936 | J133: =H133/VLOOKUP(A133,anni!$A$1:$O$32,4,0) -> 0.0085569668 | K133: =SUMIFS($J$2:$J$1979,anno_2,A133-1,$C$2:$C$1979,B133) -> 0.0088644998 | L133: =SUMIFS($J$2:$J$1979,anno_2,A133-2,$D$2:$D$1979,B133) -> 0.0068969263 | M133: {=SUM(IF(NOT(ISERR(J133:L133)),J133:L133*$J$2:$L$2))/SUM(IF(NOT(ISERR(J133:L133)),$J$2:$L$2))} -> 0.0083828044 | N133: =((300-VLOOKUP(A133,anni!$A$1:$O$32,8,0))*(M133-I133/300)+I133)/300*(300-VLOOKUP(A133,anni!$A$1:$O$32,7,0)) -> 2.37576 | O133: =MAX(1,N133) -> 2.37576 | P133: =INT(MAX(1,O133)+1-VLOOKUP(A133,anni!$A$1:$O$32,5,0)) -> 2 | Q133: {=SUM(IF(anno=A133,IF(distretto=E133,concorrenti!$T$3:$T$5991)))} -> 0 | R133: =P133+Q133 -> 2 | S133: =R133-F133 -> 0 | T133: =1+INT($N133/VLOOKUP($A133,anni!$A$1:$J$35,10,0))+$Q133 -> 3 | U133: =T133-$F133 -> 1 | X133: 11 | Y133: 13 | Z133: =-(Y133-X133)/SQRT(AVERAGE(X133:Y133)) -> -0.57735027
A134: 2015 | B134: =VLOOKUP($E134,accorpamenti!$A$2:$X$104,$A134-B$2,0) -> Macerata | C134: =VLOOKUP($E134,accorpamenti!$A$2:$X$104,$A134-C$2,0) -> Macerata | D134: =VLOOKUP($E134,accorpamenti!$A$2:$X$104,$A134-D$2,0) -> Macerata | E134: Macerata | F134: {=SUM(IF(anno=A134,IF(distretto=E134,1)))} -> 2 | G134: {=SUM(IF(anno=A134,IF(distretto=E134,IF(punti=-1,1))))} -> 0 | H134: {=SUM(IF(anno=A134,IF(distretto=E134,punti)))+G134} -> 36.4 | I134: 1.6540317 | J134: =H134/VLOOKUP(A134,anni!$A$1:$O$32,4,0) -> 0.0068007334 | K134: =SUMIFS($J$2:$J$1979,anno_2,A134-1,$C$2:$C$1979,B134) -> 0.011661038 | L134: =SUMIFS($J$2:$J$1979,anno_2,A134-2,$D$2:$D$1979,B134) -> 0.0013033561 | M134: {=SUM(IF(NOT(ISERR(J134:L134)),J134:L134*$J$2:$L$2))/SUM(IF(NOT(ISERR(J134:L134)),$J$2:$L$2))} -> 0.0075046055 | N134: =((300-VLOOKUP(A134,anni!$A$1:$O$32,8,0))*(M134-I134/300)+I134)/300*(300-VLOOKUP(A134,anni!$A$1:$O$32,7,0)) -> 2.0657504 | O134: =MAX(1,N134) -> 2.0657504 | P134: =INT(MAX(1,O134)+1-VLOOKUP(A134,anni!$A$1:$O$32,5,0)) -> 2 | Q134: {=SUM(IF(anno=A134,IF(distretto=E134,concorrenti!$T$3:$T$5991)))} -> 1 | R134: =P134+Q134 -> 3 | S134: =R134-F134 -> 1 | T134: =1+INT($N134/VLOOKUP($A134,anni!$A$1:$J$35,10,0))+$Q134 -> 3 | U134: =T134-$F134 -> 1 | X134: 8 | Y134: 9 | Z134: =-(Y134-X134)/SQRT(AVERAGE(X134:Y134)) -> -0.34299717
A135: 2015 | B135: =VLOOKUP($E135,accorpamenti!$A$2:$X$104,$A135-B$2,0) -> Pavia | C135: =VLOOKUP($E135,accorpamenti!$A$2:$X$104,$A135-C$2,0) -> Pavia | D135: =VLOOKUP($E135,accorpamenti!$A$2:$X$104,$A135-D$2,0) -> Pavia | E135: Pavia | F135: {=SUM(IF(anno=A135,IF(distretto=E135,1)))} -> 3 | G135: {=SUM(IF(anno=A135,IF(distretto=E135,IF(punti=-1,1))))} -> 0 | H135: {=SUM(IF(anno=A135,IF(distretto=E135,punti)))+G135} -> 22.4 | I135: 2.4810476 | J135: =H135/VLOOKUP(A135,anni!$A$1:$O$32,4,0) -> 0.0041850667 | K135: =SUMIFS($J$2:$J$1979,anno_2,A135-1,$C$2:$C$1979,B135) -> 0.010078092 | L135: =SUMIFS($J$2:$J$1979,anno_2,A135-2,$D$2:$D$1979,B135) -> 0.0070598458 | M135: {=SUM(IF(NOT(ISERR(J135:L135)),J135:L135*$J$2:$L$2))/SUM(IF(NOT(ISERR(J135:L135)),$J$2:$L$2))} -> 0.0066285383 | N135: =((300-VLOOKUP(A135,anni!$A$1:$O$32,8,0))*(M135-I135/300)+I135)/300*(300-VLOOKUP(A135,anni!$A$1:$O$32,7,0)) -> 1.9878168 | O135: =MAX(1,N135) -> 1.9878168 | P135: =INT(MAX(1,O135)+1-VLOOKUP(A135,anni!$A$1:$O$32,5,0)) -> 2 | Q135: {=SUM(IF(anno=A135,IF(distretto=E135,concorrenti!$T$3:$T$5991)))} -> 1 | R135: =P135+Q135 -> 3 | S135: =R135-F135 -> 0 | T135: =1+INT($N135/VLOOKUP($A135,anni!$A$1:$J$35,10,0))+$Q135 -> 3 | U135: =T135-$F135 -> 0 | X135: 12 | Y135: 13 | Z135: =-(Y135-X135)/SQRT(AVERAGE(X135:Y135)) -> -0.28284271
A136: 2015 | B136: =VLOOKUP($E136,accorpamenti!$A$2:$X$104,$A136-B$2,0) -> Modena | C136: =VLOOKUP($E136,accorpamenti!$A$2:$X$104,$A136-C$2,0) -> Modena | D136: =VLOOKUP($E136,accorpamenti!$A$2:$X$104,$A136-D$2,0) -> Modena | E136: Modena | F136: {=SUM(IF(anno=A136,IF(distretto=E136,1)))} -> 3 | G136: {=SUM(IF(anno=A136,IF(distretto=E136,IF(punti=-1,1))))} -> 0 | H136: {=SUM(IF(anno=A136,IF(distretto=E136,punti)))+G136} -> 31.2 | I136: 3.3080634 | J136: =H136/VLOOKUP(A136,anni!$A$1:$O$32,4,0) -> 0.0058292001 | K136: =SUMIFS($J$2:$J$1979,anno_2,A136-1,$C$2:$C$1979,B136) -> 0.0073870832 | L136: =SUMIFS($J$2:$J$1979,anno_2,A136-2,$D$2:$D$1979,B136) -> 0.013087868 | M136: {=SUM(IF(NOT(ISERR(J136:L136)),J136:L136*$J$2:$L$2))/SUM(IF(NOT(ISERR(J136:L136)),$J$2:$L$2))} -> 0.0075582724 | N136: =((300-VLOOKUP(A136,anni!$A$1:$O$32,8,0))*(M136-I136/300)+I136)/300*(300-VLOOKUP(A136,anni!$A$1:$O$32,7,0)) -> 2.3432755 | O136: =MAX(1,N136) -> 2.3432755 | P136: =INT(MAX(1,O136)+1-VLOOKUP(A136,anni!$A$1:$O$32,5,0)) -> 2 | Q136: {=SUM(IF(anno=A136,IF(distretto=E136,concorrenti!$T$3:$T$5991)))} -> 0 | R136: =P136+Q136 -> 2 | S136: =R136-F136 -> -1 | T136: =1+INT($N136/VLOOKUP($A136,anni!$A$1:$J$35,10,0))+$Q136 -> 2 | U136: =T136-$F136 -> -1 | X136: 16 | Y136: 18 | Z136: =-(Y136-X136)/SQRT(AVERAGE(X136:Y136)) -> -0.48507125
A137: 2015 | B137: =VLOOKUP($E137,accorpamenti!$A$2:$X$104,$A137-B$2,0) -> Alessandria | C137: =VLOOKUP($E137,accorpamenti!$A$2:$X$104,$A137-C$2,0) -> Alessandria | D137: =VLOOKUP($E137,accorpamenti!$A$2:$X$104,$A137-D$2,0) -> Alessandria | E137: Alessandria | F137: {=SUM(IF(anno=A137,IF(distretto=E137,1)))} -> 2 | G137: {=SUM(IF(anno=A137,IF(distretto=E137,IF(punti=-1,1))))} -> 0 | H137: {=SUM(IF(anno=A137,IF(distretto=E137,punti)))+G137} -> 42 | I137: 2.6878015 | J137: =H137/VLOOKUP(A137,anni!$A$1:$O$32,4,0) -> 0.0078470001 | K137: =SUMIFS($J$2:$J$1979,anno_2,A137-1,$C$2:$C$1979,B137) -> 0.0072287885 | L137: =SUMIFS($J$2:$J$1979,anno_2,A137-2,$D$2:$D$1979,B137) -> 0.0076572173 | M137: {=SUM(IF(NOT(ISERR(J137:L137)),J137:L137*$J$2:$L$2))/SUM(IF(NOT(ISERR(J137:L137)),$J$2:$L$2))} -> 0.0076092991 | N137: =((300-VLOOKUP(A137,anni!$A$1:$O$32,8,0))*(M137-I137/300)+I137)/300*(300-VLOOKUP(A137,anni!$A$1:$O$32,7,0)) -> 2.25628 | O137: =MAX(1,N137) -> 2.25628 | P137: =INT(MAX(1,O137)+1-VLOOKUP(A137,anni!$A$1:$O$32,5,0)) -> 2 | Q137: {=SUM(IF(anno=A137,IF(distretto=E137,concorrenti!$T$3:$T$5991)))} -> 0 | R137: =P137+Q137 -> 2 | S137: =R137-F137 -> 0 | T137: =1+INT($N137/VLOOKUP($A137,anni!$A$1:$J$35,10,0))+$Q137 -> 2 | U137: =T137-$F137 -> 0 | X137: 13 | Y137: 13 | Z137: =-(Y137-X137)/SQRT(AVERAGE(X137:Y137)) -> 0
A138: 2015 | B138: =VLOOKUP($E138,accorpamenti!$A$2:$X$104,$A138-B$2,0) -> Lucca | C138: =VLOOKUP($E138,accorpamenti!$A$2:$X$104,$A138-C$2,0) -> Lucca | D138: =VLOOKUP($E138,accorpamenti!$A$2:$X$104,$A138-D$2,0) -> Lucca | E138: Lucca | F138: {=SUM(IF(anno=A138,IF(distretto=E138,1)))} -> 2 | G138: {=SUM(IF(anno=A138,IF(distretto=E138,IF(punti=-1,1))))} -> 0 | H138: {=SUM(IF(anno=A138,IF(distretto=E138,punti)))+G138} -> 42.8 | I138: 2.4810476 | J138: =H138/VLOOKUP(A138,anni!$A$1:$O$32,4,0) -> 0.0079964668 | K138: =SUMIFS($J$2:$J$1979,anno_2,A138-1,$C$2:$C$1979,B138) -> 0.0061734909 | L138: =SUMIFS($J$2:$J$1979,anno_2,A138-2,$D$2:$D$1979,B138) -> 0.0095036385 | M138: {=SUM(IF(NOT(ISERR(J138:L138)),J138:L138*$J$2:$L$2))/SUM(IF(NOT(ISERR(J138:L138)),$J$2:$L$2))} -> 0.0076400035 | N138: =((300-VLOOKUP(A138,anni!$A$1:$O$32,8,0))*(M138-I138/300)+I138)/300*(300-VLOOKUP(A138,anni!$A$1:$O$32,7,0)) -> 2.2305684 | O138: =MAX(1,N138) -> 2.2305684 | P138: =INT(MAX(1,O138)+1-VLOOKUP(A138,anni!$A$1:$O$32,5,0)) -> 2 | Q138: {=SUM(IF(anno=A138,IF(distretto=E138,concorrenti!$T$3:$T$5991)))} -> 0 | R138: =P138+Q138 -> 2 | S138: =R138-F138 -> 0 | T138: =1+INT($N138/VLOOKUP($A138,anni!$A$1:$J$35,10,0))+$Q138 -> 2 | U138: =T138-$F138 -> 0 | X138: 12 | Y138: 12 | Z138: =-(Y138-X138)/SQRT(AVERAGE(X138:Y138)) -> 0
A139: 2015 | B139: =VLOOKUP($E139,accorpamenti!$A$2:$X$104,$A139-B$2,0) -> Cuneo | C139: =VLOOKUP($E139,accorpamenti!$A$2:$X$104,$A139-C$2,0) -> Cuneo | D139: =VLOOKUP($E139,accorpamenti!$A$2:$X$104,$A139-D$2,0) -> Cuneo | E139: Cuneo | F139: {=SUM(IF(anno=A139,IF(distretto=E139,1)))} -> 2 | G139: {=SUM(IF(anno=A139,IF(distretto=E139,IF(punti=-1,1))))} -> 0 | H139: {=SUM(IF(anno=A139,IF(distretto=E139,punti)))+G139} -> 42 | I139: 1.8607857 | J139: =H139/VLOOKUP(A139,anni!$A$1:$O$32,4,0) -> 0.0078470001 | K139: =SUMIFS($J$2:$J$1979,anno_2,A139-1,$C$2:$C$1979,B139) -> 0.0094976783 | L139: =SUMIFS($J$2:$J$1979,anno_2,A139-2,$D$2:$D$1979,B139) -> 0.0053220376 | M139: {=SUM(IF(NOT(ISERR(J139:L139)),J139:L139*$J$2:$L$2))/SUM(IF(NOT(ISERR(J139:L139)),$J$2:$L$2))} -> 0.0079763991 | N139: =((300-VLOOKUP(A139,anni!$A$1:$O$32,8,0))*(M139-I139/300)+I139)/300*(300-VLOOKUP(A139,anni!$A$1:$O$32,7,0)) -> 2.2120615 | O139: =MAX(1,N139) -> 2.2120615 | P139: =INT(MAX(1,O139)+1-VLOOKUP(A139,anni!$A$1:$O$32,5,0)) -> 2 | Q139: {=SUM(IF(anno=A139,IF(distretto=E139,concorrenti!$T$3:$T$5991)))} -> 0 | R139: =P139+Q139 -> 2 | S139: =R139-F139 -> 0 | T139: =1+INT($N139/VLOOKUP($A139,anni!$A$1:$J$35,10,0))+$Q139 -> 2 | U139: =T139-$F139 -> 0 | X139: 9 | Y139: 7 | Z139: =-(Y139-X139)/SQRT(AVERAGE(X139:Y139)) -> 0.70710678
A140: 2015 | B140: =VLOOKUP($E140,accorpamenti!$A$2:$X$104,$A140-B$2,0) -> Potenza | C140: =VLOOKUP($E140,accorpamenti!$A$2:$X$104,$A140-C$2,0) -> Potenza | D140: =VLOOKUP($E140,accorpamenti!$A$2:$X$104,$A140-D$2,0) -> Potenza | E140: Potenza | F140: {=SUM(IF(anno=A140,IF(distretto=E140,1)))} -> 3 | G140: {=SUM(IF(anno=A140,IF(distretto=E140,IF(punti=-1,1))))} -> 0 | H140: {=SUM(IF(anno=A140,IF(distretto=E140,punti)))+G140} -> 24.4 | I140: 4.7553411 | J140: =H140/VLOOKUP(A140,anni!$A$1:$O$32,4,0) -> 0.0045587334 | K140: =SUMIFS($J$2:$J$1979,anno_2,A140-1,$C$2:$C$1979,B140) -> 0.007914732 | L140: =SUMIFS($J$2:$J$1979,anno_2,A140-2,$D$2:$D$1979,B140) -> 0.0066797002 | M140: {=SUM(IF(NOT(ISERR(J140:L140)),J140:L140*$J$2:$L$2))/SUM(IF(NOT(ISERR(J140:L140)),$J$2:$L$2))} -> 0.0060308941 | N140: =((300-VLOOKUP(A140,anni!$A$1:$O$32,8,0))*(M140-I140/300)+I140)/300*(300-VLOOKUP(A140,anni!$A$1:$O$32,7,0)) -> 2.2082692 | O140: =MAX(1,N140) -> 2.2082692 | P140: =INT(MAX(1,O140)+1-VLOOKUP(A140,anni!$A$1:$O$32,5,0)) -> 2 | Q140: {=SUM(IF(anno=A140,IF(distretto=E140,concorrenti!$T$3:$T$5991)))} -> 0 | R140: =P140+Q140 -> 2 | S140: =R140-F140 -> -1 | T140: =1+INT($N140/VLOOKUP($A140,anni!$A$1:$J$35,10,0))+$Q140 -> 2 | U140: =T140-$F140 -> -1 | X140: 23 | Y140: 26 | Z140: =-(Y140-X140)/SQRT(AVERAGE(X140:Y140)) -> -0.60609153
... A155: 2015 | B155: =VLOOKUP($E155,accorpamenti!$A$2:$X$104,$A155-B$2,0) -> Mantova | C155: =VLOOKUP($E155,accorpamenti!$A$2:$X$104,$A155-C$2,0) -> Mantova | D155: =VLOOKUP($E155,accorpamenti!$A$2:$X$104,$A155-D$2,0) -> Mantova | E155: Mantova | F155: {=SUM(IF(anno=A155,IF(distretto=E155,1)))} -> 2 | G155: {=SUM(IF(anno=A155,IF(distretto=E155,IF(punti=-1,1))))} -> 0 | H155: {=SUM(IF(anno=A155,IF(distretto=E155,punti)))+G155} -> 38.4 | I155: 1.6540317 | J155: =H155/VLOOKUP(A155,anni!$A$1:$O$32,4,0) -> 0.0071744001 | K155: =SUMIFS($J$2:$J$1979,anno_2,A155-1,$C$2:$C$1979,B155) -> 0.0057513719 | L155: =SUMIFS($J$2:$J$1979,anno_2,A155-2,$D$2:$D$1979,B155) -> 0.0044531335 | M155: {=SUM(IF(NOT(ISERR(J155:L155)),J155:L155*$J$2:$L$2))/SUM(IF(NOT(ISERR(J155:L155)),$J$2:$L$2))} -> 0.0062465129 | N155: =((300-VLOOKUP(A155,anni!$A$1:$O$32,8,0))*(M155-I155/300)+I155)/300*(300-VLOOKUP(A155,anni!$A$1:$O$32,7,0)) -> 1.7638082 | O155: =MAX(1,N155) -> 1.7638082 | P155: =INT(MAX(1,O155)+1-VLOOKUP(A155,anni!$A$1:$O$32,5,0)) -> 2 | Q155: {=SUM(IF(anno=A155,IF(distretto=E155,concorrenti!$T$3:$T$5991)))} -> 0 | R155: =P155+Q155 -> 2 | S155: =R155-F155 -> 0 | T155: =1+INT($N155/VLOOKUP($A155,anni!$A$1:$J$35,10,0))+$Q155 -> 2 | U155: =T155-$F155 -> 0 | X155: 8 | Y155: 7 | Z155: =-(Y155-X155)/SQRT(AVERAGE(X155:Y155)) -> 0.36514837
A156: 2015 | B156: =VLOOKUP($E156,accorpamenti!$A$2:$X$104,$A156-B$2,0) -> Siracusa | C156: =VLOOKUP($E156,accorpamenti!$A$2:$X$104,$A156-C$2,0) -> Siracusa | D156: =VLOOKUP($E156,accorpamenti!$A$2:$X$104,$A156-D$2,0) -> Siracusa | E156: Siracusa | F156: {=SUM(IF(anno=A156,IF(distretto=E156,1)))} -> 2 | G156: {=SUM(IF(anno=A156,IF(distretto=E156,IF(punti=-1,1))))} -> 2 | H156: 35.56388 | I156: 2.8945555 | J156: =H156/VLOOKUP(A156,anni!$A$1:$O$32,4,0) -> 0.0066445183 | K156: =SUMIFS($J$2:$J$1979,anno_2,A156-1,$C$2:$C$1979,B156) -> 0.0025854791 | L156: =SUMIFS($J$2:$J$1979,anno_2,A156-2,$D$2:$D$1979,B156) -> 0.0067340067 | M156: {=SUM(IF(NOT(ISERR(J156:L156)),J156:L156*$J$2:$L$2))/SUM(IF(NOT(ISERR(J156:L156)),$J$2:$L$2))} -> 0.00530642 | N156: =((300-VLOOKUP(A156,anni!$A$1:$O$32,8,0))*(M156-I156/300)+I156)/300*(300-VLOOKUP(A156,anni!$A$1:$O$32,7,0)) -> 1.7366697 | O156: =MAX(1,N156) -> 1.7366697 | P156: =INT(MAX(1,O156)+1-VLOOKUP(A156,anni!$A$1:$O$32,5,0)) -> 2 | Q156: {=SUM(IF(anno=A156,IF(distretto=E156,concorrenti!$T$3:$T$5991)))} -> 0 | R156: =P156+Q156 -> 2 | S156: =R156-F156 -> 0 | T156: =1+INT($N156/VLOOKUP($A156,anni!$A$1:$J$35,10,0))+$Q156 -> 2 | U156: =T156-$F156 -> 0 | X156: 14 | Y156: 16 | Z156: =-(Y156-X156)/SQRT(AVERAGE(X156:Y156)) -> -0.51639778
A157: 2015 | B157: =VLOOKUP($E157,accorpamenti!$A$2:$X$104,$A157-B$2,0) -> Rovigo | C157: =VLOOKUP($E157,accorpamenti!$A$2:$X$104,$A157-C$2,0) -> Rovigo | D157: =VLOOKUP($E157,accorpamenti!$A$2:$X$104,$A157-D$2,0) -> Rovigo | E157: Rovigo | F157: {=SUM(IF(anno=A157,IF(distretto=E157,1)))} -> 2 | G157: {=SUM(IF(anno=A157,IF(distretto=E157,IF(punti=-1,1))))} -> 0 | H157: {=SUM(IF(anno=A157,IF(distretto=E157,punti)))+G157} -> 31.2 | I157: 1.2405238 | J157: =H157/VLOOKUP(A157,anni!$A$1:$O$32,4,0) -> 0.0058292001 | K157: =SUMIFS($J$2:$J$1979,anno_2,A157-1,$C$2:$C$1979,B157) -> 0.0076509076 | L157: =SUMIFS($J$2:$J$1979,anno_2,A157-2,$D$2:$D$1979,B157) -> 0.0030954708 | M157: {=SUM(IF(NOT(ISERR(J157:L157)),J157:L157*$J$2:$L$2))/SUM(IF(NOT(ISERR(J157:L157)),$J$2:$L$2))} -> 0.0059808144 | N157: =((300-VLOOKUP(A157,anni!$A$1:$O$32,8,0))*(M157-I157/300)+I157)/300*(300-VLOOKUP(A157,anni!$A$1:$O$32,7,0)) -> 1.6338793 | O157: =MAX(1,N157) -> 1.6338793 | P157: =INT(MAX(1,O157)+1-VLOOKUP(A157,anni!$A$1:$O$32,5,0)) -> 2 | Q157: {=SUM(IF(anno=A157,IF(distretto=E157,concorrenti!$T$3:$T$5991)))} -> 0 | R157: =P157+Q157 -> 2 | S157: =R157-F157 -> 0 | T157: =1+INT($N157/VLOOKUP($A157,anni!$A$1:$J$35,10,0))+$Q157 -> 2 | U157: =T157-$F157 -> 0 | X157: 6 | Y157: 6 | Z157: =-(Y157-X157)/SQRT(AVERAGE(X157:Y157)) -> 0
A158: 2015 | B158: =VLOOKUP($E158,accorpamenti!$A$2:$X$104,$A158-B$2,0) -> Avellino | C158: =VLOOKUP($E158,accorpamenti!$A$2:$X$104,$A158-C$2,0) -> Avellino | D158: =VLOOKUP($E158,accorpamenti!$A$2:$X$104,$A158-D$2,0) -> Avellino | E158: Avellino | F158: {=SUM(IF(anno=A158,IF(distretto=E158,1)))} -> 2 | G158: {=SUM(IF(anno=A158,IF(distretto=E158,IF(punti=-1,1))))} -> 0 | H158: {=SUM(IF(anno=A158,IF(distretto=E158,punti)))+G158} -> 46.2 | I158: 3.1013094 | J158: =H158/VLOOKUP(A158,anni!$A$1:$O$32,4,0) -> 0.0086317001 | K158: =SUMIFS($J$2:$J$1979,anno_2,A158-1,$C$2:$C$1979,B158) -> 0 | L158: =SUMIFS($J$2:$J$1979,anno_2,A158-2,$D$2:$D$1979,B158) -> 0.0019007277 | M158: {=SUM(IF(NOT(ISERR(J158:L158)),J158:L158*$J$2:$L$2))/SUM(IF(NOT(ISERR(J158:L158)),$J$2:$L$2))} -> 0.004632638 | N158: =((300-VLOOKUP(A158,anni!$A$1:$O$32,8,0))*(M158-I158/300)+I158)/300*(300-VLOOKUP(A158,anni!$A$1:$O$32,7,0)) -> 1.6080426 | O158: =MAX(1,N158) -> 1.6080426 | P158: =INT(MAX(1,O158)+1-VLOOKUP(A158,anni!$A$1:$O$32,5,0)) -> 2 | Q158: {=SUM(IF(anno=A158,IF(distretto=E158,concorrenti!$T$3:$T$5991)))} -> 0 | R158: =P158+Q158 -> 2 | S158: =R158-F158 -> 0 | T158: =1+INT($N158/VLOOKUP($A158,anni!$A$1:$J$35,10,0))+$Q158 -> 2 | U158: =T158-$F158 -> 0 | X158: 15 | Y158: 14 | Z158: =-(Y158-X158)/SQRT(AVERAGE(X158:Y158)) -> 0.26261287
A159: 2015 | B159: =VLOOKUP($E159,accorpamenti!$A$2:$X$104,$A159-B$2,0) -> Livorno | C159: =VLOOKUP($E159,accorpamenti!$A$2:$X$104,$A159-C$2,0) -> Livorno | D159: =VLOOKUP($E159,accorpamenti!$A$2:$X$104,$A159-D$2,0) -> Livorno | E159: Livorno | F159: {=SUM(IF(anno=A159,IF(distretto=E159,1)))} -> 2 | G159: {=SUM(IF(anno=A159,IF(distretto=E159,IF(punti=-1,1))))} -> 0 | H159: {=SUM(IF(anno=A159,IF(distretto=E159,punti)))+G159} -> 30.4 | I159: 1.0337698 | J159: =H159/VLOOKUP(A159,anni!$A$1:$O$32,4,0) -> 0.0056797334 | K159: =SUMIFS($J$2:$J$1979,anno_2,A159-1,$C$2:$C$1979,B159) -> 0.0059096665 | L159: =SUMIFS($J$2:$J$1979,anno_2,A159-2,$D$2:$D$1979,B159) -> 0.0068426197 | M159: {=SUM(IF(NOT(ISERR(J159:L159)),J159:L159*$J$2:$L$2))/SUM(IF(NOT(ISERR(J159:L159)),$J$2:$L$2))} -> 0.0059501922 | N159: =((300-VLOOKUP(A159,anni!$A$1:$O$32,8,0))*(M159-I159/300)+I159)/300*(300-VLOOKUP(A159,anni!$A$1:$O$32,7,0)) -> 1.5934493 | O159: =MAX(1,N159) -> 1.5934493 | P159: =INT(MAX(1,O159)+1-VLOOKUP(A159,anni!$A$1:$O$32,5,0)) -> 2 | Q159: {=SUM(IF(anno=A159,IF(distretto=E159,concorrenti!$T$3:$T$5991)))} -> 0 | R159: =P159+Q159 -> 2 | S159: =R159-F159 -> 0 | T159: =1+INT($N159/VLOOKUP($A159,anni!$A$1:$J$35,10,0))+$Q159 -> 2 | U159: =T159-$F159 -> 0 | X159: 5 | Y159: 5 | Z159: =-(Y159-X159)/SQRT(AVERAGE(X159:Y159)) -> 0
A160: 2015 | B160: =VLOOKUP($E160,accorpamenti!$A$2:$X$104,$A160-B$2,0) -> Verbania | C160: =VLOOKUP($E160,accorpamenti!$A$2:$X$104,$A160-C$2,0) -> Verbania | D160: =VLOOKUP($E160,accorpamenti!$A$2:$X$104,$A160-D$2,0) -> Verbania | E160: Verbania | F160: {=SUM(IF(anno=A160,IF(distretto=E160,1)))} -> 2 | G160: {=SUM(IF(anno=A160,IF(distretto=E160,IF(punti=-1,1))))} -> 0 | H160: {=SUM(IF(anno=A160,IF(distretto=E160,punti)))+G160} -> 32.8 | I160: 1.0337698 | J160: =H160/VLOOKUP(A160,anni!$A$1:$O$32,4,0) -> 0.0061281334 | K160: =SUMIFS($J$2:$J$1979,anno_2,A160-1,$C$2:$C$1979,B160) -> 0.0050126636 | L160: =SUMIFS($J$2:$J$1979,anno_2,A160-2,$D$2:$D$1979,B160) -> 0.0021722602 | M160: {=SUM(IF(NOT(ISERR(J160:L160)),J160:L160*$J$2:$L$2))/SUM(IF(NOT(ISERR(J160:L160)),$J$2:$L$2))} -> 0.0050969979 | N160: =((300-VLOOKUP(A160,anni!$A$1:$O$32,8,0))*(M160-I160/300)+I160)/300*(300-VLOOKUP(A160,anni!$A$1:$O$32,7,0)) -> 1.3886827 | O160: =MAX(1,N160) -> 1.3886827 | P160: =INT(MAX(1,O160)+1-VLOOKUP(A160,anni!$A$1:$O$32,5,0)) -> 1 | Q160: {=SUM(IF(anno=A160,IF(distretto=E160,concorrenti!$T$3:$T$5991)))} -> 0 | R160: =P160+Q160 -> 1 | S160: =R160-F160 -> -1 | T160: =1+INT($N160/VLOOKUP($A160,anni!$A$1:$J$35,10,0))+$Q160 -> 2 | U160: =T160-$F160 -> 0 | X160: 5 | Y160: 6 | Z160: =-(Y160-X160)/SQRT(AVERAGE(X160:Y160)) -> -0.42640143
A161: 2015 | B161: =VLOOKUP($E161,accorpamenti!$A$2:$X$104,$A161-B$2,0) -> Catanzaro | C161: =VLOOKUP($E161,accorpamenti!$A$2:$X$104,$A161-C$2,0) -> Catanzaro | D161: =VLOOKUP($E161,accorpamenti!$A$2:$X$104,$A161-D$2,0) -> Catanzaro | E161: Catanzaro | F161: {=SUM(IF(anno=A161,IF(distretto=E161,1)))} -> 2 | G161: {=SUM(IF(anno=A161,IF(distretto=E161,IF(punti=-1,1))))} -> 0 | H161: {=SUM(IF(anno=A161,IF(distretto=E161,punti)))+G161} -> 21 | I161: 3.5148174 | J161: =H161/VLOOKUP(A161,anni!$A$1:$O$32,4,0) -> 0.0039235001 | K161: =SUMIFS($J$2:$J$1979,anno_2,A161-1,$C$2:$C$1979,B161) -> 0.003060363 | L161: =SUMIFS($J$2:$J$1979,anno_2,A161-2,$D$2:$D$1979,B161) -> 0.0027153253 | M161: {=SUM(IF(NOT(ISERR(J161:L161)),J161:L161*$J$2:$L$2))/SUM(IF(NOT(ISERR(J161:L161)),$J$2:$L$2))} -> 0.0034344253 | N161: =((300-VLOOKUP(A161,anni!$A$1:$O$32,8,0))*(M161-I161/300)+I161)/300*(300-VLOOKUP(A161,anni!$A$1:$O$32,7,0)) -> 1.3866328 | O161: =MAX(1,N161) -> 1.3866328 | P161: =INT(MAX(1,O161)+1-VLOOKUP(A161,anni!$A$1:$O$32,5,0)) -> 1 | Q161: {=SUM(IF(anno=A161,IF(distretto=E161,concorrenti!$T$3:$T$5991)))} -> 0 | R161: =P161+Q161 -> 1 | S161: =R161-F161 -> -1 | T161: =1+INT($N161/VLOOKUP($A161,anni!$A$1:$J$35,10,0))+$Q161 -> 2 | U161: =T161-$F161 -> 0 | X161: 17 | Y161: 17 | Z161: =-(Y161-X161)/SQRT(AVERAGE(X161:Y161)) -> 0
A162: 2015 | B162: =VLOOKUP($E162,accorpamenti!$A$2:$X$104,$A162-B$2,0) -> Messina | C162: =VLOOKUP($E162,accorpamenti!$A$2:$X$104,$A162-C$2,0) -> Messina | D162: =VLOOKUP($E162,accorpamenti!$A$2:$X$104,$A162-D$2,0) -> Messina | E162: Messina | F162: {=SUM(IF(anno=A162,IF(distretto=E162,1)))} -> 2 | G162: {=SUM(IF(anno=A162,IF(distretto=E162,IF(punti=-1,1))))} -> 0 | H162: {=SUM(IF(anno=A162,IF(distretto=E162,punti)))+G162} -> 22 | I162: 2.4810476 | J162: =H162/VLOOKUP(A162,anni!$A$1:$O$32,4,0) -> 0.0041103334 | K162: =SUMIFS($J$2:$J$1979,anno_2,A162-1,$C$2:$C$1979,B162) -> 0.0025327142 | L162: =SUMIFS($J$2:$J$1979,anno_2,A162-2,$D$2:$D$1979,B162) -> 0.0070598458 | M162: {=SUM(IF(NOT(ISERR(J162:L162)),J162:L162*$J$2:$L$2))/SUM(IF(NOT(ISERR(J162:L162)),$J$2:$L$2))} -> 0.0040760457 | N162: =((300-VLOOKUP(A162,anni!$A$1:$O$32,8,0))*(M162-I162/300)+I162)/300*(300-VLOOKUP(A162,anni!$A$1:$O$32,7,0)) -> 1.3752186 | O162: =MAX(1,N162) -> 1.3752186 | P162: =INT(MAX(1,O162)+1-VLOOKUP(A162,anni!$A$1:$O$32,5,0)) -> 1 | Q162: {=SUM(IF(anno=A162,IF(distretto=E162,concorrenti!$T$3:$T$5991)))} -> 0 | R162: =P162+Q162 -> 1 | S162: =R162-F162 -> -1 | T162: =1+INT($N162/VLOOKUP($A162,anni!$A$1:$J$35,10,0))+$Q162 -> 2 | U162: =T162-$F162 -> 0 | X162: 12 | Y162: 17 | Z162: =-(Y162-X162)/SQRT(AVERAGE(X162:Y162)) -> -1.3130643
A163: 2015 | B163: =VLOOKUP($E163,accorpamenti!$A$2:$X$104,$A163-B$2,0) -> Caltanissetta | C163: =VLOOKUP($E163,accorpamenti!$A$2:$X$104,$A163-C$2,0) -> Caltanissetta | D163: =VLOOKUP($E163,accorpamenti!$A$2:$X$104,$A163-D$2,0) -> Caltanissetta | E163: Caltanissetta | F163: {=SUM(IF(anno=A163,IF(distretto=E163,1)))} -> 2 | G163: {=SUM(IF(anno=A163,IF(distretto=E163,IF(punti=-1,1))))} -> 0 | H163: {=SUM(IF(anno=A163,IF(distretto=E163,punti)))+G163} -> 25.8 | I163: 1.0337698 | J163: =H163/VLOOKUP(A163,anni!$A$1:$O$32,4,0) -> 0.0048203001 | K163: =SUMIFS($J$2:$J$1979,anno_2,A163-1,$C$2:$C$1979,B163) -> 0.0042211904 | L163: =SUMIFS($J$2:$J$1979,anno_2,A163-2,$D$2:$D$1979,B163) -> 0.0039100684 | M163: {=SUM(IF(NOT(ISERR(J163:L163)),J163:L163*$J$2:$L$2))/SUM(IF(NOT(ISERR(J163:L163)),$J$2:$L$2))} -> 0.0044688916 | N163: =((300-VLOOKUP(A163,anni!$A$1:$O$32,8,0))*(M163-I163/300)+I163)/300*(300-VLOOKUP(A163,anni!$A$1:$O$32,7,0)) -> 1.2379371 | O163: =MAX(1,N163) -> 1.2379371 | P163: =INT(MAX(1,O163)+1-VLOOKUP(A163,anni!$A$1:$O$32,5,0)) -> 1 | Q163: {=SUM(IF(anno=A163,IF(distretto=E163,concorrenti!$T$3:$T$5991)))} -> 0 | R163: =P163+Q163 -> 1 | S163: =R163-F163 -> -1 | T163: =1+INT($N163/VLOOKUP($A163,anni!$A$1:$J$35,10,0))+$Q163 -> 2 | U163: =T163-$F163 -> 0 | X163: 5 | Y163: 6 | Z163: =-(Y163-X163)/SQRT(AVERAGE(X163:Y163)) -> -0.42640143
A164: 2015 | B164: =VLOOKUP($E164,accorpamenti!$A$2:$X$104,$A164-B$2,0) -> Lodi | C164: =VLOOKUP($E164,accorpamenti!$A$2:$X$104,$A164-C$2,0) -> Lodi | D164: =VLOOKUP($E164,accorpamenti!$A$2:$X$104,$A164-D$2,0) -> Lodi | E164: Lodi | F164: {=SUM(IF(anno=A164,IF(distretto=E164,1)))} -> 1 | G164: {=SUM(IF(anno=A164,IF(distretto=E164,IF(punti=-1,1))))} -> 0 | H164: {=SUM(IF(anno=A164,IF(distretto=E164,punti)))+G164} -> 0 | I164: 0.62026189 | J164: =H164/VLOOKUP(A164,anni!$A$1:$O$32,4,0) -> 0 | K164: =SUMIFS($J$2:$J$1979,anno_2,A164-1,$C$2:$C$1979,B164) -> 0.0062790207 | L164: =SUMIFS($J$2:$J$1979,anno_2,A164-2,$D$2:$D$1979,B164) -> 0.0019007277 | M164: {=SUM(IF(NOT(ISERR(J164:L164)),J164:L164*$J$2:$L$2))/SUM(IF(NOT(ISERR(J164:L164)),$J$2:$L$2))} -> 0.0024097948 | N164: =((300-VLOOKUP(A164,anni!$A$1:$O$32,8,0))*(M164-I164/300)+I164)/300*(300-VLOOKUP(A164,anni!$A$1:$O$32,7,0)) -> 0.67759267 | O164: =MAX(1,N164) -> 1 | P164: =INT(MAX(1,O164)+1-VLOOKUP(A164,anni!$A$1:$O$32,5,0)) -> 1 | Q164: {=SUM(IF(anno=A164,IF(distretto=E164,concorrenti!$T$3:$T$5991)))} -> 1 | R164: =P164+Q164 -> 2 | S164: =R164-F164 -> 1 | T164: =1+INT($N164/VLOOKUP($A164,anni!$A$1:$J$35,10,0))+$Q164 -> 2 | U164: =T164-$F164 -> 1 | X164: 3 | Y164: 4 | Z164: =-(Y164-X164)/SQRT(AVERAGE(X164:Y164)) -> -0.53452248
A165: 2015 | B165: =VLOOKUP($E165,accorpamenti!$A$2:$X$104,$A165-B$2,0) -> Reggio Calabria | C165: =VLOOKUP($E165,accorpamenti!$A$2:$X$104,$A165-C$2,0) -> Reggio Calabria | D165: =VLOOKUP($E165,accorpamenti!$A$2:$X$104,$A165-D$2,0) -> Reggio Calabria | E165: Reggio Calabria | F165: {=SUM(IF(anno=A165,IF(distretto=E165,1)))} -> 2 | G165: {=SUM(IF(anno=A165,IF(distretto=E165,IF(punti=-1,1))))} -> 0 | H165: {=SUM(IF(anno=A165,IF(distretto=E165,punti)))+G165} -> 12 | I165: 2.4810476 | J165: =H165/VLOOKUP(A165,anni!$A$1:$O$32,4,0) -> 0.002242 | K165: =SUMIFS($J$2:$J$1979,anno_2,A165-1,$C$2:$C$1979,B165) -> 0.002638244 | L165: =SUMIFS($J$2:$J$1979,anno_2,A165-2,$D$2:$D$1979,B165) -> 0.0051591181 | M165: {=SUM(IF(NOT(ISERR(J165:L165)),J165:L165*$J$2:$L$2))/SUM(IF(NOT(ISERR(J165:L165)),$J$2:$L$2))} -> 0.0028602677 | N165: =((300-VLOOKUP(A165,anni!$A$1:$O$32,8,0))*(M165-I165/300)+I165)/300*(300-VLOOKUP(A165,anni!$A$1:$O$32,7,0)) -> 1.0834319 | O165: =MAX(1,N165) -> 1.0834319 | P165: =INT(MAX(1,O165)+1-VLOOKUP(A165,anni!$A$1:$O$32,5,0)) -> 1 | Q165: {=SUM(IF(anno=A165,IF(distretto=E165,concorrenti!$T$3:$T$5991)))} -> 0 | R165: =P165+Q165 -> 1 | S165: =R165-F165 -> -1 | T165: =1+INT($N165/VLOOKUP($A165,anni!$A$1:$J$35,10,0))+$Q165 -> 1 | U165: =T165-$F165 -> -1 | X165: 12 | Y165: 10 | Z165: =-(Y165-X165)/SQRT(AVERAGE(X165:Y165)) -> 0.60302269
A166: 2015 | B166: =VLOOKUP($E166,accorpamenti!$A$2:$X$104,$A166-B$2,0) -> Novara | C166: =VLOOKUP($E166,accorpamenti!$A$2:$X$104,$A166-C$2,0) -> Novara | D166: =VLOOKUP($E166,accorpamenti!$A$2:$X$104,$A166-D$2,0) -> Novara | E166: Novara | F166: {=SUM(IF(anno=A166,IF(distretto=E166,1)))} -> 1 | G166: {=SUM(IF(anno=A166,IF(distretto=E166,IF(punti=-1,1))))} -> 0 | H166: {=SUM(IF(anno=A166,IF(distretto=E166,punti)))+G166} -> 23.8 | I166: 1.2405238 | J166: =H166/VLOOKUP(A166,anni!$A$1:$O$32,4,0) -> 0.0044466334 | K166: =SUMIFS($J$2:$J$1979,anno_2,A166-1,$C$2:$C$1979,B166) -> 0.0018995357 | L166: =SUMIFS($J$2:$J$1979,anno_2,A166-2,$D$2:$D$1979,B166) -> 0.0048875855 | M166: {=SUM(IF(NOT(ISERR(J166:L166)),J166:L166*$J$2:$L$2))/SUM(IF(NOT(ISERR(J166:L166)),$J$2:$L$2))} -> 0.0036710928 | N166: =((300-VLOOKUP(A166,anni!$A$1:$O$32,8,0))*(M166-I166/300)+I166)/300*(300-VLOOKUP(A166,anni!$A$1:$O$32,7,0)) -> 1.0795461 | O166: =MAX(1,N166) -> 1.0795461 | P166: =INT(MAX(1,O166)+1-VLOOKUP(A166,anni!$A$1:$O$32,5,0)) -> 1 | Q166: {=SUM(IF(anno=A166,IF(distretto=E166,concorrenti!$T$3:$T$5991)))} -> 0 | R166: =P166+Q166 -> 1 | S166: =R166-F166 -> 0 | T166: =1+INT($N166/VLOOKUP($A166,anni!$A$1:$J$35,10,0))+$Q166 -> 1 | U166: =T166-$F166 -> 0 | X166: 6 | Y166: 5 | Z166: =-(Y166-X166)/SQRT(AVERAGE(X166:Y166)) -> 0.42640143
A167: 2015 | B167: =VLOOKUP($E167,accorpamenti!$A$2:$X$104,$A167-B$2,0) -> Pesaro Urbino | C167: =VLOOKUP($E167,accorpamenti!$A$2:$X$104,$A167-C$2,0) -> Pesaro Urbino | D167: =VLOOKUP($E167,accorpamenti!$A$2:$X$104,$A167-D$2,0) -> Pesaro Urbino | E167: Pesaro Urbino | F167: {=SUM(IF(anno=A167,IF(distretto=E167,1)))} -> 1 | G167: {=SUM(IF(anno=A167,IF(distretto=E167,IF(punti=-1,1))))} -> 0 | H167: {=SUM(IF(anno=A167,IF(distretto=E167,punti)))+G167} -> 16 | I167: 2.0675396 | J167: =H167/VLOOKUP(A167,anni!$A$1:$O$32,4,0) -> 0.0029893334 | K167: =SUMIFS($J$2:$J$1979,anno_2,A167-1,$C$2:$C$1979,B167) -> 0.0023744196 | L167: =SUMIFS($J$2:$J$1979,anno_2,A167-2,$D$2:$D$1979,B167) -> 0.0037471489 | M167: {=SUM(IF(NOT(ISERR(J167:L167)),J167:L167*$J$2:$L$2))/SUM(IF(NOT(ISERR(J167:L167)),$J$2:$L$2))} -> 0.0029106647 | N167: =((300-VLOOKUP(A167,anni!$A$1:$O$32,8,0))*(M167-I167/300)+I167)/300*(300-VLOOKUP(A167,anni!$A$1:$O$32,7,0)) -> 1.0293659 | O167: =MAX(1,N167) -> 1.0293659 | P167: =INT(MAX(1,O167)+1-VLOOKUP(A167,anni!$A$1:$O$32,5,0)) -> 1 | Q167: {=SUM(IF(anno=A167,IF(distretto=E167,concorrenti!$T$3:$T$5991)))} -> 0 | R167: =P167+Q167 -> 1 | S167: =R167-F167 -> 0 | T167: =1+INT($N167/VLOOKUP($A167,anni!$A$1:$J$35,10,0))+$Q167 -> 1 | U167: =T167-$F167 -> 0 | X167: 10 | Y167: 10 | Z167: =-(Y167-X167)/SQRT(AVERAGE(X167:Y167)) -> 0
A168: 2015 | B168: =VLOOKUP($E168,accorpamenti!$A$2:$X$104,$A168-B$2,0) -> Trapani | C168: =VLOOKUP($E168,accorpamenti!$A$2:$X$104,$A168-C$2,0) -> Trapani | D168: =VLOOKUP($E168,accorpamenti!$A$2:$X$104,$A168-D$2,0) -> Trapani | E168: Trapani | F168: {=SUM(IF(anno=A168,IF(distretto=E168,1)))} -> 2 | G168: {=SUM(IF(anno=A168,IF(distretto=E168,IF(punti=-1,1))))} -> 0 | H168: {=SUM(IF(anno=A168,IF(distretto=E168,punti)))+G168} -> 10.8 | I168: 1.6540317 | J168: =H168/VLOOKUP(A168,anni!$A$1:$O$32,4,0) -> 0.0020178 | K168: =SUMIFS($J$2:$J$1979,anno_2,A168-1,$C$2:$C$1979,B168) -> 0.0049071338 | L168: =SUMIFS($J$2:$J$1979,anno_2,A168-2,$D$2:$D$1979,B168) -> 0.0032583904 | M168: {=SUM(IF(NOT(ISERR(J168:L168)),J168:L168*$J$2:$L$2))/SUM(IF(NOT(ISERR(J168:L168)),$J$2:$L$2))} -> 0.0031876763 | N168: =((300-VLOOKUP(A168,anni!$A$1:$O$32,8,0))*(M168-I168/300)+I168)/300*(300-VLOOKUP(A168,anni!$A$1:$O$32,7,0)) -> 1.0296874 | O168: =MAX(1,N168) -> 1.0296874 | P168: =INT(MAX(1,O168)+1-VLOOKUP(A168,anni!$A$1:$O$32,5,0)) -> 1 | Q168: {=SUM(IF(anno=A168,IF(distretto=E168,concorrenti!$T$3:$T$5991)))} -> 0 | R168: =P168+Q168 -> 1 | S168: =R168-F168 -> -1 | T168: =1+INT($N168/VLOOKUP($A168,anni!$A$1:$J$35,10,0))+$Q168 -> 1 | U168: =T168-$F168 -> -1 | X168: 8 | Y168: 8 | Z168: =-(Y168-X168)/SQRT(AVERAGE(X168:Y168)) -> 0
... A187: 2015 | B187: =VLOOKUP($E187,accorpamenti!$A$2:$X$104,$A187-B$2,0) -> Aosta | C187: =VLOOKUP($E187,accorpamenti!$A$2:$X$104,$A187-C$2,0) -> Aosta | D187: =VLOOKUP($E187,accorpamenti!$A$2:$X$104,$A187-D$2,0) -> Aosta | E187: Aosta | F187: {=SUM(IF(anno=A187,IF(distretto=E187,1)))} -> 1 | G187: {=SUM(IF(anno=A187,IF(distretto=E187,IF(punti=-1,1))))} -> 0 | H187: {=SUM(IF(anno=A187,IF(distretto=E187,punti)))+G187} -> 9 | I187: 0.41350793 | J187: =H187/VLOOKUP(A187,anni!$A$1:$O$32,4,0) -> 0.0016815 | K187: =SUMIFS($J$2:$J$1979,anno_2,A187-1,$C$2:$C$1979,B187) -> 0.0005276488 | L187: =SUMIFS($J$2:$J$1979,anno_2,A187-2,$D$2:$D$1979,B187) -> 0.0021722602 | M187: {=SUM(IF(NOT(ISERR(J187:L187)),J187:L187*$J$2:$L$2))/SUM(IF(NOT(ISERR(J187:L187)),$J$2:$L$2))} -> 0.0013786763 | N187: =((300-VLOOKUP(A187,anni!$A$1:$O$32,8,0))*(M187-I187/300)+I187)/300*(300-VLOOKUP(A187,anni!$A$1:$O$32,7,0)) -> 0.39704358 | O187: =MAX(1,N187) -> 1 | P187: =INT(MAX(1,O187)+1-VLOOKUP(A187,anni!$A$1:$O$32,5,0)) -> 1 | Q187: {=SUM(IF(anno=A187,IF(distretto=E187,concorrenti!$T$3:$T$5991)))} -> 0 | R187: =P187+Q187 -> 1 | S187: =R187-F187 -> 0 | T187: =1+INT($N187/VLOOKUP($A187,anni!$A$1:$J$35,10,0))+$Q187 -> 1 | U187: =T187-$F187 -> 0 | X187: 2 | Y187: 2 | Z187: =-(Y187-X187)/SQRT(AVERAGE(X187:Y187)) -> 0
A188: 2014 | B188: =VLOOKUP($E188,accorpamenti!$A$2:$X$104,$A188-B$2,0) -> Roma | C188: =VLOOKUP($E188,accorpamenti!$A$2:$X$104,$A188-C$2,0) -> Roma | D188: =VLOOKUP($E188,accorpamenti!$A$2:$X$104,$A188-D$2,0) -> Roma | E188: Roma | F188: {=SUM(IF(anno=A188,IF(distretto=E188,1)))} -> 22 | G188: {=SUM(IF(anno=A188,IF(distretto=E188,IF(punti=-1,1))))} -> 0 | H188: {=SUM(IF(anno=A188,IF(distretto=E188,punti)))+G188} -> 332 | I188: 23.109244 | J188: =H188/VLOOKUP(A188,anni!$A$1:$O$32,4,0) -> 0.0875897 | K188: =SUMIFS($J$2:$J$1979,anno_2,A188-1,$C$2:$C$1979,B188) -> 0.070055393 | L188: =SUMIFS($J$2:$J$1979,anno_2,A188-2,$D$2:$D$1979,B188) -> 0.07307328 | M188: {=SUM(IF(NOT(ISERR(J188:L188)),J188:L188*$J$2:$L$2))/SUM(IF(NOT(ISERR(J188:L188)),$J$2:$L$2))} -> 0.079325528 | N188: =((300-VLOOKUP(A188,anni!$A$1:$O$32,8,0))*(M188-I188/300)+I188)/300*(300-VLOOKUP(A188,anni!$A$1:$O$32,7,0)) -> 22.893492 | O188: =MAX(1,N188) -> 22.893492 | P188: =INT(MAX(1,O188)+1-VLOOKUP(A188,anni!$A$1:$O$32,5,0)) -> 23 | Q188: {=SUM(IF(anno=A188,IF(distretto=E188,concorrenti!$T$3:$T$5991)))} -> 1 | R188: =P188+Q188 -> 24 | S188: =R188-F188 -> 2 | T188: =1+INT($N188/VLOOKUP($A188,anni!$A$1:$J$35,10,0))+$Q188 -> 21 | U188: =T188-$F188 -> -1 | X188: 110 | Y188: 125 | Z188: =-(Y188-X188)/SQRT(AVERAGE(X188:Y188)) -> -1.3837968 | AB188: 1 | AC188: =R188-AB188 -> 23
A189: 2014 | B189: =VLOOKUP($E189,accorpamenti!$A$2:$X$104,$A189-B$2,0) -> Torino | C189: =VLOOKUP($E189,accorpamenti!$A$2:$X$104,$A189-C$2,0) -> Torino | D189: =VLOOKUP($E189,accorpamenti!$A$2:$X$104,$A189-D$2,0) -> Torino | E189: Torino | F189: {=SUM(IF(anno=A189,IF(distretto=E189,1)))} -> 13 | G189: {=SUM(IF(anno=A189,IF(distretto=E189,IF(punti=-1,1))))} -> 0 | H189: {=SUM(IF(anno=A189,IF(distretto=E189,punti)))+G189} -> 135.6 | I189: 13.655462 | J189: =H189/VLOOKUP(A189,anni!$A$1:$O$32,4,0) -> 0.035774588 | K189: =SUMIFS($J$2:$J$1979,anno_2,A189-1,$C$2:$C$1979,B189) -> 0.041978929 | L189: =SUMIFS($J$2:$J$1979,anno_2,A189-2,$D$2:$D$1979,B189) -> 0.047650053 | M189: {=SUM(IF(NOT(ISERR(J189:L189)),J189:L189*$J$2:$L$2))/SUM(IF(NOT(ISERR(J189:L189)),$J$2:$L$2))} -> 0.039821946 | N189: =((300-VLOOKUP(A189,anni!$A$1:$O$32,8,0))*(M189-I189/300)+I189)/300*(300-VLOOKUP(A189,anni!$A$1:$O$32,7,0)) -> 11.823684 | O189: =MAX(1,N189) -> 11.823684 | P189: =INT(MAX(1,O189)+1-VLOOKUP(A189,anni!$A$1:$O$32,5,0)) -> 12 | Q189: {=SUM(IF(anno=A189,IF(distretto=E189,concorrenti!$T$3:$T$5991)))} -> 1 | R189: =P189+Q189 -> 13 | S189: =R189-F189 -> 0 | T189: =1+INT($N189/VLOOKUP($A189,anni!$A$1:$J$35,10,0))+$Q189 -> 11 | U189: =T189-$F189 -> -2 | X189: 65 | Y189: 67 | Z189: =-(Y189-X189)/SQRT(AVERAGE(X189:Y189)) -> -0.24618298 | AB189: 1 | AC189: =R189-AB189 -> 12
A190: 2014 | B190: =VLOOKUP($E190,accorpamenti!$A$2:$X$104,$A190-B$2,0) -> Milano | C190: =VLOOKUP($E190,accorpamenti!$A$2:$X$104,$A190-C$2,0) -> Milano | D190: =VLOOKUP($E190,accorpamenti!$A$2:$X$104,$A190-D$2,0) -> Milano | E190: Milano | F190: {=SUM(IF(anno=A190,IF(distretto=E190,1)))} -> 10 | G190: {=SUM(IF(anno=A190,IF(distretto=E190,IF(punti=-1,1))))} -> 0 | H190: {=SUM(IF(anno=A190,IF(distretto=E190,punti)))+G190} -> 157.2 | I190: 9.8739496 | J190: =H190/VLOOKUP(A190,anni!$A$1:$O$32,4,0) -> 0.041473195 | K190: =SUMIFS($J$2:$J$1979,anno_2,A190-1,$C$2:$C$1979,B190) -> 0.033072662 | L190: =SUMIFS($J$2:$J$1979,anno_2,A190-2,$D$2:$D$1979,B190) -> 0.039274299 | M190: {=SUM(IF(NOT(ISERR(J190:L190)),J190:L190*$J$2:$L$2))/SUM(IF(NOT(ISERR(J190:L190)),$J$2:$L$2))} -> 0.038306535 | N190: =((300-VLOOKUP(A190,anni!$A$1:$O$32,8,0))*(M190-I190/300)+I190)/300*(300-VLOOKUP(A190,anni!$A$1:$O$32,7,0)) -> 10.848216 | O190: =MAX(1,N190) -> 10.848216 | P190: =INT(MAX(1,O190)+1-VLOOKUP(A190,anni!$A$1:$O$32,5,0)) -> 11 | Q190: {=SUM(IF(anno=A190,IF(distretto=E190,concorrenti!$T$3:$T$5991)))} -> 0 | R190: =P190+Q190 -> 11 | S190: =R190-F190 -> 1 | T190: =1+INT($N190/VLOOKUP($A190,anni!$A$1:$J$35,10,0))+$Q190 -> 10 | U190: =T190-$F190 -> 0 | X190: 47 | Y190: 57 | Z190: =-(Y190-X190)/SQRT(AVERAGE(X190:Y190)) -> -1.3867505 | AB190: 2 | AC190: =R190-AB190 -> 9
A191: 2014 | B191: =VLOOKUP($E191,accorpamenti!$A$2:$X$104,$A191-B$2,0) -> Napoli | C191: =VLOOKUP($E191,accorpamenti!$A$2:$X$104,$A191-C$2,0) -> Napoli | D191: =VLOOKUP($E191,accorpamenti!$A$2:$X$104,$A191-D$2,0) -> Napoli | E191: Napoli | F191: {=SUM(IF(anno=A191,IF(distretto=E191,1)))} -> 9 | G191: {=SUM(IF(anno=A191,IF(distretto=E191,IF(punti=-1,1))))} -> 0 | H191: {=SUM(IF(anno=A191,IF(distretto=E191,punti)))+G191} -> 120.2 | I191: 15.336134 | J191: =H191/VLOOKUP(A191,anni!$A$1:$O$32,4,0) -> 0.031711693 | K191: =SUMIFS($J$2:$J$1979,anno_2,A191-1,$C$2:$C$1979,B191) -> 0.037905941 | L191: =SUMIFS($J$2:$J$1979,anno_2,A191-2,$D$2:$D$1979,B191) -> 0.023292293 | M191: {=SUM(IF(NOT(ISERR(J191:L191)),J191:L191*$J$2:$L$2))/SUM(IF(NOT(ISERR(J191:L191)),$J$2:$L$2))} -> 0.032373209 | N191: =((300-VLOOKUP(A191,anni!$A$1:$O$32,8,0))*(M191-I191/300)+I191)/300*(300-VLOOKUP(A191,anni!$A$1:$O$32,7,0)) -> 10.294347 | O191: =MAX(1,N191) -> 10.294347 | P191: =INT(MAX(1,O191)+1-VLOOKUP(A191,anni!$A$1:$O$32,5,0)) -> 10 | Q191: {=SUM(IF(anno=A191,IF(distretto=E191,concorrenti!$T$3:$T$5991)))} -> 1 | R191: =P191+Q191 -> 11 | S191: =R191-F191 -> 2 | T191: =1+INT($N191/VLOOKUP($A191,anni!$A$1:$J$35,10,0))+$Q191 -> 10 | U191: =T191-$F191 -> 1 | X191: 73 | Y191: 79 | Z191: =-(Y191-X191)/SQRT(AVERAGE(X191:Y191)) -> -0.6882472 | AB191: 2 | AC191: =R191-AB191 -> 9
A192: 2014 | B192: =VLOOKUP($E192,accorpamenti!$A$2:$X$104,$A192-B$2,0) -> Brescia | C192: =VLOOKUP($E192,accorpamenti!$A$2:$X$104,$A192-C$2,0) -> Brescia | D192: =VLOOKUP($E192,accorpamenti!$A$2:$X$104,$A192-D$2,0) -> Brescia | E192: Brescia | F192: {=SUM(IF(anno=A192,IF(distretto=E192,1)))} -> 10 | G192: {=SUM(IF(anno=A192,IF(distretto=E192,IF(punti=-1,1))))} -> 0 | H192: {=SUM(IF(anno=A192,IF(distretto=E192,punti)))+G192} -> 115.4 | I192: 4.2016807 | J192: =H192/VLOOKUP(A192,anni!$A$1:$O$32,4,0) -> 0.030445336 | K192: =SUMIFS($J$2:$J$1979,anno_2,A192-1,$C$2:$C$1979,B192) -> 0.044802867 | L192: =SUMIFS($J$2:$J$1979,anno_2,A192-2,$D$2:$D$1979,B192) -> 0.033769386 | M192: {=SUM(IF(NOT(ISERR(J192:L192)),J192:L192*$J$2:$L$2))/SUM(IF(NOT(ISERR(J192:L192)),$J$2:$L$2))} -> 0.035785188 | N192: =((300-VLOOKUP(A192,anni!$A$1:$O$32,8,0))*(M192-I192/300)+I192)/300*(300-VLOOKUP(A192,anni!$A$1:$O$32,7,0)) -> 9.3250245 | O192: =MAX(1,N192) -> 9.3250245 | P192: =INT(MAX(1,O192)+1-VLOOKUP(A192,anni!$A$1:$O$32,5,0)) -> 9 | Q192: {=SUM(IF(anno=A192,IF(distretto=E192,concorrenti!$T$3:$T$5991)))} -> 3 | R192: =P192+Q192 -> 12 | S192: =R192-F192 -> 2 | T192: =1+INT($N192/VLOOKUP($A192,anni!$A$1:$J$35,10,0))+$Q192 -> 11 | U192: =T192-$F192 -> 1 | X192: 20 | Y192: 22 | Z192: =-(Y192-X192)/SQRT(AVERAGE(X192:Y192)) -> -0.43643578 | AB192: 4 | AC192: =R192-AB192 -> 8
A193: 2014 | B193: =VLOOKUP($E193,accorpamenti!$A$2:$X$104,$A193-B$2,0) -> Treviso | C193: =VLOOKUP($E193,accorpamenti!$A$2:$X$104,$A193-C$2,0) -> Treviso | D193: =VLOOKUP($E193,accorpamenti!$A$2:$X$104,$A193-D$2,0) -> Treviso | E193: Treviso | F193: {=SUM(IF(anno=A193,IF(distretto=E193,1)))} -> 8 | G193: {=SUM(IF(anno=A193,IF(distretto=E193,IF(punti=-1,1))))} -> 0 | H193: {=SUM(IF(anno=A193,IF(distretto=E193,punti)))+G193} -> 152 | I193: 4.6218487 | J193: =H193/VLOOKUP(A193,anni!$A$1:$O$32,4,0) -> 0.040101309 | K193: =SUMIFS($J$2:$J$1979,anno_2,A193-1,$C$2:$C$1979,B193) -> 0.030085804 | L193: =SUMIFS($J$2:$J$1979,anno_2,A193-2,$D$2:$D$1979,B193) -> 0.027346987 | M193: {=SUM(IF(NOT(ISERR(J193:L193)),J193:L193*$J$2:$L$2))/SUM(IF(NOT(ISERR(J193:L193)),$J$2:$L$2))} -> 0.034637087 | N193: =((300-VLOOKUP(A193,anni!$A$1:$O$32,8,0))*(M193-I193/300)+I193)/300*(300-VLOOKUP(A193,anni!$A$1:$O$32,7,0)) -> 9.1152605 | O193: =MAX(1,N193) -> 9.1152605 | P193: =INT(MAX(1,O193)+1-VLOOKUP(A193,anni!$A$1:$O$32,5,0)) -> 9 | Q193: {=SUM(IF(anno=A193,IF(distretto=E193,concorrenti!$T$3:$T$5991)))} -> 0 | R193: =P193+Q193 -> 9 | S193: =R193-F193 -> 1 | T193: =1+INT($N193/VLOOKUP($A193,anni!$A$1:$J$35,10,0))+$Q193 -> 8 | U193: =T193-$F193 -> 0 | X193: 22 | Y193: 23 | Z193: =-(Y193-X193)/SQRT(AVERAGE(X193:Y193)) -> -0.21081851 | AB193: 1 | AC193: =R193-AB193 -> 8
A194: 2014 | B194: =VLOOKUP($E194,accorpamenti!$A$2:$X$104,$A194-B$2,0) -> Bari | C194: =VLOOKUP($E194,accorpamenti!$A$2:$X$104,$A194-C$2,0) -> Bari | D194: =VLOOKUP($E194,accorpamenti!$A$2:$X$104,$A194-D$2,0) -> Bari | E194: Bari | F194: {=SUM(IF(anno=A194,IF(distretto=E194,1)))} -> 8 | G194: {=SUM(IF(anno=A194,IF(distretto=E194,IF(punti=-1,1))))} -> 1 | H194: {=SUM(IF(anno=A194,IF(distretto=E194,punti)))+G194} -> 94.2 | I194: 9.6638655 | J194: =H194/VLOOKUP(A194,anni!$A$1:$O$32,4,0) -> 0.024852258 | K194: =SUMIFS($J$2:$J$1979,anno_2,A194-1,$C$2:$C$1979,B194) -> 0.037743022 | L194: =SUMIFS($J$2:$J$1979,anno_2,A194-2,$D$2:$D$1979,B194) -> 0.017521013 | M194: {=SUM(IF(NOT(ISERR(J194:L194)),J194:L194*$J$2:$L$2))/SUM(IF(NOT(ISERR(J194:L194)),$J$2:$L$2))} -> 0.027927305 | N194: =((300-VLOOKUP(A194,anni!$A$1:$O$32,8,0))*(M194-I194/300)+I194)/300*(300-VLOOKUP(A194,anni!$A$1:$O$32,7,0)) -> 8.3060549 | O194: =MAX(1,N194) -> 8.3060549 | P194: =INT(MAX(1,O194)+1-VLOOKUP(A194,anni!$A$1:$O$32,5,0)) -> 8 | Q194: {=SUM(IF(anno=A194,IF(distretto=E194,concorrenti!$T$3:$T$5991)))} -> 0 | R194: =P194+Q194 -> 8 | S194: =R194-F194 -> 0 | T194: =1+INT($N194/VLOOKUP($A194,anni!$A$1:$J$35,10,0))+$Q194 -> 8 | U194: =T194-$F194 -> 0 | X194: 46 | Y194: 55 | Z194: =-(Y194-X194)/SQRT(AVERAGE(X194:Y194)) -> -1.2664756 | AB194: 7 | AC194: =R194-AB194 -> 1
A195: 2014 | B195: =VLOOKUP($E195,accorpamenti!$A$2:$X$104,$A195-B$2,0) -> Vicenza | C195: =VLOOKUP($E195,accorpamenti!$A$2:$X$104,$A195-C$2,0) -> Vicenza | D195: =VLOOKUP($E195,accorpamenti!$A$2:$X$104,$A195-D$2,0) -> Vicenza | E195: Vicenza | F195: {=SUM(IF(anno=A195,IF(distretto=E195,1)))} -> 7 | G195: {=SUM(IF(anno=A195,IF(distretto=E195,IF(punti=-1,1))))} -> 0 | H195: {=SUM(IF(anno=A195,IF(distretto=E195,punti)))+G195} -> 106.6 | I195: 5.4621849 | J195: =H195/VLOOKUP(A195,anni!$A$1:$O$32,4,0) -> 0.028123681 | K195: =SUMIFS($J$2:$J$1979,anno_2,A195-1,$C$2:$C$1979,B195) -> 0.034701857 | L195: =SUMIFS($J$2:$J$1979,anno_2,A195-2,$D$2:$D$1979,B195) -> 0.026814254 | M195: {=SUM(IF(NOT(ISERR(J195:L195)),J195:L195*$J$2:$L$2))/SUM(IF(NOT(ISERR(J195:L195)),$J$2:$L$2))} -> 0.030098168 | N195: =((300-VLOOKUP(A195,anni!$A$1:$O$32,8,0))*(M195-I195/300)+I195)/300*(300-VLOOKUP(A195,anni!$A$1:$O$32,7,0)) -> 8.1537427 | O195: =MAX(1,N195) -> 8.1537427 | P195: =INT(MAX(1,O195)+1-VLOOKUP(A195,anni!$A$1:$O$32,5,0)) -> 8 | Q195: {=SUM(IF(anno=A195,IF(distretto=E195,concorrenti!$T$3:$T$5991)))} -> 0 | R195: =P195+Q195 -> 8 | S195: =R195-F195 -> 1 | T195: =1+INT($N195/VLOOKUP($A195,anni!$A$1:$J$35,10,0))+$Q195 -> 7 | U195: =T195-$F195 -> 0 | X195: 26 | Y195: 26 | Z195: =-(Y195-X195)/SQRT(AVERAGE(X195:Y195)) -> 0 | AB195: 1 | AC195: =R195-AB195 -> 7
A196: 2014 | B196: =VLOOKUP($E196,accorpamenti!$A$2:$X$104,$A196-B$2,0) -> Udine | C196: =VLOOKUP($E196,accorpamenti!$A$2:$X$104,$A196-C$2,0) -> Udine | D196: =VLOOKUP($E196,accorpamenti!$A$2:$X$104,$A196-D$2,0) -> Udine | E196: Udine | F196: {=SUM(IF(anno=A196,IF(distretto=E196,1)))} -> 7 | G196: {=SUM(IF(anno=A196,IF(distretto=E196,IF(punti=-1,1))))} -> 0 | H196: {=SUM(IF(anno=A196,IF(distretto=E196,punti)))+G196} -> 109 | I196: 3.5714286 | J196: =H196/VLOOKUP(A196,anni!$A$1:$O$32,4,0) -> 0.028756859 | K196: =SUMIFS($J$2:$J$1979,anno_2,A196-1,$C$2:$C$1979,B196) -> 0.036711198 | L196: =SUMIFS($J$2:$J$1979,anno_2,A196-2,$D$2:$D$1979,B196) -> 0.01755061 | M196: {=SUM(IF(NOT(ISERR(J196:L196)),J196:L196*$J$2:$L$2))/SUM(IF(NOT(ISERR(J196:L196)),$J$2:$L$2))} -> 0.029540597 | N196: =((300-VLOOKUP(A196,anni!$A$1:$O$32,8,0))*(M196-I196/300)+I196)/300*(300-VLOOKUP(A196,anni!$A$1:$O$32,7,0)) -> 7.7143745 | O196: =MAX(1,N196) -> 7.7143745 | P196: =INT(MAX(1,O196)+1-VLOOKUP(A196,anni!$A$1:$O$32,5,0)) -> 8 | Q196: {=SUM(IF(anno=A196,IF(distretto=E196,concorrenti!$T$3:$T$5991)))} -> 0 | R196: =P196+Q196 -> 8 | S196: =R196-F196 -> 1 | T196: =1+INT($N196/VLOOKUP($A196,anni!$A$1:$J$35,10,0))+$Q196 -> 7 | U196: =T196-$F196 -> 0 | X196: 17 | Y196: 17 | Z196: =-(Y196-X196)/SQRT(AVERAGE(X196:Y196)) -> 0 | AB196: 1 | AC196: =R196-AB196 -> 7
A197: 2014 | B197: =VLOOKUP($E197,accorpamenti!$A$2:$X$104,$A197-B$2,0) -> Reggio Emilia | C197: =VLOOKUP($E197,accorpamenti!$A$2:$X$104,$A197-C$2,0) -> Reggio Emilia | D197: =VLOOKUP($E197,accorpamenti!$A$2:$X$104,$A197-D$2,0) -> Reggio Emilia | E197: Reggio Emilia | F197: {=SUM(IF(anno=A197,IF(distretto=E197,1)))} -> 6 | G197: {=SUM(IF(anno=A197,IF(distretto=E197,IF(punti=-1,1))))} -> 0 | H197: {=SUM(IF(anno=A197,IF(distretto=E197,punti)))+G197} -> 118 | I197: 2.9411765 | J197: =H197/VLOOKUP(A197,anni!$A$1:$O$32,4,0) -> 0.031131279 | K197: =SUMIFS($J$2:$J$1979,anno_2,A197-1,$C$2:$C$1979,B197) -> 0.025143912 | L197: =SUMIFS($J$2:$J$1979,anno_2,A197-2,$D$2:$D$1979,B197) -> 0.012756008 | M197: {=SUM(IF(NOT(ISERR(J197:L197)),J197:L197*$J$2:$L$2))/SUM(IF(NOT(ISERR(J197:L197)),$J$2:$L$2))} -> 0.026072945 | N197: =((300-VLOOKUP(A197,anni!$A$1:$O$32,8,0))*(M197-I197/300)+I197)/300*(300-VLOOKUP(A197,anni!$A$1:$O$32,7,0)) -> 6.7748179 | O197: =MAX(1,N197) -> 6.7748179 | P197: =INT(MAX(1,O197)+1-VLOOKUP(A197,anni!$A$1:$O$32,5,0)) -> 7 | Q197: {=SUM(IF(anno=A197,IF(distretto=E197,concorrenti!$T$3:$T$5991)))} -> 0 | R197: =P197+Q197 -> 7 | S197: =R197-F197 -> 1 | T197: =1+INT($N197/VLOOKUP($A197,anni!$A$1:$J$35,10,0))+$Q197 -> 6 | U197: =T197-$F197 -> 0 | X197: 14 | Y197: 15 | Z197: =-(Y197-X197)/SQRT(AVERAGE(X197:Y197)) -> -0.26261287 | AB197: 1 | AC197: =R197-AB197 -> 6
A198: 2014 | B198: =VLOOKUP($E198,accorpamenti!$A$2:$X$104,$A198-B$2,0) -> Genova | C198: =VLOOKUP($E198,accorpamenti!$A$2:$X$104,$A198-C$2,0) -> Genova | D198: =VLOOKUP($E198,accorpamenti!$A$2:$X$104,$A198-D$2,0) -> Genova | E198: Genova | F198: {=SUM(IF(anno=A198,IF(distretto=E198,1)))} -> 7 | G198: {=SUM(IF(anno=A198,IF(distretto=E198,IF(punti=-1,1))))} -> 0 | H198: {=SUM(IF(anno=A198,IF(distretto=E198,punti)))+G198} -> 67.2 | I198: 4.6218487 | J198: =H198/VLOOKUP(A198,anni!$A$1:$O$32,4,0) -> 0.017729 | K198: =SUMIFS($J$2:$J$1979,anno_2,A198-1,$C$2:$C$1979,B198) -> 0.027479092 | L198: =SUMIFS($J$2:$J$1979,anno_2,A198-2,$D$2:$D$1979,B198) -> 0.029477921 | M198: {=SUM(IF(NOT(ISERR(J198:L198)),J198:L198*$J$2:$L$2))/SUM(IF(NOT(ISERR(J198:L198)),$J$2:$L$2))} -> 0.022937184 | N198: =((300-VLOOKUP(A198,anni!$A$1:$O$32,8,0))*(M198-I198/300)+I198)/300*(300-VLOOKUP(A198,anni!$A$1:$O$32,7,0)) -> 6.287784 | O198: =MAX(1,N198) -> 6.287784 | P198: =INT(MAX(1,O198)+1-VLOOKUP(A198,anni!$A$1:$O$32,5,0)) -> 6 | Q198: {=SUM(IF(anno=A198,IF(distretto=E198,concorrenti!$T$3:$T$5991)))} -> 0 | R198: =P198+Q198 -> 6 | S198: =R198-F198 -> -1 | T198: =1+INT($N198/VLOOKUP($A198,anni!$A$1:$J$35,10,0))+$Q198 -> 6 | U198: =T198-$F198 -> -1 | X198: 22 | Y198: 27 | Z198: =-(Y198-X198)/SQRT(AVERAGE(X198:Y198)) -> -1.0101525 | AB198: 3 | AC198: =R198-AB198 -> 3
A199: 2014 | B199: =VLOOKUP($E199,accorpamenti!$A$2:$X$104,$A199-B$2,0) -> Bergamo | C199: =VLOOKUP($E199,accorpamenti!$A$2:$X$104,$A199-C$2,0) -> Bergamo | D199: =VLOOKUP($E199,accorpamenti!$A$2:$X$104,$A199-D$2,0) -> Bergamo | E199: Bergamo | F199: {=SUM(IF(anno=A199,IF(distretto=E199,1)))} -> 6 | G199: {=SUM(IF(anno=A199,IF(distretto=E199,IF(punti=-1,1))))} -> 0 | H199: {=SUM(IF(anno=A199,IF(distretto=E199,punti)))+G199} -> 76.4 | I199: 3.3613445 | J199: =H199/VLOOKUP(A199,anni!$A$1:$O$32,4,0) -> 0.020156184 | K199: =SUMIFS($J$2:$J$1979,anno_2,A199-1,$C$2:$C$1979,B199) -> 0.028510916 | L199: =SUMIFS($J$2:$J$1979,anno_2,A199-2,$D$2:$D$1979,B199) -> 0.020214277 | M199: {=SUM(IF(NOT(ISERR(J199:L199)),J199:L199*$J$2:$L$2))/SUM(IF(NOT(ISERR(J199:L199)),$J$2:$L$2))} -> 0.022950777 | N199: =((300-VLOOKUP(A199,anni!$A$1:$O$32,8,0))*(M199-I199/300)+I199)/300*(300-VLOOKUP(A199,anni!$A$1:$O$32,7,0)) -> 6.0879877 | O199: =MAX(1,N199) -> 6.0879877 | P199: =INT(MAX(1,O199)+1-VLOOKUP(A199,anni!$A$1:$O$32,5,0)) -> 6 | Q199: {=SUM(IF(anno=A199,IF(distretto=E199,concorrenti!$T$3:$T$5991)))} -> 0 | R199: =P199+Q199 -> 6 | S199: =R199-F199 -> 0 | T199: =1+INT($N199/VLOOKUP($A199,anni!$A$1:$J$35,10,0))+$Q199 -> 6 | U199: =T199-$F199 -> 0 | X199: 16 | Y199: 18 | Z199: =-(Y199-X199)/SQRT(AVERAGE(X199:Y199)) -> -0.48507125 | AB199: 6 | AC199: =R199-AB199 -> 0
... A211: 2014 | B211: =VLOOKUP($E211,accorpamenti!$A$2:$X$104,$A211-B$2,0) -> Verona | C211: =VLOOKUP($E211,accorpamenti!$A$2:$X$104,$A211-C$2,0) -> Verona | D211: =VLOOKUP($E211,accorpamenti!$A$2:$X$104,$A211-D$2,0) -> Verona | E211: Verona | F211: {=SUM(IF(anno=A211,IF(distretto=E211,1)))} -> 4 | G211: {=SUM(IF(anno=A211,IF(distretto=E211,IF(punti=-1,1))))} -> 0 | H211: {=SUM(IF(anno=A211,IF(distretto=E211,punti)))+G211} -> 41 | I211: 5.0420168 | J211: =H211/VLOOKUP(A211,anni!$A$1:$O$32,4,0) -> 0.0108168 | K211: =SUMIFS($J$2:$J$1979,anno_2,A211-1,$C$2:$C$1979,B211) -> 0.011404366 | L211: =SUMIFS($J$2:$J$1979,anno_2,A211-2,$D$2:$D$1979,B211) -> 0.016869895 | M211: {=SUM(IF(NOT(ISERR(J211:L211)),J211:L211*$J$2:$L$2))/SUM(IF(NOT(ISERR(J211:L211)),$J$2:$L$2))} -> 0.012021505 | N211: =((300-VLOOKUP(A211,anni!$A$1:$O$32,8,0))*(M211-I211/300)+I211)/300*(300-VLOOKUP(A211,anni!$A$1:$O$32,7,0)) -> 3.7175219 | O211: =MAX(1,N211) -> 3.7175219 | P211: =INT(MAX(1,O211)+1-VLOOKUP(A211,anni!$A$1:$O$32,5,0)) -> 4 | Q211: {=SUM(IF(anno=A211,IF(distretto=E211,concorrenti!$T$3:$T$5991)))} -> 0 | R211: =P211+Q211 -> 4 | S211: =R211-F211 -> 0 | T211: =1+INT($N211/VLOOKUP($A211,anni!$A$1:$J$35,10,0))+$Q211 -> 4 | U211: =T211-$F211 -> 0 | X211: 24 | Y211: 25 | Z211: =-(Y211-X211)/SQRT(AVERAGE(X211:Y211)) -> -0.20203051 | AB211: 1 | AC211: =R211-AB211 -> 3
A212: 2014 | B212: =VLOOKUP($E212,accorpamenti!$A$2:$X$104,$A212-B$2,0) -> Lecco | C212: =VLOOKUP($E212,accorpamenti!$A$2:$X$104,$A212-C$2,0) -> Lecco | D212: =VLOOKUP($E212,accorpamenti!$A$2:$X$104,$A212-D$2,0) -> Lecco | E212: Lecco | F212: {=SUM(IF(anno=A212,IF(distretto=E212,1)))} -> 4 | G212: {=SUM(IF(anno=A212,IF(distretto=E212,IF(punti=-1,1))))} -> 0 | H212: {=SUM(IF(anno=A212,IF(distretto=E212,punti)))+G212} -> 68.4 | I212: 1.8907563 | J212: =H212/VLOOKUP(A212,anni!$A$1:$O$32,4,0) -> 0.018045589 | K212: =SUMIFS($J$2:$J$1979,anno_2,A212-1,$C$2:$C$1979,B212) -> 0.0097751711 | L212: =SUMIFS($J$2:$J$1979,anno_2,A212-2,$D$2:$D$1979,B212) -> 0.009470818 | M212: {=SUM(IF(NOT(ISERR(J212:L212)),J212:L212*$J$2:$L$2))/SUM(IF(NOT(ISERR(J212:L212)),$J$2:$L$2))} -> 0.013859654 | N212: =((300-VLOOKUP(A212,anni!$A$1:$O$32,8,0))*(M212-I212/300)+I212)/300*(300-VLOOKUP(A212,anni!$A$1:$O$32,7,0)) -> 3.6540383 | O212: =MAX(1,N212) -> 3.6540383 | P212: =INT(MAX(1,O212)+1-VLOOKUP(A212,anni!$A$1:$O$32,5,0)) -> 4 | Q212: {=SUM(IF(anno=A212,IF(distretto=E212,concorrenti!$T$3:$T$5991)))} -> 0 | R212: =P212+Q212 -> 4 | S212: =R212-F212 -> 0 | T212: =1+INT($N212/VLOOKUP($A212,anni!$A$1:$J$35,10,0))+$Q212 -> 4 | U212: =T212-$F212 -> 0 | V212: 1 | X212: 9 | Y212: 9 | Z212: =-(Y212-X212)/SQRT(AVERAGE(X212:Y212)) -> 0 | AB212: 2 | AC212: =R212-AB212 -> 2
A213: 2014 | B213: =VLOOKUP($E213,accorpamenti!$A$2:$X$104,$A213-B$2,0) -> Bolzano | C213: =VLOOKUP($E213,accorpamenti!$A$2:$X$104,$A213-C$2,0) -> Bolzano | D213: =VLOOKUP($E213,accorpamenti!$A$2:$X$104,$A213-D$2,0) -> Bolzano | E213: Bolzano | F213: {=SUM(IF(anno=A213,IF(distretto=E213,1)))} -> 3 | G213: {=SUM(IF(anno=A213,IF(distretto=E213,IF(punti=-1,1))))} -> 0 | H213: {=SUM(IF(anno=A213,IF(distretto=E213,punti)))+G213} -> 60.2 | I213: 3.1512605 | J213: =H213/VLOOKUP(A213,anni!$A$1:$O$32,4,0) -> 0.015882229 | K213: =SUMIFS($J$2:$J$1979,anno_2,A213-1,$C$2:$C$1979,B213) -> 0.011404366 | L213: =SUMIFS($J$2:$J$1979,anno_2,A213-2,$D$2:$D$1979,B213) -> 0.0076062507 | M213: {=SUM(IF(NOT(ISERR(J213:L213)),J213:L213*$J$2:$L$2))/SUM(IF(NOT(ISERR(J213:L213)),$J$2:$L$2))} -> 0.013010278 | N213: =((300-VLOOKUP(A213,anni!$A$1:$O$32,8,0))*(M213-I213/300)+I213)/300*(300-VLOOKUP(A213,anni!$A$1:$O$32,7,0)) -> 3.6518537 | O213: =MAX(1,N213) -> 3.6518537 | P213: =INT(MAX(1,O213)+1-VLOOKUP(A213,anni!$A$1:$O$32,5,0)) -> 4 | Q213: {=SUM(IF(anno=A213,IF(distretto=E213,concorrenti!$T$3:$T$5991)))} -> 0 | R213: =P213+Q213 -> 4 | S213: =R213-F213 -> 1 | T213: =1+INT($N213/VLOOKUP($A213,anni!$A$1:$J$35,10,0))+$Q213 -> 4 | U213: =T213-$F213 -> 1 | X213: 15 | Y213: 18 | Z213: =-(Y213-X213)/SQRT(AVERAGE(X213:Y213)) -> -0.73854895 | AB213: 5 | AC213: =R213-AB213 -> -1
A214: 2014 | B214: =VLOOKUP($E214,accorpamenti!$A$2:$X$104,$A214-B$2,0) -> Como | C214: =VLOOKUP($E214,accorpamenti!$A$2:$X$104,$A214-C$2,0) -> Como | D214: =VLOOKUP($E214,accorpamenti!$A$2:$X$104,$A214-D$2,0) -> Como | E214: Como | F214: {=SUM(IF(anno=A214,IF(distretto=E214,1)))} -> 4 | G214: {=SUM(IF(anno=A214,IF(distretto=E214,IF(punti=-1,1))))} -> 0 | H214: {=SUM(IF(anno=A214,IF(distretto=E214,punti)))+G214} -> 36.8 | I214: 2.3109244 | J214: =H214/VLOOKUP(A214,anni!$A$1:$O$32,4,0) -> 0.0097087379 | K214: =SUMIFS($J$2:$J$1979,anno_2,A214-1,$C$2:$C$1979,B214) -> 0.017052243 | L214: =SUMIFS($J$2:$J$1979,anno_2,A214-2,$D$2:$D$1979,B214) -> 0.011039422 | M214: {=SUM(IF(NOT(ISERR(J214:L214)),J214:L214*$J$2:$L$2))/SUM(IF(NOT(ISERR(J214:L214)),$J$2:$L$2))} -> 0.012378354 | N214: =((300-VLOOKUP(A214,anni!$A$1:$O$32,8,0))*(M214-I214/300)+I214)/300*(300-VLOOKUP(A214,anni!$A$1:$O$32,7,0)) -> 3.363751 | O214: =MAX(1,N214) -> 3.363751 | P214: =INT(MAX(1,O214)+1-VLOOKUP(A214,anni!$A$1:$O$32,5,0)) -> 3 | Q214: {=SUM(IF(anno=A214,IF(distretto=E214,concorrenti!$T$3:$T$5991)))} -> 1 | R214: =P214+Q214 -> 4 | S214: =R214-F214 -> 0 | T214: =1+INT($N214/VLOOKUP($A214,anni!$A$1:$J$35,10,0))+$Q214 -> 4 | U214: =T214-$F214 -> 0 | X214: 11 | Y214: 11 | Z214: =-(Y214-X214)/SQRT(AVERAGE(X214:Y214)) -> 0 | AB214: 3 | AC214: =R214-AB214 -> 1
A215: 2014 | B215: =VLOOKUP($E215,accorpamenti!$A$2:$X$104,$A215-B$2,0) -> Campobasso | C215: =VLOOKUP($E215,accorpamenti!$A$2:$X$104,$A215-C$2,0) -> Campobasso | D215: =VLOOKUP($E215,accorpamenti!$A$2:$X$104,$A215-D$2,0) -> Campobasso | E215: Campobasso | F215: {=SUM(IF(anno=A215,IF(distretto=E215,1)))} -> 4 | G215: {=SUM(IF(anno=A215,IF(distretto=E215,IF(punti=-1,1))))} -> 0 | H215: {=SUM(IF(anno=A215,IF(distretto=E215,punti)))+G215} -> 34.2 | I215: 2.5210084 | J215: =H215/VLOOKUP(A215,anni!$A$1:$O$32,4,0) -> 0.0090227944 | K215: =SUMIFS($J$2:$J$1979,anno_2,A215-1,$C$2:$C$1979,B215) -> 0.014336918 | L215: =SUMIFS($J$2:$J$1979,anno_2,A215-2,$D$2:$D$1979,B215) -> 0.014324612 | M215: {=SUM(IF(NOT(ISERR(J215:L215)),J215:L215*$J$2:$L$2))/SUM(IF(NOT(ISERR(J215:L215)),$J$2:$L$2))} -> 0.011677805 | N215: =((300-VLOOKUP(A215,anni!$A$1:$O$32,8,0))*(M215-I215/300)+I215)/300*(300-VLOOKUP(A215,anni!$A$1:$O$32,7,0)) -> 3.2282987 | O215: =MAX(1,N215) -> 3.2282987 | P215: =INT(MAX(1,O215)+1-VLOOKUP(A215,anni!$A$1:$O$32,5,0)) -> 3 | Q215: {=SUM(IF(anno=A215,IF(distretto=E215,concorrenti!$T$3:$T$5991)))} -> 0 | R215: =P215+Q215 -> 3 | S215: =R215-F215 -> -1 | T215: =1+INT($N215/VLOOKUP($A215,anni!$A$1:$J$35,10,0))+$Q215 -> 3 | U215: =T215-$F215 -> -1 | X215: 12 | Y215: 15 | Z215: =-(Y215-X215)/SQRT(AVERAGE(X215:Y215)) -> -0.81649658 | AB215: 3 | AC215: =R215-AB215 -> 0
A216: 2014 | B216: =VLOOKUP($E216,accorpamenti!$A$2:$X$104,$A216-B$2,0) -> Pisa | C216: =VLOOKUP($E216,accorpamenti!$A$2:$X$104,$A216-C$2,0) -> Pisa | D216: =VLOOKUP($E216,accorpamenti!$A$2:$X$104,$A216-D$2,0) -> Pisa | E216: Pisa | F216: {=SUM(IF(anno=A216,IF(distretto=E216,1)))} -> 3 | G216: {=SUM(IF(anno=A216,IF(distretto=E216,IF(punti=-1,1))))} -> 0 | H216: {=SUM(IF(anno=A216,IF(distretto=E216,punti)))+G216} -> 43 | I216: 2.5210084 | J216: =H216/VLOOKUP(A216,anni!$A$1:$O$32,4,0) -> 0.011344449 | K216: =SUMIFS($J$2:$J$1979,anno_2,A216-1,$C$2:$C$1979,B216) -> 0.010209623 | L216: =SUMIFS($J$2:$J$1979,anno_2,A216-2,$D$2:$D$1979,B216) -> 0.014206227 | M216: {=SUM(IF(NOT(ISERR(J216:L216)),J216:L216*$J$2:$L$2))/SUM(IF(NOT(ISERR(J216:L216)),$J$2:$L$2))} -> 0.011443137 | N216: =((300-VLOOKUP(A216,anni!$A$1:$O$32,8,0))*(M216-I216/300)+I216)/300*(300-VLOOKUP(A216,anni!$A$1:$O$32,7,0)) -> 3.1715872 | O216: =MAX(1,N216) -> 3.1715872 | P216: =INT(MAX(1,O216)+1-VLOOKUP(A216,anni!$A$1:$O$32,5,0)) -> 3 | Q216: {=SUM(IF(anno=A216,IF(distretto=E216,concorrenti!$T$3:$T$5991)))} -> 0 | R216: =P216+Q216 -> 3 | S216: =R216-F216 -> 0 | T216: =1+INT($N216/VLOOKUP($A216,anni!$A$1:$J$35,10,0))+$Q216 -> 3 | U216: =T216-$F216 -> 0 | X216: 12 | Y216: 13 | Z216: =-(Y216-X216)/SQRT(AVERAGE(X216:Y216)) -> -0.28284271 | AB216: 1 | AC216: =R216-AB216 -> 2
A217: 2014 | B217: =VLOOKUP($E217,accorpamenti!$A$2:$X$104,$A217-B$2,0) -> Piacenza | C217: =VLOOKUP($E217,accorpamenti!$A$2:$X$104,$A217-C$2,0) -> Piacenza | D217: =VLOOKUP($E217,accorpamenti!$A$2:$X$104,$A217-D$2,0) -> Piacenza | E217: Piacenza | F217: {=SUM(IF(anno=A217,IF(distretto=E217,1)))} -> 3 | G217: {=SUM(IF(anno=A217,IF(distretto=E217,IF(punti=-1,1))))} -> 0 | H217: {=SUM(IF(anno=A217,IF(distretto=E217,punti)))+G217} -> 61.8 | I217: 0.84033613 | J217: =H217/VLOOKUP(A217,anni!$A$1:$O$32,4,0) -> 0.016304348 | K217: =SUMIFS($J$2:$J$1979,anno_2,A217-1,$C$2:$C$1979,B217) -> 0.0076572173 | L217: =SUMIFS($J$2:$J$1979,anno_2,A217-2,$D$2:$D$1979,B217) -> 0.0080501953 | M217: {=SUM(IF(NOT(ISERR(J217:L217)),J217:L217*$J$2:$L$2))/SUM(IF(NOT(ISERR(J217:L217)),$J$2:$L$2))} -> 0.012046279 | N217: =((300-VLOOKUP(A217,anni!$A$1:$O$32,8,0))*(M217-I217/300)+I217)/300*(300-VLOOKUP(A217,anni!$A$1:$O$32,7,0)) -> 3.0465716 | O217: =MAX(1,N217) -> 3.0465716 | P217: =INT(MAX(1,O217)+1-VLOOKUP(A217,anni!$A$1:$O$32,5,0)) -> 3 | Q217: {=SUM(IF(anno=A217,IF(distretto=E217,concorrenti!$T$3:$T$5991)))} -> 0 | R217: =P217+Q217 -> 3 | S217: =R217-F217 -> 0 | T217: =1+INT($N217/VLOOKUP($A217,anni!$A$1:$J$35,10,0))+$Q217 -> 3 | U217: =T217-$F217 -> 0 | X217: 4 | Y217: 5 | Z217: =-(Y217-X217)/SQRT(AVERAGE(X217:Y217)) -> -0.47140452 | AB217: 1 | AC217: =R217-AB217 -> 2
A218: 2014 | B218: =VLOOKUP($E218,accorpamenti!$A$2:$X$104,$A218-B$2,0) -> Modena | C218: =VLOOKUP($E218,accorpamenti!$A$2:$X$104,$A218-C$2,0) -> Modena | D218: =VLOOKUP($E218,accorpamenti!$A$2:$X$104,$A218-D$2,0) -> Modena | E218: Modena | F218: {=SUM(IF(anno=A218,IF(distretto=E218,1)))} -> 3 | G218: {=SUM(IF(anno=A218,IF(distretto=E218,IF(punti=-1,1))))} -> 0 | H218: {=SUM(IF(anno=A218,IF(distretto=E218,punti)))+G218} -> 28 | I218: 3.7815126 | J218: =H218/VLOOKUP(A218,anni!$A$1:$O$32,4,0) -> 0.0073870832 | K218: =SUMIFS($J$2:$J$1979,anno_2,A218-1,$C$2:$C$1979,B218) -> 0.013087868 | L218: =SUMIFS($J$2:$J$1979,anno_2,A218-2,$D$2:$D$1979,B218) -> 0.010684267 | M218: {=SUM(IF(NOT(ISERR(J218:L218)),J218:L218*$J$2:$L$2))/SUM(IF(NOT(ISERR(J218:L218)),$J$2:$L$2))} -> 0.0098368753 | N218: =((300-VLOOKUP(A218,anni!$A$1:$O$32,8,0))*(M218-I218/300)+I218)/300*(300-VLOOKUP(A218,anni!$A$1:$O$32,7,0)) -> 2.9864886 | O218: =MAX(1,N218) -> 2.9864886 | P218: =INT(MAX(1,O218)+1-VLOOKUP(A218,anni!$A$1:$O$32,5,0)) -> 3 | Q218: {=SUM(IF(anno=A218,IF(distretto=E218,concorrenti!$T$3:$T$5991)))} -> 0 | R218: =P218+Q218 -> 3 | S218: =R218-F218 -> 0 | T218: =1+INT($N218/VLOOKUP($A218,anni!$A$1:$J$35,10,0))+$Q218 -> 3 | U218: =T218-$F218 -> 0 | X218: 18 | Y218: 20 | Z218: =-(Y218-X218)/SQRT(AVERAGE(X218:Y218)) -> -0.45883147 | AB218: 3 | AC218: =R218-AB218 -> 0
A219: 2014 | B219: =VLOOKUP($E219,accorpamenti!$A$2:$X$104,$A219-B$2,0) -> Potenza | C219: =VLOOKUP($E219,accorpamenti!$A$2:$X$104,$A219-C$2,0) -> Potenza | D219: =VLOOKUP($E219,accorpamenti!$A$2:$X$104,$A219-D$2,0) -> Potenza | E219: Potenza | F219: {=SUM(IF(anno=A219,IF(distretto=E219,1)))} -> 3 | G219: {=SUM(IF(anno=A219,IF(distretto=E219,IF(punti=-1,1))))} -> 0 | H219: {=SUM(IF(anno=A219,IF(distretto=E219,punti)))+G219} -> 30 | I219: 5.4621849 | J219: =H219/VLOOKUP(A219,anni!$A$1:$O$32,4,0) -> 0.007914732 | K219: =SUMIFS($J$2:$J$1979,anno_2,A219-1,$C$2:$C$1979,B219) -> 0.0066797002 | L219: =SUMIFS($J$2:$J$1979,anno_2,A219-2,$D$2:$D$1979,B219) -> 0.011246596 | M219: {=SUM(IF(NOT(ISERR(J219:L219)),J219:L219*$J$2:$L$2))/SUM(IF(NOT(ISERR(J219:L219)),$J$2:$L$2))} -> 0.0080583655 | N219: =((300-VLOOKUP(A219,anni!$A$1:$O$32,8,0))*(M219-I219/300)+I219)/300*(300-VLOOKUP(A219,anni!$A$1:$O$32,7,0)) -> 2.827457 | O219: =MAX(1,N219) -> 2.827457 | P219: =INT(MAX(1,O219)+1-VLOOKUP(A219,anni!$A$1:$O$32,5,0)) -> 3 | Q219: {=SUM(IF(anno=A219,IF(distretto=E219,concorrenti!$T$3:$T$5991)))} -> 0 | R219: =P219+Q219 -> 3 | S219: =R219-F219 -> 0 | T219: =1+INT($N219/VLOOKUP($A219,anni!$A$1:$J$35,10,0))+$Q219 -> 3 | U219: =T219-$F219 -> 0 | X219: 26 | Y219: 26 | Z219: =-(Y219-X219)/SQRT(AVERAGE(X219:Y219)) -> 0 | AB219: 2 | AC219: =R219-AB219 -> 1
A220: 2014 | B220: =VLOOKUP($E220,accorpamenti!$A$2:$X$104,$A220-B$2,0) -> Forlì Cesena | C220: =VLOOKUP($E220,accorpamenti!$A$2:$X$104,$A220-C$2,0) -> Forlì Cesena | D220: =VLOOKUP($E220,accorpamenti!$A$2:$X$104,$A220-D$2,0) -> Forlì Cesena | E220: Forlì Cesena | F220: {=SUM(IF(anno=A220,IF(distretto=E220,1)))} -> 3 | G220: {=SUM(IF(anno=A220,IF(distretto=E220,IF(punti=-1,1))))} -> 0 | H220: {=SUM(IF(anno=A220,IF(distretto=E220,punti)))+G220} -> 23.4 | I220: 2.9411765 | J220: =H220/VLOOKUP(A220,anni!$A$1:$O$32,4,0) -> 0.0061734909 | K220: =SUMIFS($J$2:$J$1979,anno_2,A220-1,$C$2:$C$1979,B220) -> 0.014934289 | L220: =SUMIFS($J$2:$J$1979,anno_2,A220-2,$D$2:$D$1979,B220) -> 0.008405351 | M220: {=SUM(IF(NOT(ISERR(J220:L220)),J220:L220*$J$2:$L$2))/SUM(IF(NOT(ISERR(J220:L220)),$J$2:$L$2))} -> 0.0094657337 | N220: =((300-VLOOKUP(A220,anni!$A$1:$O$32,8,0))*(M220-I220/300)+I220)/300*(300-VLOOKUP(A220,anni!$A$1:$O$32,7,0)) -> 2.7614085 | O220: =MAX(1,N220) -> 2.7614085 | P220: =INT(MAX(1,O220)+1-VLOOKUP(A220,anni!$A$1:$O$32,5,0)) -> 3 | Q220: {=SUM(IF(anno=A220,IF(distretto=E220,concorrenti!$T$3:$T$5991)))} -> 0 | R220: =P220+Q220 -> 3 | S220: =R220-F220 -> 0 | T220: =1+INT($N220/VLOOKUP($A220,anni!$A$1:$J$35,10,0))+$Q220 -> 3 | U220: =T220-$F220 -> 0 | X220: 14 | Y220: 12 | Z220: =-(Y220-X220)/SQRT(AVERAGE(X220:Y220)) -> 0.5547002 | AB220: 3 | AC220: =R220-AB220 -> 0
A221: 2014 | B221: =VLOOKUP($E221,accorpamenti!$A$2:$X$104,$A221-B$2,0) -> Pavia | C221: =VLOOKUP($E221,accorpamenti!$A$2:$X$104,$A221-C$2,0) -> Pavia | D221: =VLOOKUP($E221,accorpamenti!$A$2:$X$104,$A221-D$2,0) -> Pavia | E221: Pavia | F221: {=SUM(IF(anno=A221,IF(distretto=E221,1)))} -> 3 | G221: {=SUM(IF(anno=A221,IF(distretto=E221,IF(punti=-1,1))))} -> 0 | H221: {=SUM(IF(anno=A221,IF(distretto=E221,punti)))+G221} -> 38.2 | I221: 2.7310924 | J221: =H221/VLOOKUP(A221,anni!$A$1:$O$32,4,0) -> 0.010078092 | K221: =SUMIFS($J$2:$J$1979,anno_2,A221-1,$C$2:$C$1979,B221) -> 0.0070598458 | L221: =SUMIFS($J$2:$J$1979,anno_2,A221-2,$D$2:$D$1979,B221) -> 0.012193678 | M221: {=SUM(IF(NOT(ISERR(J221:L221)),J221:L221*$J$2:$L$2))/SUM(IF(NOT(ISERR(J221:L221)),$J$2:$L$2))} -> 0.0094246076 | N221: =((300-VLOOKUP(A221,anni!$A$1:$O$32,8,0))*(M221-I221/300)+I221)/300*(300-VLOOKUP(A221,anni!$A$1:$O$32,7,0)) -> 2.7176228 | O221: =MAX(1,N221) -> 2.7176228 | P221: =INT(MAX(1,O221)+1-VLOOKUP(A221,anni!$A$1:$O$32,5,0)) -> 3 | Q221: {=SUM(IF(anno=A221,IF(distretto=E221,concorrenti!$T$3:$T$5991)))} -> 0 | R221: =P221+Q221 -> 3 | S221: =R221-F221 -> 0 | T221: =1+INT($N221/VLOOKUP($A221,anni!$A$1:$J$35,10,0))+$Q221 -> 3 | U221: =T221-$F221 -> 0 | X221: 13 | Y221: 14 | Z221: =-(Y221-X221)/SQRT(AVERAGE(X221:Y221)) -> -0.27216553 | AB221: 2 | AC221: =R221-AB221 -> 1
A222: 2014 | B222: =VLOOKUP($E222,accorpamenti!$A$2:$X$104,$A222-B$2,0) -> Bologna | C222: =VLOOKUP($E222,accorpamenti!$A$2:$X$104,$A222-C$2,0) -> Bologna | D222: =VLOOKUP($E222,accorpamenti!$A$2:$X$104,$A222-D$2,0) -> Bologna | E222: Bologna | F222: {=SUM(IF(anno=A222,IF(distretto=E222,1)))} -> 3 | G222: {=SUM(IF(anno=A222,IF(distretto=E222,IF(punti=-1,1))))} -> 0 | H222: {=SUM(IF(anno=A222,IF(distretto=E222,punti)))+G222} -> 27.4 | I222: 4.2016807 | J222: =H222/VLOOKUP(A222,anni!$A$1:$O$32,4,0) -> 0.0072287885 | K222: =SUMIFS($J$2:$J$1979,anno_2,A222-1,$C$2:$C$1979,B222) -> 0.009340719 | L222: =SUMIFS($J$2:$J$1979,anno_2,A222-2,$D$2:$D$1979,B222) -> 0.010240322 | M222: {=SUM(IF(NOT(ISERR(J222:L222)),J222:L222*$J$2:$L$2))/SUM(IF(NOT(ISERR(J222:L222)),$J$2:$L$2))} -> 0.0084346876 | N222: =((300-VLOOKUP(A222,anni!$A$1:$O$32,8,0))*(M222-I222/300)+I222)/300*(300-VLOOKUP(A222,anni!$A$1:$O$32,7,0)) -> 2.7153203 | O222: =MAX(1,N222) -> 2.7153203 | P222: =INT(MAX(1,O222)+1-VLOOKUP(A222,anni!$A$1:$O$32,5,0)) -> 3 | Q222: {=SUM(IF(anno=A222,IF(distretto=E222,concorrenti!$T$3:$T$5991)))} -> 0 | R222: =P222+Q222 -> 3 | S222: =R222-F222 -> 0 | T222: =1+INT($N222/VLOOKUP($A222,anni!$A$1:$J$35,10,0))+$Q222 -> 3 | U222: =T222-$F222 -> 0 | X222: 20 | Y222: 18 | Z222: =-(Y222-X222)/SQRT(AVERAGE(X222:Y222)) -> 0.45883147 | AB222: 4 | AC222: =R222-AB222 -> -1
A223: 2014 | B223: =VLOOKUP($E223,accorpamenti!$A$2:$X$104,$A223-B$2,0) -> Biella | C223: =VLOOKUP($E223,accorpamenti!$A$2:$X$104,$A223-C$2,0) -> Biella | D223: =VLOOKUP($E223,accorpamenti!$A$2:$X$104,$A223-D$2,0) -> Biella | E223: Biella | F223: {=SUM(IF(anno=A223,IF(distretto=E223,1)))} -> 2 | G223: {=SUM(IF(anno=A223,IF(distretto=E223,IF(punti=-1,1))))} -> 0 | H223: {=SUM(IF(anno=A223,IF(distretto=E223,punti)))+G223} -> 42 | I223: 1.2605042 | J223: =H223/VLOOKUP(A223,anni!$A$1:$O$32,4,0) -> 0.011080625 | K223: =SUMIFS($J$2:$J$1979,anno_2,A223-1,$C$2:$C$1979,B223) -> 0.009557945 | L223: =SUMIFS($J$2:$J$1979,anno_2,A223-2,$D$2:$D$1979,B223) -> 0.0062152243 | M223: {=SUM(IF(NOT(ISERR(J223:L223)),J223:L223*$J$2:$L$2))/SUM(IF(NOT(ISERR(J223:L223)),$J$2:$L$2))} -> 0.0097621648 | N223: =((300-VLOOKUP(A223,anni!$A$1:$O$32,8,0))*(M223-I223/300)+I223)/300*(300-VLOOKUP(A223,anni!$A$1:$O$32,7,0)) -> 2.5622711 | O223: =MAX(1,N223) -> 2.5622711 | P223: =INT(MAX(1,O223)+1-VLOOKUP(A223,anni!$A$1:$O$32,5,0)) -> 3 | Q223: {=SUM(IF(anno=A223,IF(distretto=E223,concorrenti!$T$3:$T$5991)))} -> 0 | R223: =P223+Q223 -> 3 | S223: =R223-F223 -> 1 | T223: =1+INT($N223/VLOOKUP($A223,anni!$A$1:$J$35,10,0))+$Q223 -> 3 | U223: =T223-$F223 -> 1 | X223: 6 | Y223: 6 | Z223: =-(Y223-X223)/SQRT(AVERAGE(X223:Y223)) -> 0 | AB223: 5 | AC223: =R223-AB223 -> -2
A224: 2014 | B224: =VLOOKUP($E224,accorpamenti!$A$2:$X$104,$A224-B$2,0) -> Pescara | C224: =VLOOKUP($E224,accorpamenti!$A$2:$X$104,$A224-C$2,0) -> Pescara | D224: =VLOOKUP($E224,accorpamenti!$A$2:$X$104,$A224-D$2,0) -> Pescara | E224: Pescara | F224: {=SUM(IF(anno=A224,IF(distretto=E224,1)))} -> 3 | G224: {=SUM(IF(anno=A224,IF(distretto=E224,IF(punti=-1,1))))} -> 0 | H224: {=SUM(IF(anno=A224,IF(distretto=E224,punti)))+G224} -> 29.6 | I224: 1.6806723 | J224: =H224/VLOOKUP(A224,anni!$A$1:$O$32,4,0) -> 0.0078092022 | K224: =SUMIFS($J$2:$J$1979,anno_2,A224-1,$C$2:$C$1979,B224) -> 0.010806995 | L224: =SUMIFS($J$2:$J$1979,anno_2,A224-2,$D$2:$D$1979,B224) -> 0.0078726175 | M224: {=SUM(IF(NOT(ISERR(J224:L224)),J224:L224*$J$2:$L$2))/SUM(IF(NOT(ISERR(J224:L224)),$J$2:$L$2))} -> 0.0088190356 | N224: =((300-VLOOKUP(A224,anni!$A$1:$O$32,8,0))*(M224-I224/300)+I224)/300*(300-VLOOKUP(A224,anni!$A$1:$O$32,7,0)) -> 2.4020419 | O224: =MAX(1,N224) -> 2.4020419 | P224: =INT(MAX(1,O224)+1-VLOOKUP(A224,anni!$A$1:$O$32,5,0)) -> 2 | Q224: {=SUM(IF(anno=A224,IF(distretto=E224,concorrenti!$T$3:$T$5991)))} -> 0 | R224: =P224+Q224 -> 2 | S224: =R224-F224 -> -1 | T224: =1+INT($N224/VLOOKUP($A224,anni!$A$1:$J$35,10,0))+$Q224 -> 3 | U224: =T224-$F224 -> 0 | X224: 8 | Y224: 9 | Z224: =-(Y224-X224)/SQRT(AVERAGE(X224:Y224)) -> -0.34299717 | AB224: 1 | AC224: =R224-AB224 -> 1
... A270: 2014 | B270: =VLOOKUP($E270,accorpamenti!$A$2:$X$104,$A270-B$2,0) -> Avellino | C270: =VLOOKUP($E270,accorpamenti!$A$2:$X$104,$A270-C$2,0) -> Avellino | D270: =VLOOKUP($E270,accorpamenti!$A$2:$X$104,$A270-D$2,0) -> Avellino | E270: Avellino | F270: {=SUM(IF(anno=A270,IF(distretto=E270,1)))} -> 1 | G270: {=SUM(IF(anno=A270,IF(distretto=E270,IF(punti=-1,1))))} -> 0 | H270: {=SUM(IF(anno=A270,IF(distretto=E270,punti)))+G270} -> 0 | I270: 2.9411765 | J270: =H270/VLOOKUP(A270,anni!$A$1:$O$32,4,0) -> 0 | K270: =SUMIFS($J$2:$J$1979,anno_2,A270-1,$C$2:$C$1979,B270) -> 0.0019007277 | L270: =SUMIFS($J$2:$J$1979,anno_2,A270-2,$D$2:$D$1979,B270) -> 0.0016573932 | M270: {=SUM(IF(NOT(ISERR(J270:L270)),J270:L270*$J$2:$L$2))/SUM(IF(NOT(ISERR(J270:L270)),$J$2:$L$2))} -> 0.0009098081 | N270: =((300-VLOOKUP(A270,anni!$A$1:$O$32,8,0))*(M270-I270/300)+I270)/300*(300-VLOOKUP(A270,anni!$A$1:$O$32,7,0)) -> 0.6937265 | O270: =MAX(1,N270) -> 1 | P270: =INT(MAX(1,O270)+1-VLOOKUP(A270,anni!$A$1:$O$32,5,0)) -> 1 | Q270: {=SUM(IF(anno=A270,IF(distretto=E270,concorrenti!$T$3:$T$5991)))} -> 1 | R270: =P270+Q270 -> 2 | S270: =R270-F270 -> 1 | T270: =1+INT($N270/VLOOKUP($A270,anni!$A$1:$J$35,10,0))+$Q270 -> 2 | U270: =T270-$F270 -> 1 | X270: 14 | Y270: 19 | Z270: =-(Y270-X270)/SQRT(AVERAGE(X270:Y270)) -> -1.2309149 | AB270: 7 | AC270: =R270-AB270 -> -5
A271: 2014 | B271: =VLOOKUP($E271,accorpamenti!$A$2:$X$104,$A271-B$2,0) -> Agrigento | C271: =VLOOKUP($E271,accorpamenti!$A$2:$X$104,$A271-C$2,0) -> Agrigento | D271: =VLOOKUP($E271,accorpamenti!$A$2:$X$104,$A271-D$2,0) -> Agrigento | E271: Agrigento | F271: {=SUM(IF(anno=A271,IF(distretto=E271,1)))} -> 1 | G271: {=SUM(IF(anno=A271,IF(distretto=E271,IF(punti=-1,1))))} -> 0 | H271: {=SUM(IF(anno=A271,IF(distretto=E271,punti)))+G271} -> 1.2 | I271: 2.9411765 | J271: =H271/VLOOKUP(A271,anni!$A$1:$O$32,4,0) -> 0.00031658928 | K271: =SUMIFS($J$2:$J$1979,anno_2,A271-1,$C$2:$C$1979,B271) -> 0 | L271: =SUMIFS($J$2:$J$1979,anno_2,A271-2,$D$2:$D$1979,B271) -> 0.0041434829 | M271: {=SUM(IF(NOT(ISERR(J271:L271)),J271:L271*$J$2:$L$2))/SUM(IF(NOT(ISERR(J271:L271)),$J$2:$L$2))} -> 0.00084887512 | N271: =((300-VLOOKUP(A271,anni!$A$1:$O$32,8,0))*(M271-I271/300)+I271)/300*(300-VLOOKUP(A271,anni!$A$1:$O$32,7,0)) -> 0.67900103 | O271: =MAX(1,N271) -> 1 | P271: =INT(MAX(1,O271)+1-VLOOKUP(A271,anni!$A$1:$O$32,5,0)) -> 1 | Q271: {=SUM(IF(anno=A271,IF(distretto=E271,concorrenti!$T$3:$T$5991)))} -> 0 | R271: =P271+Q271 -> 1 | S271: =R271-$F271 -> 0 | T271: =1+INT($N271/VLOOKUP($A271,anni!$A$1:$J$35,10,0))+$Q271 -> 1 | U271: =T271-$F271 -> 0 | X271: 14 | Y271: 14 | Z271: =-(Y271-X271)/SQRT(AVERAGE(X271:Y271)) -> 0 | AA271: =SUM(X271:X459) -> 3245 | AB271: 23 | AC271: =R271-AB271 -> -22
A272: 2014 | B272: =VLOOKUP($E272,accorpamenti!$A$2:$X$104,$A272-B$2,0) -> Enna | C272: =VLOOKUP($E272,accorpamenti!$A$2:$X$104,$A272-C$2,0) -> Enna | D272: =VLOOKUP($E272,accorpamenti!$A$2:$X$104,$A272-D$2,0) -> Enna | E272: Enna | F272: {=SUM(IF(anno=A272,IF(distretto=E272,1)))} -> 1 | G272: {=SUM(IF(anno=A272,IF(distretto=E272,IF(punti=-1,1))))} -> 0 | H272: {=SUM(IF(anno=A272,IF(distretto=E272,punti)))+G272} -> 5.6 | I272: 1.2605042 | J272: =H272/VLOOKUP(A272,anni!$A$1:$O$32,4,0) -> 0.0014774166 | K272: =SUMIFS($J$2:$J$1979,anno_2,A272-1,$C$2:$C$1979,B272) -> 0.00054306506 | L272: =SUMIFS($J$2:$J$1979,anno_2,A272-2,$D$2:$D$1979,B272) -> 0.0041434829 | M272: {=SUM(IF(NOT(ISERR(J272:L272)),J272:L272*$J$2:$L$2))/SUM(IF(NOT(ISERR(J272:L272)),$J$2:$L$2))} -> 0.0016103105 | N272: =((300-VLOOKUP(A272,anni!$A$1:$O$32,8,0))*(M272-I272/300)+I272)/300*(300-VLOOKUP(A272,anni!$A$1:$O$32,7,0)) -> 0.5922396 | O272: =MAX(1,N272) -> 1 | P272: =INT(MAX(1,O272)+1-VLOOKUP(A272,anni!$A$1:$O$32,5,0)) -> 1 | Q272: {=SUM(IF(anno=A272,IF(distretto=E272,concorrenti!$T$3:$T$5991)))} -> 0 | R272: =P272+Q272 -> 1 | S272: =R272-F272 -> 0 | T272: =1+INT($N272/VLOOKUP($A272,anni!$A$1:$J$35,10,0))+$Q272 -> 1 | U272: =T272-$F272 -> 0 | X272: 6 | Y272: 6 | Z272: =-(Y272-X272)/SQRT(AVERAGE(X272:Y272)) -> 0 | AB272: 4 | AC272: =R272-AB272 -> -3
A273: 2014 | B273: =VLOOKUP($E273,accorpamenti!$A$2:$X$104,$A273-B$2,0) -> Pistoia | C273: =VLOOKUP($E273,accorpamenti!$A$2:$X$104,$A273-C$2,0) -> Pistoia | D273: =VLOOKUP($E273,accorpamenti!$A$2:$X$104,$A273-D$2,0) -> Pistoia | E273: Pistoia | F273: {=SUM(IF(anno=A273,IF(distretto=E273,1)))} -> 1 | G273: {=SUM(IF(anno=A273,IF(distretto=E273,IF(punti=-1,1))))} -> 0 | H273: {=SUM(IF(anno=A273,IF(distretto=E273,punti)))+G273} -> 3.6 | I273: 1.8907563 | J273: =H273/VLOOKUP(A273,anni!$A$1:$O$32,4,0) -> 0.00094976783 | K273: =SUMIFS($J$2:$J$1979,anno_2,A273-1,$C$2:$C$1979,B273) -> 0 | L273: =SUMIFS($J$2:$J$1979,anno_2,A273-2,$D$2:$D$1979,B273) -> 0.0042618681 | M273: {=SUM(IF(NOT(ISERR(J273:L273)),J273:L273*$J$2:$L$2))/SUM(IF(NOT(ISERR(J273:L273)),$J$2:$L$2))} -> 0.0011851953 | N273: =((300-VLOOKUP(A273,anni!$A$1:$O$32,8,0))*(M273-I273/300)+I273)/300*(300-VLOOKUP(A273,anni!$A$1:$O$32,7,0)) -> 0.59104404 | O273: =MAX(1,N273) -> 1 | P273: =INT(MAX(1,O273)+1-VLOOKUP(A273,anni!$A$1:$O$32,5,0)) -> 1 | Q273: {=SUM(IF(anno=A273,IF(distretto=E273,concorrenti!$T$3:$T$5991)))} -> 0 | R273: =P273+Q273 -> 1 | S273: =R273-F273 -> 0 | T273: =1+INT($N273/VLOOKUP($A273,anni!$A$1:$J$35,10,0))+$Q273 -> 1 | U273: =T273-$F273 -> 0 | X273: 9 | Y273: 9 | Z273: =-(Y273-X273)/SQRT(AVERAGE(X273:Y273)) -> 0 | AB273: 1 | AC273: =R273-AB273 -> 0
A274: 2014 | B274: =VLOOKUP($E274,accorpamenti!$A$2:$X$104,$A274-B$2,0) -> Vercelli | C274: =VLOOKUP($E274,accorpamenti!$A$2:$X$104,$A274-C$2,0) -> Biella | D274: =VLOOKUP($E274,accorpamenti!$A$2:$X$104,$A274-D$2,0) -> Biella | E274: Vercelli | F274: {=SUM(IF(anno=A274,IF(distretto=E274,1)))} -> 1 | G274: {=SUM(IF(anno=A274,IF(distretto=E274,IF(punti=-1,1))))} -> 0 | H274: {=SUM(IF(anno=A274,IF(distretto=E274,punti)))+G274} -> 1 | I274: 0.84033613 | J274: =H274/VLOOKUP(A274,anni!$A$1:$O$32,4,0) -> 0.0002638244 | K274: =SUMIFS($J$2:$J$1979,anno_2,A274-1,$C$2:$C$1979,B274) -> 0.0040729879 | L274: =SUMIFS($J$2:$J$1979,anno_2,A274-2,$D$2:$D$1979,B274) -> 0.0015982005 | M274: {=SUM(IF(NOT(ISERR(J274:L274)),J274:L274*$J$2:$L$2))/SUM(IF(NOT(ISERR(J274:L274)),$J$2:$L$2))} -> 0.0017559416 | N274: =((300-VLOOKUP(A274,anni!$A$1:$O$32,8,0))*(M274-I274/300)+I274)/300*(300-VLOOKUP(A274,anni!$A$1:$O$32,7,0)) -> 0.55974004 | O274: =MAX(1,N274) -> 1 | P274: =INT(MAX(1,O274)+1-VLOOKUP(A274,anni!$A$1:$O$32,5,0)) -> 1 | Q274: {=SUM(IF(anno=A274,IF(distretto=E274,concorrenti!$T$3:$T$5991)))} -> 0 | R274: =P274+Q274 -> 1 | S274: =R274-F274 -> 0 | T274: =1+INT($N274/VLOOKUP($A274,anni!$A$1:$J$35,10,0))+$Q274 -> 1 | U274: =T274-$F274 -> 0 | X274: 4 | Y274: 5 | Z274: =-(Y274-X274)/SQRT(AVERAGE(X274:Y274)) -> -0.47140452 | AB274: 1 | AC274: =R274-AB274 -> 0
A275: 2014 | B275: =VLOOKUP($E275,accorpamenti!$A$2:$X$104,$A275-B$2,0) -> Viterbo | C275: =VLOOKUP($E275,accorpamenti!$A$2:$X$104,$A275-C$2,0) -> Viterbo | D275: =VLOOKUP($E275,accorpamenti!$A$2:$X$104,$A275-D$2,0) -> Viterbo | E275: Viterbo | F275: {=SUM(IF(anno=A275,IF(distretto=E275,1)))} -> 1 | G275: {=SUM(IF(anno=A275,IF(distretto=E275,IF(punti=-1,1))))} -> 0 | H275: {=SUM(IF(anno=A275,IF(distretto=E275,punti)))+G275} -> 1.2 | I275: 1.8907563 | J275: =H275/VLOOKUP(A275,anni!$A$1:$O$32,4,0) -> 0.00031658928 | K275: =SUMIFS($J$2:$J$1979,anno_2,A275-1,$C$2:$C$1979,B275) -> 0.00027153253 | L275: =SUMIFS($J$2:$J$1979,anno_2,A275-2,$D$2:$D$1979,B275) -> 0.0033147863 | M275: {=SUM(IF(NOT(ISERR(J275:L275)),J275:L275*$J$2:$L$2))/SUM(IF(NOT(ISERR(J275:L275)),$J$2:$L$2))} -> 0.00080126987 | N275: =((300-VLOOKUP(A275,anni!$A$1:$O$32,8,0))*(M275-I275/300)+I275)/300*(300-VLOOKUP(A275,anni!$A$1:$O$32,7,0)) -> 0.49826207 | O275: =MAX(1,N275) -> 1 | P275: =INT(MAX(1,O275)+1-VLOOKUP(A275,anni!$A$1:$O$32,5,0)) -> 1 | Q275: {=SUM(IF(anno=A275,IF(distretto=E275,concorrenti!$T$3:$T$5991)))} -> 0 | R275: =P275+Q275 -> 1 | S275: =R275-F275 -> 0 | T275: =1+INT($N275/VLOOKUP($A275,anni!$A$1:$J$35,10,0))+$Q275 -> 1 | U275: =T275-$F275 -> 0 | X275: 9 | Y275: 11 | Z275: =-(Y275-X275)/SQRT(AVERAGE(X275:Y275)) -> -0.63245553 | AB275: 1 | AC275: =R275-AB275 -> 0
A276: 2014 | B276: =VLOOKUP($E276,accorpamenti!$A$2:$X$104,$A276-B$2,0) -> Rieti | C276: =VLOOKUP($E276,accorpamenti!$A$2:$X$104,$A276-C$2,0) -> Rieti | D276: =VLOOKUP($E276,accorpamenti!$A$2:$X$104,$A276-D$2,0) -> Rieti | E276: Rieti | F276: {=SUM(IF(anno=A276,IF(distretto=E276,1)))} -> 1 | G276: {=SUM(IF(anno=A276,IF(distretto=E276,IF(punti=-1,1))))} -> 0 | H276: {=SUM(IF(anno=A276,IF(distretto=E276,punti)))+G276} -> 3.6 | I276: 0.84033613 | J276: =H276/VLOOKUP(A276,anni!$A$1:$O$32,4,0) -> 0.00094976783 | K276: =SUMIFS($J$2:$J$1979,anno_2,A276-1,$C$2:$C$1979,B276) -> 0.0016291952 | L276: =SUMIFS($J$2:$J$1979,anno_2,A276-2,$D$2:$D$1979,B276) -> 0.0028116491 | M276: {=SUM(IF(NOT(ISERR(J276:L276)),J276:L276*$J$2:$L$2))/SUM(IF(NOT(ISERR(J276:L276)),$J$2:$L$2))} -> 0.0014865572 | N276: =((300-VLOOKUP(A276,anni!$A$1:$O$32,8,0))*(M276-I276/300)+I276)/300*(300-VLOOKUP(A276,anni!$A$1:$O$32,7,0)) -> 0.4946388 | O276: =MAX(1,N276) -> 1 | P276: =INT(MAX(1,O276)+1-VLOOKUP(A276,anni!$A$1:$O$32,5,0)) -> 1 | Q276: {=SUM(IF(anno=A276,IF(distretto=E276,concorrenti!$T$3:$T$5991)))} -> 0 | R276: =P276+Q276 -> 1 | S276: =R276-F276 -> 0 | T276: =1+INT($N276/VLOOKUP($A276,anni!$A$1:$J$35,10,0))+$Q276 -> 1 | U276: =T276-$F276 -> 0 | X276: 4 | Y276: 3 | Z276: =-(Y276-X276)/SQRT(AVERAGE(X276:Y276)) -> 0.53452248 | AB276: 2 | AC276: =R276-AB276 -> -1
A277: 2014 | B277: =VLOOKUP($E277,accorpamenti!$A$2:$X$104,$A277-B$2,0) -> Nuoro | C277: =VLOOKUP($E277,accorpamenti!$A$2:$X$104,$A277-C$2,0) -> Nuoro | D277: =VLOOKUP($E277,accorpamenti!$A$2:$X$104,$A277-D$2,0) -> Nuoro | E277: Nuoro | F277: {=SUM(IF(anno=A277,IF(distretto=E277,1)))} -> 1 | G277: {=SUM(IF(anno=A277,IF(distretto=E277,IF(punti=-1,1))))} -> 0 | H277: {=SUM(IF(anno=A277,IF(distretto=E277,punti)))+G277} -> 1.2 | I277: 1.4705882 | J277: =H277/VLOOKUP(A277,anni!$A$1:$O$32,4,0) -> 0.00031658928 | K277: =SUMIFS($J$2:$J$1979,anno_2,A277-1,$C$2:$C$1979,B277) -> 0.00076029108 | L277: =SUMIFS($J$2:$J$1979,anno_2,A277-2,$D$2:$D$1979,B277) -> 0.0037291346 | M277: {=SUM(IF(NOT(ISERR(J277:L277)),J277:L277*$J$2:$L$2))/SUM(IF(NOT(ISERR(J277:L277)),$J$2:$L$2))} -> 0.0010332474 | N277: =((300-VLOOKUP(A277,anni!$A$1:$O$32,8,0))*(M277-I277/300)+I277)/300*(300-VLOOKUP(A277,anni!$A$1:$O$32,7,0)) -> 0.48662957 | O277: =MAX(1,N277) -> 1 | P277: =INT(MAX(1,O277)+1-VLOOKUP(A277,anni!$A$1:$O$32,5,0)) -> 1 | Q277: {=SUM(IF(anno=A277,IF(distretto=E277,concorrenti!$T$3:$T$5991)))} -> 0 | R277: =P277+Q277 -> 1 | S277: =R277-F277 -> 0 | T277: =1+INT($N277/VLOOKUP($A277,anni!$A$1:$J$35,10,0))+$Q277 -> 1 | U277: =T277-$F277 -> 0 | X277: 7 | Y277: 9 | Z277: =-(Y277-X277)/SQRT(AVERAGE(X277:Y277)) -> -0.70710678 | AB277: 2 | AC277: =R277-AB277 -> -1
A278: 2014 | B278: =VLOOKUP($E278,accorpamenti!$A$2:$X$104,$A278-B$2,0) -> Aosta | C278: =VLOOKUP($E278,accorpamenti!$A$2:$X$104,$A278-C$2,0) -> Aosta | D278: =VLOOKUP($E278,accorpamenti!$A$2:$X$104,$A278-D$2,0) -> Aosta | E278: Aosta | F278: {=SUM(IF(anno=A278,IF(distretto=E278,1)))} -> 1 | G278: {=SUM(IF(anno=A278,IF(distretto=E278,IF(punti=-1,1))))} -> 0 | H278: {=SUM(IF(anno=A278,IF(distretto=E278,punti)))+G278} -> 2 | I278: 0.42016807 | J278: =H278/VLOOKUP(A278,anni!$A$1:$O$32,4,0) -> 0.0005276488 | K278: =SUMIFS($J$2:$J$1979,anno_2,A278-1,$C$2:$C$1979,B278) -> 0.0021722602 | L278: =SUMIFS($J$2:$J$1979,anno_2,A278-2,$D$2:$D$1979,B278) -> 0.0016277969 | M278: {=SUM(IF(NOT(ISERR(J278:L278)),J278:L278*$J$2:$L$2))/SUM(IF(NOT(ISERR(J278:L278)),$J$2:$L$2))} -> 0.0012592106 | N278: =((300-VLOOKUP(A278,anni!$A$1:$O$32,8,0))*(M278-I278/300)+I278)/300*(300-VLOOKUP(A278,anni!$A$1:$O$32,7,0)) -> 0.37200298 | O278: =MAX(1,N278) -> 1 | P278: =INT(MAX(1,O278)+1-VLOOKUP(A278,anni!$A$1:$O$32,5,0)) -> 1 | Q278: {=SUM(IF(anno=A278,IF(distretto=E278,concorrenti!$T$3:$T$5991)))} -> 0 | R278: =P278+Q278 -> 1 | S278: =R278-F278 -> 0 | T278: =1+INT($N278/VLOOKUP($A278,anni!$A$1:$J$35,10,0))+$Q278 -> 1 | U278: =T278-$F278 -> 0 | X278: 2 | Y278: 2 | Z278: =-(Y278-X278)/SQRT(AVERAGE(X278:Y278)) -> 0 | AB278: 7 | AC278: =R278-AB278 -> -6
A279: 2014 | B279: =VLOOKUP($E279,accorpamenti!$A$2:$X$104,$A279-B$2,0) -> Ascoli Piceno | C279: =VLOOKUP($E279,accorpamenti!$A$2:$X$104,$A279-C$2,0) -> Ascoli Piceno | D279: =VLOOKUP($E279,accorpamenti!$A$2:$X$104,$A279-D$2,0) -> Ascoli Piceno | E279: Ascoli Piceno | F279: {=SUM(IF(anno=A279,IF(distretto=E279,1)))} -> 1 | G279: {=SUM(IF(anno=A279,IF(distretto=E279,IF(punti=-1,1))))} -> 0 | H279: {=SUM(IF(anno=A279,IF(distretto=E279,punti)))+G279} -> 1.2 | I279: 1.2605042 | J279: =H279/VLOOKUP(A279,anni!$A$1:$O$32,4,0) -> 0.00031658928 | K279: =SUMIFS($J$2:$J$1979,anno_2,A279-1,$C$2:$C$1979,B279) -> 0 | L279: =SUMIFS($J$2:$J$1979,anno_2,A279-2,$D$2:$D$1979,B279) -> 0.0030188233 | M279: {=SUM(IF(NOT(ISERR(J279:L279)),J279:L279*$J$2:$L$2))/SUM(IF(NOT(ISERR(J279:L279)),$J$2:$L$2))} -> 0.00066143185 | N279: =((300-VLOOKUP(A279,anni!$A$1:$O$32,8,0))*(M279-I279/300)+I279)/300*(300-VLOOKUP(A279,anni!$A$1:$O$32,7,0)) -> 0.36292726 | O279: =MAX(1,N279) -> 1 | P279: =INT(MAX(1,O279)+1-VLOOKUP(A279,anni!$A$1:$O$32,5,0)) -> 1 | Q279: {=SUM(IF(anno=A279,IF(distretto=E279,concorrenti!$T$3:$T$5991)))} -> 0 | R279: =P279+Q279 -> 1 | S279: =R279-F279 -> 0 | T279: =1+INT($N279/VLOOKUP($A279,anni!$A$1:$J$35,10,0))+$Q279 -> 1 | U279: =T279-$F279 -> 0 | X279: 6 | Y279: 8 | Z279: =-(Y279-X279)/SQRT(AVERAGE(X279:Y279)) -> -0.75592895 | AB279: 8 | AC279: =R279-AB279 -> -7
A280: 2014 | B280: =VLOOKUP($E280,accorpamenti!$A$2:$X$104,$A280-B$2,0) -> L'Aquila | C280: =VLOOKUP($E280,accorpamenti!$A$2:$X$104,$A280-C$2,0) -> L'Aquila | D280: =VLOOKUP($E280,accorpamenti!$A$2:$X$104,$A280-D$2,0) -> L'Aquila | E280: L'Aquila | F280: {=SUM(IF(anno=A280,IF(distretto=E280,1)))} -> 1 | G280: {=SUM(IF(anno=A280,IF(distretto=E280,IF(punti=-1,1))))} -> 0 | H280: {=SUM(IF(anno=A280,IF(distretto=E280,punti)))+G280} -> 5 | I280: 0.6302521 | J280: =H280/VLOOKUP(A280,anni!$A$1:$O$32,4,0) -> 0.001319122 | K280: =SUMIFS($J$2:$J$1979,anno_2,A280-1,$C$2:$C$1979,B280) -> 0.00054306506 | L280: =SUMIFS($J$2:$J$1979,anno_2,A280-2,$D$2:$D$1979,B280) -> 0.0014206227 | M280: {=SUM(IF(NOT(ISERR(J280:L280)),J280:L280*$J$2:$L$2))/SUM(IF(NOT(ISERR(J280:L280)),$J$2:$L$2))} -> 0.0010773531 | N280: =((300-VLOOKUP(A280,anni!$A$1:$O$32,8,0))*(M280-I280/300)+I280)/300*(300-VLOOKUP(A280,anni!$A$1:$O$32,7,0)) -> 0.36190096 | O280: =MAX(1,N280) -> 1 | P280: =INT(MAX(1,O280)+1-VLOOKUP(A280,anni!$A$1:$O$32,5,0)) -> 1 | Q280: {=SUM(IF(anno=A280,IF(distretto=E280,concorrenti!$T$3:$T$5991)))} -> 0 | R280: =P280+Q280 -> 1 | S280: =R280-F280 -> 0 | T280: =1+INT($N280/VLOOKUP($A280,anni!$A$1:$J$35,10,0))+$Q280 -> 1 | U280: =T280-$F280 -> 0 | X280: 3 | Y280: 4 | Z280: =-(Y280-X280)/SQRT(AVERAGE(X280:Y280)) -> -0.53452248 | AB280: 3 | AC280: =R280-AB280 -> -2
A281: 2013 | B281: =VLOOKUP($E281,accorpamenti!$A$2:$X$104,$A281-B$2,0) -> Roma | C281: =VLOOKUP($E281,accorpamenti!$A$2:$X$104,$A281-C$2,0) -> Roma | D281: =VLOOKUP($E281,accorpamenti!$A$2:$X$104,$A281-D$2,0) -> Roma | E281: Roma | F281: {=SUM(IF(anno=A281,IF(distretto=E281,1)))} -> 23 | G281: {=SUM(IF(anno=A281,IF(distretto=E281,IF(punti=-1,1))))} -> 0 | H281: {=SUM(IF(anno=A281,IF(distretto=E281,punti)))+G281} -> 258 | I281: 23.749208 | J281: =H281/VLOOKUP(A281,anni!$A$1:$O$32,4,0) -> 0.070055393 | K281: =SUMIFS($J$2:$J$1979,anno_2,A281-1,$C$2:$C$1979,B281) -> 0.07307328 | L281: =SUMIFS($J$2:$J$1979,anno_2,A281-2,$D$2:$D$1979,B281) -> 0.098375658 | M281: {=SUM(IF(NOT(ISERR(J281:L281)),J281:L281*$J$2:$L$2))/SUM(IF(NOT(ISERR(J281:L281)),$J$2:$L$2))} -> 0.075781399 | N281: =((300-VLOOKUP(A281,anni!$A$1:$O$32,8,0))*(M281-I281/300)+I281)/300*(300-VLOOKUP(A281,anni!$A$1:$O$32,7,0)) -> 22.29279 | O281: =MAX(1,N281) -> 22.29279 | P281: =INT(MAX(1,O281)+1-VLOOKUP(A281,anni!$A$1:$O$32,5,0)) -> 22 | Q281: {=SUM(IF(anno=A281,IF(distretto=E281,concorrenti!$T$3:$T$5991)))} -> 3 | R281: =P281+Q281 -> 25 | S281: =R281-F281 -> 2 | T281: =1+INT($N281/VLOOKUP($A281,anni!$A$1:$J$35,10,0))+$Q281 -> 22 | U281: =T281-$F281 -> -1 | X281: 125 | Y281: 128 | Z281: =-(Y281-X281)/SQRT(AVERAGE(X281:Y281)) -> -0.26673253 | AB281: 1 | AC281: =R281-AB281 -> 24
A282: 2013 | B282: =VLOOKUP($E282,accorpamenti!$A$2:$X$104,$A282-B$2,0) -> Torino | C282: =VLOOKUP($E282,accorpamenti!$A$2:$X$104,$A282-C$2,0) -> Torino | D282: =VLOOKUP($E282,accorpamenti!$A$2:$X$104,$A282-D$2,0) -> Torino | E282: Torino | F282: {=SUM(IF(anno=A282,IF(distretto=E282,1)))} -> 14 | G282: {=SUM(IF(anno=A282,IF(distretto=E282,IF(punti=-1,1))))} -> 0 | H282: {=SUM(IF(anno=A282,IF(distretto=E282,punti)))+G282} -> 154.6 | I282: 12.729576 | J282: =H282/VLOOKUP(A282,anni!$A$1:$O$32,4,0) -> 0.041978929 | K282: =SUMIFS($J$2:$J$1979,anno_2,A282-1,$C$2:$C$1979,B282) -> 0.047650053 | L282: =SUMIFS($J$2:$J$1979,anno_2,A282-2,$D$2:$D$1979,B282) -> 0.061141615 | M282: {=SUM(IF(NOT(ISERR(J282:L282)),J282:L282*$J$2:$L$2))/SUM(IF(NOT(ISERR(J282:L282)),$J$2:$L$2))} -> 0.047063085 | N282: =((300-VLOOKUP(A282,anni!$A$1:$O$32,8,0))*(M282-I282/300)+I282)/300*(300-VLOOKUP(A282,anni!$A$1:$O$32,7,0)) -> 13.517037 | O282: =MAX(1,N282) -> 13.517037 | P282: =INT(MAX(1,O282)+1-VLOOKUP(A282,anni!$A$1:$O$32,5,0)) -> 14 | Q282: {=SUM(IF(anno=A282,IF(distretto=E282,concorrenti!$T$3:$T$5991)))} -> 1 | R282: =P282+Q282 -> 15 | S282: =R282-F282 -> 1 | T282: =1+INT($N282/VLOOKUP($A282,anni!$A$1:$J$35,10,0))+$Q282 -> 13 | U282: =T282-$F282 -> -1 | X282: 67 | Y282: 71 | Z282: =-(Y282-X282)/SQRT(AVERAGE(X282:Y282)) -> -0.48154341 | AB282: 1 | AC282: =R282-AB282 -> 14
A283: 2013 | B283: =VLOOKUP($E283,accorpamenti!$A$2:$X$104,$A283-B$2,0) -> Milano | C283: =VLOOKUP($E283,accorpamenti!$A$2:$X$104,$A283-C$2,0) -> Milano | D283: =VLOOKUP($E283,accorpamenti!$A$2:$X$104,$A283-D$2,0) -> Milano | E283: Milano | F283: {=SUM(IF(anno=A283,IF(distretto=E283,1)))} -> 10 | G283: {=SUM(IF(anno=A283,IF(distretto=E283,IF(punti=-1,1))))} -> 0 | H283: {=SUM(IF(anno=A283,IF(distretto=E283,punti)))+G283} -> 121.8 | I283: 10.829639 | J283: =H283/VLOOKUP(A283,anni!$A$1:$O$32,4,0) -> 0.033072662 | K283: =SUMIFS($J$2:$J$1979,anno_2,A283-1,$C$2:$C$1979,B283) -> 0.039274299 | L283: =SUMIFS($J$2:$J$1979,anno_2,A283-2,$D$2:$D$1979,B283) -> 0.04398307 | M283: {=SUM(IF(NOT(ISERR(J283:L283)),J283:L283*$J$2:$L$2))/SUM(IF(NOT(ISERR(J283:L283)),$J$2:$L$2))} -> 0.036958276 | N283: =((300-VLOOKUP(A283,anni!$A$1:$O$32,8,0))*(M283-I283/300)+I283)/300*(300-VLOOKUP(A283,anni!$A$1:$O$32,7,0)) -> 10.749989 | O283: =MAX(1,N283) -> 10.749989 | P283: =INT(MAX(1,O283)+1-VLOOKUP(A283,anni!$A$1:$O$32,5,0)) -> 11 | Q283: {=SUM(IF(anno=A283,IF(distretto=E283,concorrenti!$T$3:$T$5991)))} -> 0 | R283: =P283+Q283 -> 11 | S283: =R283-F283 -> 1 | T283: =1+INT($N283/VLOOKUP($A283,anni!$A$1:$J$35,10,0))+$Q283 -> 10 | U283: =T283-$F283 -> 0 | X283: 57 | Y283: 55 | Z283: =-(Y283-X283)/SQRT(AVERAGE(X283:Y283)) -> 0.26726124 | AB283: 2 | AC283: =R283-AB283 -> 9
...

Sheet anni
A1: anno | B1: µ_anno | C1: σ_anno | D1: sum_anno | E1: adj | F1: scorp_s | G1: sum_sc | H1: q_sc | O1: 1
A2: 1997 | B2: {=AVERAGE(IF(anno=A2,IF(punti>=0,punti)))} -> 17.143945 | C2: {=STDEV(IF(anno=A2,IF(punti>=0,punti)))} -> 10.108057 | D2: {=SUM(IF(anno=A2,IF(punti>=0,punti)))} -> 4954.6 | E2: {=LARGE(IF(anno_2=A2,q_max-INT(q_max)),300-G2-SUM(IF(anno_2=A2,INT(q_max))))} -> #NUM! | F2: 43 | G2: {=SUM(IF(anno=A2,concorrenti!$T$3:$T$5991))} -> 0 | H2: 100 | I2: 102 | J2: {=LARGE(IF(anno_2=A2,q_max/TRANSPOSE(unodue)),300-G2-I2)} -> 0.80833267 | O2: 2
A3: 1998 | B3: {=AVERAGE(IF(anno=A3,IF(punti>=0,punti)))} -> 14.104844 | C3: {=STDEV(IF(anno=A3,IF(punti>=0,punti)))} -> 10.610921 | D3: {=SUM(IF(anno=A3,IF(punti>=0,punti)))} -> 4076.3 | E3: {=LARGE(IF(anno_2=A3,q_max-INT(q_max)),300-G3-SUM(IF(anno_2=A3,INT(q_max))))} -> 0.14625425 | F3: 43 | G3: {=SUM(IF(anno=A3,concorrenti!$T$3:$T$5991))} -> 0 | H3: 100 | I3: 102 | J3: {=LARGE(IF(anno_2=A3,q_max/TRANSPOSE(unodue)),300-G3-I3)} -> 1.0797681 | O3: 3
A4: 1999 | B4: {=AVERAGE(IF(anno=A4,IF(punti>=0,punti)))} -> 18.230897 | C4: {=STDEV(IF(anno=A4,IF(punti>=0,punti)))} -> 9.8528038 | D4: {=SUM(IF(anno=A4,IF(punti>=0,punti)))} -> 5487.5 | E4: {=LARGE(IF(anno_2=A4,q_max-INT(q_max)),300-G4-SUM(IF(anno_2=A4,INT(q_max))))} -> 0.47908069 | F4: 43 | G4: {=SUM(IF(anno=A4,concorrenti!$T$3:$T$5991))} -> 0 | H4: 100 | I4: 102 | J4: {=LARGE(IF(anno_2=A4,q_max/TRANSPOSE(unodue)),300-G4-I4)} -> 1.216327 | O4: 4
A5: 2000 | B5: {=AVERAGE(IF(anno=A5,IF(punti>=0,punti)))} -> 12.479286 | C5: {=STDEV(IF(anno=A5,IF(punti>=0,punti)))} -> 8.365632 | D5: {=SUM(IF(anno=A5,IF(punti>=0,punti)))} -> 3494.2 | E5: {=LARGE(IF(anno_2=A5,q_max-INT(q_max)),300-G5-SUM(IF(anno_2=A5,INT(q_max))))} -> 0.500048 | F5: 43 | G5: {=SUM(IF(anno=A5,concorrenti!$T$3:$T$5991))} -> 0 | H5: 100 | I5: 102 | J5: {=LARGE(IF(anno_2=A5,q_max/TRANSPOSE(unodue)),300-G5-I5)} -> 1.1942031 | O5: 5
A6: 2001 | B6: {=AVERAGE(IF(anno=A6,IF(punti>=0,punti)))} -> 14.236301 | C6: {=STDEV(IF(anno=A6,IF(punti>=0,punti)))} -> 7.7997566 | D6: {=SUM(IF(anno=A6,IF(punti>=0,punti)))} -> 4157 | E6: {=LARGE(IF(anno_2=A6,q_max-INT(q_max)),300-G6-SUM(IF(anno_2=A6,INT(q_max))))} -> 0.48512773 | F6: 43 | G6: {=SUM(IF(anno=A6,concorrenti!$T$3:$T$5991))} -> 0 | H6: 100 | I6: 102 | J6: {=LARGE(IF(anno_2=A6,q_max/TRANSPOSE(unodue)),300-G6-I6)} -> 1.195966 | O6: 6
A7: 2002 | B7: {=AVERAGE(IF(anno=A7,IF(punti>=0,punti)))} -> 19.84726 | C7: {=STDEV(IF(anno=A7,IF(punti>=0,punti)))} -> 10.780169 | D7: {=SUM(IF(anno=A7,IF(punti>=0,punti)))} -> 5795.4 | E7: {=LARGE(IF(anno_2=A7,q_max-INT(q_max)),300-G7-SUM(IF(anno_2=A7,INT(q_max))))} -> 0.56017719 | F7: 43 | G7: {=SUM(IF(anno=A7,concorrenti!$T$3:$T$5991))} -> 0 | H7: 100 | I7: 102 | J7: {=LARGE(IF(anno_2=A7,q_max/TRANSPOSE(unodue)),300-G7-I7)} -> 1.1949672 | O7: 7
A8: 2003 | B8: {=AVERAGE(IF(anno=A8,IF(punti>=0,punti)))} -> 15.607612 | C8: {=STDEV(IF(anno=A8,IF(punti>=0,punti)))} -> 9.0201517 | D8: {=SUM(IF(anno=A8,IF(punti>=0,punti)))} -> 4510.6 | E8: {=LARGE(IF(anno_2=A8,q_max-INT(q_max)),300-G8-SUM(IF(anno_2=A8,INT(q_max))))} -> 0.49666565 | F8: 27 | G8: {=SUM(IF(anno=A8,concorrenti!$T$3:$T$5991))} -> 10 | H8: 100 | I8: 102 | J8: {=LARGE(IF(anno_2=A8,q_max/TRANSPOSE(unodue)),300-G8-I8)} -> 1.1836397 | O8: 8
A9: 2004 | B9: {=AVERAGE(IF(anno=A9,IF(punti>=0,punti)))} -> 12.332881 | C9: {=STDEV(IF(anno=A9,IF(punti>=0,punti)))} -> 7.1450071 | D9: {=SUM(IF(anno=A9,IF(punti>=0,punti)))} -> 3638.2 | E9: {=LARGE(IF(anno_2=A9,q_max-INT(q_max)),300-G9-SUM(IF(anno_2=A9,INT(q_max))))} -> 0.49118823 | F9: 22 | G9: {=SUM(IF(anno=A9,concorrenti!$T$3:$T$5991))} -> 12 | H9: 100 | I9: 102 | J9: {=LARGE(IF(anno_2=A9,q_max/TRANSPOSE(unodue)),300-G9-I9)} -> 1.2122544 | O9: 9
A10: 2005 | B10: {=AVERAGE(IF(anno=A10,IF(punti>=0,punti)))} -> 18.423448 | C10: {=STDEV(IF(anno=A10,IF(punti>=0,punti)))} -> 8.951774 | D10: {=SUM(IF(anno=A10,IF(punti>=0,punti)))} -> 5342.8 | E10: {=LARGE(IF(anno_2=A10,q_max-INT(q_max)),300-G10-SUM(IF(anno_2=A10,INT(q_max))))} -> 0.51809651 | F10: 28 | G10: {=SUM(IF(anno=A10,concorrenti!$T$3:$T$5991))} -> 10 | H10: 100 | I10: 102 | J10: {=LARGE(IF(anno_2=A10,q_max/TRANSPOSE(unodue)),300-G10-I10)} -> 1.2348972 | O10: 10
A11: 2006 | B11: {=AVERAGE(IF(anno=A11,IF(punti>=0,punti)))} -> 15.933808 | C11: {=STDEV(IF(anno=A11,IF(punti>=0,punti)))} -> 8.1234776 | D11: {=SUM(IF(anno=A11,IF(punti>=0,punti)))} -> 4477.4 | E11: {=LARGE(IF(anno_2=A11,q_max-INT(q_max)),300-G11-SUM(IF(anno_2=A11,INT(q_max))))} -> 0.51964988 | F11: 26 | G11: {=SUM(IF(anno=A11,concorrenti!$T$3:$T$5991))} -> 10 | H11: 100 | I11: 102 | J11: {=LARGE(IF(anno_2=A11,q_max/TRANSPOSE(unodue)),300-G11-I11)} -> 1.2254956 | O11: 11
A12: 2007 | B12: {=AVERAGE(IF(anno=A12,IF(punti>=0,punti)))} -> 14.087248 | C12: {=STDEV(IF(anno=A12,IF(punti>=0,punti)))} -> 8.8120616 | D12: {=SUM(IF(anno=A12,IF(punti>=0,punti)))} -> 4198 | E12: {=LARGE(IF(anno_2=A12,q_max-INT(q_max)),300-G12-SUM(IF(anno_2=A12,INT(q_max))))} -> 0.50679714 | F12: 25 | G12: {=SUM(IF(anno=A12,concorrenti!$T$3:$T$5991))} -> 15 | H12: 100 | I12: 102 | J12: {=LARGE(IF(anno_2=A12,q_max/TRANSPOSE(unodue)),300-G12-I12)} -> 1.2133304 | O12: 12
A13: 2008 | B13: {=AVERAGE(IF(anno=A13,IF(punti>=0,punti)))} -> 8.4195946 | C13: {=STDEV(IF(anno=A13,IF(punti>=0,punti)))} -> 7.5060397 | D13: {=SUM(IF(anno=A13,IF(punti>=0,punti)))} -> 2492.2 | E13: {=LARGE(IF(anno_2=A13,q_max-INT(q_max)),300-G13-SUM(IF(anno_2=A13,INT(q_max))))} -> 0.57553607 | F13: 20 | G13: {=SUM(IF(anno=A13,concorrenti!$T$3:$T$5991))} -> 12 | H13: 100 | I13: 102 | J13: {=LARGE(IF(anno_2=A13,q_max/TRANSPOSE(unodue)),300-G13-I13)} -> 1.2406346 | O13: 13
... A19: 2014 | B19: {=AVERAGE(IF(anno=A19,IF(punti>=0,punti)))} -> 12.76229 | C19: {=STDEV(IF(anno=A19,IF(punti>=0,punti)))} -> 7.8218461 | D19: {=SUM(IF(anno=A19,IF(punti>=0,punti)))} -> 3790.4 | E19: {=LARGE(IF(anno_2=A19,q_max-INT(q_max)),300-G19-SUM(IF(anno_2=A19,INT(q_max))))} -> 0.4946388 | F19: 26 | G19: {=SUM(IF(anno=A19,concorrenti!$T$3:$T$5991))} -> 10 | H19: 50 | I19: 93 | J19: {=LARGE(IF(anno_2=A19,q_max/TRANSPOSE(unodue)),300-G19-I19)} -> 1.1865793 | O19: 19
A20: 2015 | B20: {=AVERAGE(IF(anno=A20,IF(punti>=0,punti)))} -> 17.78194 | C20: {=STDEV(IF(anno=A20,IF(punti>=0,punti)))} -> 8.4407971 | D20: {=SUM(IF(anno=A20,IF(punti>=0,punti)))+2*B20} -> 5352.3639 | E20: {=LARGE(IF(anno_2=A20,q_max-INT(q_max)),300-G20-SUM(IF(anno_2=A20,INT(q_max))))} -> 0.53467516 | F20: 28 | G20: {=SUM(IF(anno=A20,concorrenti!$T$3:$T$5991))} -> 12 | H20: 50 | I20: 92 | J20: {=LARGE(IF(anno_2=A20,q_max/TRANSPOSE(unodue)),300-G20-I20)} -> 1.1739143 | O20: 20
A21: 2016 | B21: {=AVERAGE(IF(anno=A21,IF(punti>=0,punti)))} -> 13.830464 | C21: {=STDEV(IF(anno=A21,IF(punti>=0,punti)))} -> 9.4283731 | D21: {=SUM(IF(anno=A21,IF(punti>=0,punti)))} -> 4176.8 | E21: {=LARGE(IF(anno_2=A21,q_max-INT(q_max)),300-G21-SUM(IF(anno_2=A21,INT(q_max))))} -> 0.5368824 | F21: 27 | G21: {=SUM(IF(anno=A21,concorrenti!$T$3:$T$5991))} -> 10 | H21: 50 | I21: 92 | J21: {=LARGE(IF(anno_2=A21,q_max/TRANSPOSE(unodue)),300-G21-I21)} -> 1.1844407 | O21: 21
O22: 22
O23: 23
O24: 24
O25: 25
O26: 26
O27: 27
O28: 28
O29: 29
O30: 30
O31: 31
O32: 32
O33: 33
... O50: 50

Sheet sintetico q_vera
A1: provincia | B1: avg | C1: 1998 | D1: 1999 | E1: 2000 | F1: 2001 | G1: 2002 | H1: 2003 | I1: 2004 | J1: 2005 | K1: 2006 | L1: 2007 | M1: 2008 | N1: 2009 | O1: 2010 | P1: 2011 | Q1: 2012 | R1: 2013 | S1: 2014 | T1: 2015 | U1: 2016 | V1: 2017
A2: Roma | B2: =AVERAGE(M2:O2) -> 20.565143 | C2: =SUMIFS(province!$N:$N,province!$A:$A,C$1,province!$E:$E,$A2) -> 14.663154 | D2: =SUMIFS(province!$N:$N,province!$A:$A,D$1,province!$E:$E,$A2) -> 15.944314 | E2: =SUMIFS(province!$N:$N,province!$A:$A,E$1,province!$E:$E,$A2) -> 15.687504 | F2: =SUMIFS(province!$N:$N,province!$A:$A,F$1,province!$E:$E,$A2) -> 16.239771 | G2: =SUMIFS(province!$N:$N,province!$A:$A,G$1,province!$E:$E,$A2) -> 17.563172 | H2: =SUMIFS(province!$N:$N,province!$A:$A,H$1,province!$E:$E,$A2) -> 16.390581 | I2: =SUMIFS(province!$N:$N,province!$A:$A,I$1,province!$E:$E,$A2) -> 15.509734 | J2: =SUMIFS(province!$N:$N,province!$A:$A,J$1,province!$E:$E,$A2) -> 15.775427 | ... V2: =SUMIFS(province!$N:$N,province!$A:$A,V$1,province!$E:$E,$A2) -> 0
A3: Brescia | B3: =AVERAGE(M3:O3) -> 6.4610819 | C3: =SUMIFS(province!$N:$N,province!$A:$A,C$1,province!$E:$E,$A3) -> 5.1571012 | D3: =SUMIFS(province!$N:$N,province!$A:$A,D$1,province!$E:$E,$A3) -> 4.83768 | E3: =SUMIFS(province!$N:$N,province!$A:$A,E$1,province!$E:$E,$A3) -> 5.0966598 | F3: =SUMIFS(province!$N:$N,province!$A:$A,F$1,province!$E:$E,$A3) -> 5.2690717 | G3: =SUMIFS(province!$N:$N,province!$A:$A,G$1,province!$E:$E,$A3) -> 5.1129971 | H3: =SUMIFS(province!$N:$N,province!$A:$A,H$1,province!$E:$E,$A3) -> 4.4966657 | I3: =SUMIFS(province!$N:$N,province!$A:$A,I$1,province!$E:$E,$A3) -> 4.3940811 | J3: =SUMIFS(province!$N:$N,province!$A:$A,J$1,province!$E:$E,$A3) -> 4.4199776 | ... V3: =SUMIFS(province!$N:$N,province!$A:$A,V$1,province!$E:$E,$A3) -> 0
A4: Torino | B4: =AVERAGE(M4:O4) -> 12.940838 | C4: =SUMIFS(province!$N:$N,province!$A:$A,C$1,province!$E:$E,$A4) -> 10.034687 | D4: =SUMIFS(province!$N:$N,province!$A:$A,D$1,province!$E:$E,$A4) -> 11.64875 | E4: =SUMIFS(province!$N:$N,province!$A:$A,E$1,province!$E:$E,$A4) -> 12.50062 | F4: =SUMIFS(province!$N:$N,province!$A:$A,F$1,province!$E:$E,$A4) -> 12.137719 | G4: =SUMIFS(province!$N:$N,province!$A:$A,G$1,province!$E:$E,$A4) -> 11.631768 | H4: =SUMIFS(province!$N:$N,province!$A:$A,H$1,province!$E:$E,$A4) -> 11.179984 | I4: =SUMIFS(province!$N:$N,province!$A:$A,I$1,province!$E:$E,$A4) -> 11.475812 | J4: =SUMIFS(province!$N:$N,province!$A:$A,J$1,province!$E:$E,$A4) -> 11.980495 | ... V4: =SUMIFS(province!$N:$N,province!$A:$A,V$1,province!$E:$E,$A4) -> 0
A5: Milano | B5: =AVERAGE(M5:O5) -> 12.499795 | C5: =SUMIFS(province!$N:$N,province!$A:$A,C$1,province!$E:$E,$A5) -> 13.569981 | D5: =SUMIFS(province!$N:$N,province!$A:$A,D$1,province!$E:$E,$A5) -> 15.853831 | E5: =SUMIFS(province!$N:$N,province!$A:$A,E$1,province!$E:$E,$A5) -> 16.814132 | F5: =SUMIFS(province!$N:$N,province!$A:$A,F$1,province!$E:$E,$A5) -> 17.583414 | G5: =SUMIFS(province!$N:$N,province!$A:$A,G$1,province!$E:$E,$A5) -> 14.884696 | H5: =SUMIFS(province!$N:$N,province!$A:$A,H$1,province!$E:$E,$A5) -> 11.732742 | I5: =SUMIFS(province!$N:$N,province!$A:$A,I$1,province!$E:$E,$A5) -> 9.8925044 | J5: =SUMIFS(province!$N:$N,province!$A:$A,J$1,province!$E:$E,$A5) -> 9.8791775 | ... V5: =SUMIFS(province!$N:$N,province!$A:$A,V$1,province!$E:$E,$A5) -> 0
A6: Napoli | B6: =AVERAGE(M6:O6) -> 8.6031536 | C6: =SUMIFS(province!$N:$N,province!$A:$A,C$1,province!$E:$E,$A6) -> 5.3958798 | D6: =SUMIFS(province!$N:$N,province!$A:$A,D$1,province!$E:$E,$A6) -> 6.4192708 | E6: =SUMIFS(province!$N:$N,province!$A:$A,E$1,province!$E:$E,$A6) -> 6.7158599 | F6: =SUMIFS(province!$N:$N,province!$A:$A,F$1,province!$E:$E,$A6) -> 6.0883015 | G6: =SUMIFS(province!$N:$N,province!$A:$A,G$1,province!$E:$E,$A6) -> 5.9589574 | H6: =SUMIFS(province!$N:$N,province!$A:$A,H$1,province!$E:$E,$A6) -> 7.0381786 | I6: =SUMIFS(province!$N:$N,province!$A:$A,I$1,province!$E:$E,$A6) -> 7.7435429 | J6: =SUMIFS(province!$N:$N,province!$A:$A,J$1,province!$E:$E,$A6) -> 8.1519886 | ... V6: =SUMIFS(province!$N:$N,province!$A:$A,V$1,province!$E:$E,$A6) -> 0
A7: Udine | B7: =AVERAGE(M7:O7) -> 3.9633616 | C7: =SUMIFS(province!$N:$N,province!$A:$A,C$1,province!$E:$E,$A7) -> 3.0058527 | D7: =SUMIFS(province!$N:$N,province!$A:$A,D$1,province!$E:$E,$A7) -> 3.9239302 | E7: =SUMIFS(province!$N:$N,province!$A:$A,E$1,province!$E:$E,$A7) -> 5.1371828 | F7: =SUMIFS(province!$N:$N,province!$A:$A,F$1,province!$E:$E,$A7) -> 6.1711187 | G7: =SUMIFS(province!$N:$N,province!$A:$A,G$1,province!$E:$E,$A7) -> 5.8028311 | H7: =SUMIFS(province!$N:$N,province!$A:$A,H$1,province!$E:$E,$A7) -> 4.4341641 | I7: =SUMIFS(province!$N:$N,province!$A:$A,I$1,province!$E:$E,$A7) -> 3.6541063 | J7: =SUMIFS(province!$N:$N,province!$A:$A,J$1,province!$E:$E,$A7) -> 3.8082752 | ... V7: =SUMIFS(province!$N:$N,province!$A:$A,V$1,province!$E:$E,$A7) -> 0
A8: Vicenza | B8: =AVERAGE(M8:O8) -> 6.3897374 | C8: =SUMIFS(province!$N:$N,province!$A:$A,C$1,province!$E:$E,$A8) -> 7.5465258 | D8: =SUMIFS(province!$N:$N,province!$A:$A,D$1,province!$E:$E,$A8) -> 8.2351375 | E8: =SUMIFS(province!$N:$N,province!$A:$A,E$1,province!$E:$E,$A8) -> 6.7894417 | F8: =SUMIFS(province!$N:$N,province!$A:$A,F$1,province!$E:$E,$A8) -> 7.3725679 | G8: =SUMIFS(province!$N:$N,province!$A:$A,G$1,province!$E:$E,$A8) -> 7.404367 | H8: =SUMIFS(province!$N:$N,province!$A:$A,H$1,province!$E:$E,$A8) -> 6.4065447 | I8: =SUMIFS(province!$N:$N,province!$A:$A,I$1,province!$E:$E,$A8) -> 5.4426519 | J8: =SUMIFS(province!$N:$N,province!$A:$A,J$1,province!$E:$E,$A8) -> 5.6334731 | ... V8: =SUMIFS(province!$N:$N,province!$A:$A,V$1,province!$E:$E,$A8) -> 0
A9: Bari | B9: =AVERAGE(M9:O9) -> 6.2742464 | C9: =SUMIFS(province!$N:$N,province!$A:$A,C$1,province!$E:$E,$A9) -> 4.3190722 | D9: =SUMIFS(province!$N:$N,province!$A:$A,D$1,province!$E:$E,$A9) -> 4.3011912 | E9: =SUMIFS(province!$N:$N,province!$A:$A,E$1,province!$E:$E,$A9) -> 4.6061521 | F9: =SUMIFS(province!$N:$N,province!$A:$A,F$1,province!$E:$E,$A9) -> 4.6938806 | G9: =SUMIFS(province!$N:$N,province!$A:$A,G$1,province!$E:$E,$A9) -> 5.9621145 | H9: =SUMIFS(province!$N:$N,province!$A:$A,H$1,province!$E:$E,$A9) -> 6.4777126 | I9: =SUMIFS(province!$N:$N,province!$A:$A,I$1,province!$E:$E,$A9) -> 6.7471153 | J9: =SUMIFS(province!$N:$N,province!$A:$A,J$1,province!$E:$E,$A9) -> 6.437098 | ... V9: =SUMIFS(province!$N:$N,province!$A:$A,V$1,province!$E:$E,$A9) -> 0
A10: Reggio Emilia | B10: =AVERAGE(M10:O10) -> 3.6791395 | C10: =SUMIFS(province!$N:$N,province!$A:$A,C$1,province!$E:$E,$A10) -> 3.9728649 | D10: =SUMIFS(province!$N:$N,province!$A:$A,D$1,province!$E:$E,$A10) -> 3.7596795 | E10: =SUMIFS(province!$N:$N,province!$A:$A,E$1,province!$E:$E,$A10) -> 2.6816407 | F10: =SUMIFS(province!$N:$N,province!$A:$A,F$1,province!$E:$E,$A10) -> 2.290614 | G10: =SUMIFS(province!$N:$N,province!$A:$A,G$1,province!$E:$E,$A10) -> 2.1437459 | H10: =SUMIFS(province!$N:$N,province!$A:$A,H$1,province!$E:$E,$A10) -> 2.5650366 | I10: =SUMIFS(province!$N:$N,province!$A:$A,I$1,province!$E:$E,$A10) -> 2.8588124 | J10: =SUMIFS(province!$N:$N,province!$A:$A,J$1,province!$E:$E,$A10) -> 2.4939686 | ... V10: =SUMIFS(province!$N:$N,province!$A:$A,V$1,province!$E:$E,$A10) -> 0
A11: Treviso | B11: =AVERAGE(M11:O11) -> 5.8890921 | C11: =SUMIFS(province!$N:$N,province!$A:$A,C$1,province!$E:$E,$A11) -> 3.8401662 | D11: =SUMIFS(province!$N:$N,province!$A:$A,D$1,province!$E:$E,$A11) -> 5.0345225 | E11: =SUMIFS(province!$N:$N,province!$A:$A,E$1,province!$E:$E,$A11) -> 5.0338629 | F11: =SUMIFS(province!$N:$N,province!$A:$A,F$1,province!$E:$E,$A11) -> 5.5688247 | G11: =SUMIFS(province!$N:$N,province!$A:$A,G$1,province!$E:$E,$A11) -> 5.6353097 | H11: =SUMIFS(province!$N:$N,province!$A:$A,H$1,province!$E:$E,$A11) -> 5.3310876 | I11: =SUMIFS(province!$N:$N,province!$A:$A,I$1,province!$E:$E,$A11) -> 5.8408203 | J11: =SUMIFS(province!$N:$N,province!$A:$A,J$1,province!$E:$E,$A11) -> 6.3452253 | ... V11: =SUMIFS(province!$N:$N,province!$A:$A,V$1,province!$E:$E,$A11) -> 0
A12: Trento | B12: =AVERAGE(M12:O12) -> 2.7768396 | C12: =SUMIFS(province!$N:$N,province!$A:$A,C$1,province!$E:$E,$A12) -> 3.119922 | D12: =SUMIFS(province!$N:$N,province!$A:$A,D$1,province!$E:$E,$A12) -> 5.0014776 | E12: =SUMIFS(province!$N:$N,province!$A:$A,E$1,province!$E:$E,$A12) -> 6.2515689 | F12: =SUMIFS(province!$N:$N,province!$A:$A,F$1,province!$E:$E,$A12) -> 5.2786844 | G12: =SUMIFS(province!$N:$N,province!$A:$A,G$1,province!$E:$E,$A12) -> 5.132477 | H12: =SUMIFS(province!$N:$N,province!$A:$A,H$1,province!$E:$E,$A12) -> 4.5293355 | I12: =SUMIFS(province!$N:$N,province!$A:$A,I$1,province!$E:$E,$A12) -> 5.2452183 | J12: =SUMIFS(province!$N:$N,province!$A:$A,J$1,province!$E:$E,$A12) -> 4.9678392 | ... V12: =SUMIFS(province!$N:$N,province!$A:$A,V$1,province!$E:$E,$A12) -> 0
A13: Massa Carrara | B13: =AVERAGE(M13:O13) -> 3.0985457 | C13: =SUMIFS(province!$N:$N,province!$A:$A,C$1,province!$E:$E,$A13) -> 1.5786447 | D13: =SUMIFS(province!$N:$N,province!$A:$A,D$1,province!$E:$E,$A13) -> 1.527635 | E13: =SUMIFS(province!$N:$N,province!$A:$A,E$1,province!$E:$E,$A13) -> 1.4986854 | F13: =SUMIFS(province!$N:$N,province!$A:$A,F$1,province!$E:$E,$A13) -> 1.116756 | G13: =SUMIFS(province!$N:$N,province!$A:$A,G$1,province!$E:$E,$A13) -> 1.5942224 | H13: =SUMIFS(province!$N:$N,province!$A:$A,H$1,province!$E:$E,$A13) -> 1.477992 | I13: =SUMIFS(province!$N:$N,province!$A:$A,I$1,province!$E:$E,$A13) -> 1.2925097 | J13: =SUMIFS(province!$N:$N,province!$A:$A,J$1,province!$E:$E,$A13) -> 1.3757556 | ... V13: =SUMIFS(province!$N:$N,province!$A:$A,V$1,province!$E:$E,$A13) -> 0
... A71: Caserta | B71: =AVERAGE(M71:O71) -> 1.4448145 | C71: =SUMIFS(province!$N:$N,province!$A:$A,C$1,province!$E:$E,$A71) -> 1.6334734 | D71: =SUMIFS(province!$N:$N,province!$A:$A,D$1,province!$E:$E,$A71) -> 1.8458685 | E71: =SUMIFS(province!$N:$N,province!$A:$A,E$1,province!$E:$E,$A71) -> 1.6738224 | F71: =SUMIFS(province!$N:$N,province!$A:$A,F$1,province!$E:$E,$A71) -> 2.0156807 | G71: =SUMIFS(province!$N:$N,province!$A:$A,G$1,province!$E:$E,$A71) -> 2.3899343 | H71: =SUMIFS(province!$N:$N,province!$A:$A,H$1,province!$E:$E,$A71) -> 2.4198312 | I71: =SUMIFS(province!$N:$N,province!$A:$A,I$1,province!$E:$E,$A71) -> 2.6340335 | J71: =SUMIFS(province!$N:$N,province!$A:$A,J$1,province!$E:$E,$A71) -> 2.5669985 | ... V71: =SUMIFS(province!$N:$N,province!$A:$A,V$1,province!$E:$E,$A71) -> 0
A72: Livorno | B72: =AVERAGE(M72:O72) -> 1.466277 | C72: =SUMIFS(province!$N:$N,province!$A:$A,C$1,province!$E:$E,$A72) -> 2.8350772 | D72: =SUMIFS(province!$N:$N,province!$A:$A,D$1,province!$E:$E,$A72) -> 2.4433343 | E72: =SUMIFS(province!$N:$N,province!$A:$A,E$1,province!$E:$E,$A72) -> 1.1811974 | F72: =SUMIFS(province!$N:$N,province!$A:$A,F$1,province!$E:$E,$A72) -> 1.2101222 | G72: =SUMIFS(province!$N:$N,province!$A:$A,G$1,province!$E:$E,$A72) -> 1.6062264 | H72: =SUMIFS(province!$N:$N,province!$A:$A,H$1,province!$E:$E,$A72) -> 1.6997169 | I72: =SUMIFS(province!$N:$N,province!$A:$A,I$1,province!$E:$E,$A72) -> 1.610384 | J72: =SUMIFS(province!$N:$N,province!$A:$A,J$1,province!$E:$E,$A72) -> 1.8645723 | ... V72: =SUMIFS(province!$N:$N,province!$A:$A,V$1,province!$E:$E,$A72) -> 0 | X72: 1
A73: Reggio Calabria | B73: =AVERAGE(M73:O73) -> 2.2883682 | C73: =SUMIFS(province!$N:$N,province!$A:$A,C$1,province!$E:$E,$A73) -> 1.4816421 | D73: =SUMIFS(province!$N:$N,province!$A:$A,D$1,province!$E:$E,$A73) -> 1.4012147 | E73: =SUMIFS(province!$N:$N,province!$A:$A,E$1,province!$E:$E,$A73) -> 1.1207958 | F73: =SUMIFS(province!$N:$N,province!$A:$A,F$1,province!$E:$E,$A73) -> 1.1037865 | G73: =SUMIFS(province!$N:$N,province!$A:$A,G$1,province!$E:$E,$A73) -> 1.2305694 | H73: =SUMIFS(province!$N:$N,province!$A:$A,H$1,province!$E:$E,$A73) -> 1.0873864 | I73: =SUMIFS(province!$N:$N,province!$A:$A,I$1,province!$E:$E,$A73) -> 1.1884584 | J73: =SUMIFS(province!$N:$N,province!$A:$A,J$1,province!$E:$E,$A73) -> 1.0833374 | ... V73: =SUMIFS(province!$N:$N,province!$A:$A,V$1,province!$E:$E,$A73) -> 0 | X73: 1
A74: Pistoia | B74: =AVERAGE(M74:O74) -> 2.2391967 | C74: =SUMIFS(province!$N:$N,province!$A:$A,C$1,province!$E:$E,$A74) -> 2.4867296 | D74: =SUMIFS(province!$N:$N,province!$A:$A,D$1,province!$E:$E,$A74) -> 0 | E74: =SUMIFS(province!$N:$N,province!$A:$A,E$1,province!$E:$E,$A74) -> 1.5139574 | F74: =SUMIFS(province!$N:$N,province!$A:$A,F$1,province!$E:$E,$A74) -> 2.0606181 | G74: =SUMIFS(province!$N:$N,province!$A:$A,G$1,province!$E:$E,$A74) -> 2.3199756 | H74: =SUMIFS(province!$N:$N,province!$A:$A,H$1,province!$E:$E,$A74) -> 2.1089655 | I74: =SUMIFS(province!$N:$N,province!$A:$A,I$1,province!$E:$E,$A74) -> 2.1045566 | J74: =SUMIFS(province!$N:$N,province!$A:$A,J$1,province!$E:$E,$A74) -> 2.1702158 | ... V74: =SUMIFS(province!$N:$N,province!$A:$A,V$1,province!$E:$E,$A74) -> 0 | X74: 4
A75: Terni | B75: =AVERAGE(M75:O75) -> 1.21649 | C75: =SUMIFS(province!$N:$N,province!$A:$A,C$1,province!$E:$E,$A75) -> 2.3648087 | D75: =SUMIFS(province!$N:$N,province!$A:$A,D$1,province!$E:$E,$A75) -> 2.3545072 | E75: =SUMIFS(province!$N:$N,province!$A:$A,E$1,province!$E:$E,$A75) -> 2.3725573 | F75: =SUMIFS(province!$N:$N,province!$A:$A,F$1,province!$E:$E,$A75) -> 2.0032085 | G75: =SUMIFS(province!$N:$N,province!$A:$A,G$1,province!$E:$E,$A75) -> 1.9382061 | H75: =SUMIFS(province!$N:$N,province!$A:$A,H$1,province!$E:$E,$A75) -> 1.6255551 | I75: =SUMIFS(province!$N:$N,province!$A:$A,I$1,province!$E:$E,$A75) -> 1.1634687 | J75: =SUMIFS(province!$N:$N,province!$A:$A,J$1,province!$E:$E,$A75) -> 1.3035383 | ... V75: =SUMIFS(province!$N:$N,province!$A:$A,V$1,province!$E:$E,$A75) -> 0 | X75: 5
A76: Novara | B76: =AVERAGE(M76:O76) -> 0.78243877 | C76: =SUMIFS(province!$N:$N,province!$A:$A,C$1,province!$E:$E,$A76) -> 2.4917547 | D76: =SUMIFS(province!$N:$N,province!$A:$A,D$1,province!$E:$E,$A76) -> 1.9708435 | E76: =SUMIFS(province!$N:$N,province!$A:$A,E$1,province!$E:$E,$A76) -> 1.1713242 | F76: =SUMIFS(province!$N:$N,province!$A:$A,F$1,province!$E:$E,$A76) -> 0.67632076 | G76: =SUMIFS(province!$N:$N,province!$A:$A,G$1,province!$E:$E,$A76) -> 1.2550095 | H76: =SUMIFS(province!$N:$N,province!$A:$A,H$1,province!$E:$E,$A76) -> 1.4659938 | I76: =SUMIFS(province!$N:$N,province!$A:$A,I$1,province!$E:$E,$A76) -> 1.2763132 | J76: =SUMIFS(province!$N:$N,province!$A:$A,J$1,province!$E:$E,$A76) -> 1.0028018 | ... V76: =SUMIFS(province!$N:$N,province!$A:$A,V$1,province!$E:$E,$A76) -> 0 | X76: 1
A77: Agrigento | B77: =AVERAGE(M77:O77) -> 0.96256927 | C77: =SUMIFS(province!$N:$N,province!$A:$A,C$1,province!$E:$E,$A77) -> 1.4507077 | D77: =SUMIFS(province!$N:$N,province!$A:$A,D$1,province!$E:$E,$A77) -> 1.4981921 | E77: =SUMIFS(province!$N:$N,province!$A:$A,E$1,province!$E:$E,$A77) -> 1.458758 | F77: =SUMIFS(province!$N:$N,province!$A:$A,F$1,province!$E:$E,$A77) -> 1.4141467 | G77: =SUMIFS(province!$N:$N,province!$A:$A,G$1,province!$E:$E,$A77) -> 1.5398149 | H77: =SUMIFS(province!$N:$N,province!$A:$A,H$1,province!$E:$E,$A77) -> 1.631549 | I77: =SUMIFS(province!$N:$N,province!$A:$A,I$1,province!$E:$E,$A77) -> 1.8468971 | J77: =SUMIFS(province!$N:$N,province!$A:$A,J$1,province!$E:$E,$A77) -> 2.0203483 | ... V77: =SUMIFS(province!$N:$N,province!$A:$A,V$1,province!$E:$E,$A77) -> 0 | X77: 8
A78: Siena | B78: =AVERAGE(M78:O78) -> 1.2662691 | C78: =SUMIFS(province!$N:$N,province!$A:$A,C$1,province!$E:$E,$A78) -> 1.6527355 | D78: =SUMIFS(province!$N:$N,province!$A:$A,D$1,province!$E:$E,$A78) -> 1.5575876 | E78: =SUMIFS(province!$N:$N,province!$A:$A,E$1,province!$E:$E,$A78) -> 2.0754507 | F78: =SUMIFS(province!$N:$N,province!$A:$A,F$1,province!$E:$E,$A78) -> 2.3212887 | G78: =SUMIFS(province!$N:$N,province!$A:$A,G$1,province!$E:$E,$A78) -> 2.0575079 | H78: =SUMIFS(province!$N:$N,province!$A:$A,H$1,province!$E:$E,$A78) -> 2.3576271 | I78: =SUMIFS(province!$N:$N,province!$A:$A,I$1,province!$E:$E,$A78) -> 2.3777522 | J78: =SUMIFS(province!$N:$N,province!$A:$A,J$1,province!$E:$E,$A78) -> 2.9056134 | ... V78: =SUMIFS(province!$N:$N,province!$A:$A,V$1,province!$E:$E,$A78) -> 0 | X78: 7
A79: Caltanissetta | B79: =AVERAGE(M79:O79) -> 1.6863513 | C79: =SUMIFS(province!$N:$N,province!$A:$A,C$1,province!$E:$E,$A79) -> 1.1021937 | D79: =SUMIFS(province!$N:$N,province!$A:$A,D$1,province!$E:$E,$A79) -> 1.3009694 | E79: =SUMIFS(province!$N:$N,province!$A:$A,E$1,province!$E:$E,$A79) -> 1.3575444 | F79: =SUMIFS(province!$N:$N,province!$A:$A,F$1,province!$E:$E,$A79) -> 1.1085844 | G79: =SUMIFS(province!$N:$N,province!$A:$A,G$1,province!$E:$E,$A79) -> 1.0461283 | H79: =SUMIFS(province!$N:$N,province!$A:$A,H$1,province!$E:$E,$A79) -> 1.0737908 | I79: =SUMIFS(province!$N:$N,province!$A:$A,I$1,province!$E:$E,$A79) -> 1.1520989 | J79: =SUMIFS(province!$N:$N,province!$A:$A,J$1,province!$E:$E,$A79) -> 0.91830587 | ... V79: =SUMIFS(province!$N:$N,province!$A:$A,V$1,province!$E:$E,$A79) -> 0 | X79: 1
A80: Ravenna | B80: =AVERAGE(M80:O80) -> 0.76718832 | C80: =SUMIFS(province!$N:$N,province!$A:$A,C$1,province!$E:$E,$A80) -> 3.576505 | D80: =SUMIFS(province!$N:$N,province!$A:$A,D$1,province!$E:$E,$A80) -> 3.8187055 | E80: =SUMIFS(province!$N:$N,province!$A:$A,E$1,province!$E:$E,$A80) -> 3.2387409 | F80: =SUMIFS(province!$N:$N,province!$A:$A,F$1,province!$E:$E,$A80) -> 2.4209889 | G80: =SUMIFS(province!$N:$N,province!$A:$A,G$1,province!$E:$E,$A80) -> 2.6296392 | H80: =SUMIFS(province!$N:$N,province!$A:$A,H$1,province!$E:$E,$A80) -> 2.4669597 | I80: =SUMIFS(province!$N:$N,province!$A:$A,I$1,province!$E:$E,$A80) -> 1.9939717 | J80: =SUMIFS(province!$N:$N,province!$A:$A,J$1,province!$E:$E,$A80) -> 1.4490182 | ... V80: =SUMIFS(province!$N:$N,province!$A:$A,V$1,province!$E:$E,$A80) -> 0 | X80: 2
A81: Ascoli Piceno | B81: =AVERAGE(M81:O81) -> 1.1586285 | C81: =SUMIFS(province!$N:$N,province!$A:$A,C$1,province!$E:$E,$A81) -> 0.91437984 | D81: =SUMIFS(province!$N:$N,province!$A:$A,D$1,province!$E:$E,$A81) -> 1.6012795 | E81: =SUMIFS(province!$N:$N,province!$A:$A,E$1,province!$E:$E,$A81) -> 1.6158649 | F81: =SUMIFS(province!$N:$N,province!$A:$A,F$1,province!$E:$E,$A81) -> 2.3567566 | G81: =SUMIFS(province!$N:$N,province!$A:$A,G$1,province!$E:$E,$A81) -> 1.6388702 | H81: =SUMIFS(province!$N:$N,province!$A:$A,H$1,province!$E:$E,$A81) -> 1.9134901 | I81: =SUMIFS(province!$N:$N,province!$A:$A,I$1,province!$E:$E,$A81) -> 2.2549494 | J81: =SUMIFS(province!$N:$N,province!$A:$A,J$1,province!$E:$E,$A81) -> 2.051616 | ... V81: =SUMIFS(province!$N:$N,province!$A:$A,V$1,province!$E:$E,$A81) -> 0 | X81: 7
